BEGIN:VCALENDAR
VERSION:2.0
X-WR-CALNAME:EventsCalendar
BEGIN:VEVENT
CATEGORIES:Alumni events
DESCRIPTION:Our &lsquo;Explore Postgraduate&rsquo; event provides you with the unique opportunity to meet key members of staff from our Graduate School of Environment and Sustainability at our Penryn Campus in Cornwall. During your visit, you will also meet current Postgraduate students whilst taking a tour of our beautiful campus. We&rsquo;ve tried to offer a range of dates and hope that one of these may suit you. However, please don&rsquo;t be put off if you are unable to attend the dates we have published. Just&nbsp;get in touch&nbsp;to see if we can organise something more bespoke. Book Now748348
DTSTAMP:20260423T195718
DTSTART:20260605T133000
DTEND:20260605T160000
LOCATION:ESI Caf&eacute;, Penryn Campus
SUMMARY;LANGUAGE=en-us:Explore Postgraduate Cornwall
UID:8c992586ef65a22293b6d08f5f8caf2b@www.exeter.ac.uk
END:VEVENT
END:VCALENDAR
