BEGIN:VCALENDAR
VERSION:2.0
X-WR-CALNAME:EventsCalendar
BEGIN:VEVENT
CATEGORIES:Seminars
DESCRIPTION:Jana Ro&scaron;ker is Professor in Asian Studies at Ljubljana University. A sinologist, she has written extensively on Chinese thought and comparative philosophy. &nbsp; To register for this event, click on this link:https://universityofexeter.zoom.us/meeting/register/Ti2_KNJDSQ-0Gd6exnfMbQ748953
DTSTAMP:20260422T231939
DTSTART:20260427T170000
DTEND:20260428T183000
LOCATION:
SUMMARY;LANGUAGE=en-us:Conversations in Global Philosophy: Jana Rosker 
UID:5fa138a68c5c547f4a99b9c6fa0c3f43@www.exeter.ac.uk
END:VEVENT
END:VCALENDAR
