BEGIN:VCALENDAR
VERSION:2.0
X-WR-CALNAME:EventsCalendar
BEGIN:VEVENT
CATEGORIES:Exhibitions
DESCRIPTION:Inspired by the sign at the entrance to the Falmouth and Exeter&rsquo;s University entrance, Rachel&rsquo;s exhibition explores questions of diversity and community, asking; what is natural and how can and do we connect? Through, quite literally, weaving together histories, of both plants and people, she celebrates a changing topography. Bringing together staff, students and local people to gather abundant plants here on campus, processing and creating with them in a reciprocal relationship. Please register via Eventbrite. Find out more information about Rachel's residency,&nbsp;749089
DTSTAMP:20260423T170339
DTSTART:20260430T160000
DTEND:20260430T170000
LOCATION:Environment and Sustainability Institute
SUMMARY;LANGUAGE=en-us:Welcoming Mat (Mat Welcoming)
UID:1ec3502fce729a68721434d9ab4324d8@www.exeter.ac.uk
END:VEVENT
END:VCALENDAR
