Workbook
Name ACA_growth_rates: #REF!
Name ACAGrain: '[1]Amphiroa metrics'!#REF!
Name ACAGrain: '[2]ACA metrics'!#REF!
Name ACAGrain: 'ACA metrics'!#REF!
Name ACAGrowth: '[1]Amphiroa metrics'!#REF!
Name ACAGrowth: '[2]ACA metrics'!#REF!
Name ACAGrowth: 'ACA metrics'!#REF!
Name ACAGrowthRates: '[1]Amphiroa metrics'!#REF!
Name ACAGrowthRates: '[2]ACA metrics'!#REF!
Name ACAGrowthRates: 'ACA metrics'!#REF!
Name BenthicData: 'Transect Summary'!$B$4:$K$5
Name GrainTypeMetrics: 'Grain Constituent Metrics'!$A$3:$L$18
Name HalimedaInitialMetrics: Halimeda!$C$11:$M$18
Name HalimedaInitialMetrics: [3]LC1!$C$11:$M$17
Name SpeciesCarb: '[1]Amphiroa metrics'!#REF!
Name SpeciesCarb: '[2]ACA metrics'!#REF!
Name SpeciesCarb: 'ACA metrics'!#REF!
Name TransectGrainType: 'Transect Summary'!$A$29:$O$40
Name TransectSedProduction: 'Transect Summary'!$A$10:$N$24
Name UdoteaInitialMetrics: [2]Udotea!$C$11:$J$14
Name UdoteaInitialMetrics: Udotea!$C$11:$J$14
Name UdoteaMetrics: Udotea!$C$11:$J$14

Sheet Overview
A1: Site details | B1: Transect # | C1: Date (d/m/yr) | D1: GPS
A4: Site notes:

Sheet Transect Summary
A1: Transect number | B1: =IF((Substrate!$B$3) = "", "", (Substrate!$B$3))
B3: Transect level mean benthic cover and rugosity data
B4: Live coral | C4: Dead coral w/ CCA | D4: Dead coral w/ turf | E4: Dead coral w/ macroalgae | F4: Rubble | G4: Sand | H4: Seagrass | I4: Other | J4: Total Area % | K4: Rugosity
B5: =Substrate!C19 | C5: =Substrate!D19 | D5: =Substrate!E19 | E5: =Substrate!F19 | F5: =Substrate!G19 | G5: =Substrate!H19 | H5: =Substrate!I19 | I5: =Substrate!J19 | J5: =Substrate!K19 -> 0 | K5: =Substrate!I33
B8: Transect level mean sediment production (kg m-2 yr-1) data by sediment producer group and grain size
B9: >4 mm | C9: 2-4 mm | D9: 1-2 mm | E9: 0.5-1 mm | F9: 0.25-0.5 mm | G9: 0.125-0.25 mm | H9: 63 to 125 um | I9: 31-63 um | J9: 16-31 um | K9: 8-16 um | L9: 4-8 um | M9: <4 um
A10: Producer Group | B10: Pebble | C10: Gravel | D10: V coarse sand | E10: Coarse sand | F10: Med sand | G10: Fine sand | H10: V fine sand | I10: Coarse silt | J10: Med silt | K10: Fine silt | L10: V fine silt | M10: Clay | N10: Total Sediment Production | O10: Proportional Contribution
A11: Urchins - Erosion Derived | B11: ='Urchins Bioerosion'!B106 | C11: ='Urchins Bioerosion'!C106 | D11: ='Urchins Bioerosion'!D106 | E11: ='Urchins Bioerosion'!E106 | F11: ='Urchins Bioerosion'!F106 | G11: ='Urchins Bioerosion'!G106 | H11: ='Urchins Bioerosion'!H106 | I11: ='Urchins Bioerosion'!I106 | ... M11: ='Urchins Bioerosion'!M106 | N11: =IF(COUNT(B11:M11)=0,"", SUM(B11:M11)) | O11: =N11/SUM($N$11:$N$24) -> #VALUE!
A12: Urchins - Skeletal Derived | B12: ='Urchins Skeletal'!B132 | C12: ='Urchins Skeletal'!C132 | D12: ='Urchins Skeletal'!D132 | E12: ='Urchins Skeletal'!E132 | F12: ='Urchins Skeletal'!F132 | G12: ='Urchins Skeletal'!G132 | H12: ='Urchins Skeletal'!H132 | I12: ='Urchins Skeletal'!I132 | ... M12: ='Urchins Skeletal'!M132 | N12: =IF(COUNT(B12:M12)=0,"", SUM(B12:M12)) | O12: =N12/SUM($N$11:$N$24) -> #VALUE!
A13: Endolithic Sponges | B13: ='Endolithic Sponges'!B77 | C13: ='Endolithic Sponges'!C77 | D13: ='Endolithic Sponges'!D77 | E13: ='Endolithic Sponges'!E77 | F13: ='Endolithic Sponges'!F77 | G13: ='Endolithic Sponges'!G77 | H13: ='Endolithic Sponges'!H77 | I13: ='Endolithic Sponges'!I77 | ... M13: ='Endolithic Sponges'!M77 | N13: =IF(COUNT(B13:M13)=0,"", SUM(B13:M13)) | O13: =N13/SUM($N$11:$N$24) -> #VALUE!
A14: Articulated Coralline Algae | B14: ='Articulated Coralline Alage'!C234 | C14: ='Articulated Coralline Alage'!D234 | D14: ='Articulated Coralline Alage'!E234 | E14: ='Articulated Coralline Alage'!F234 | F14: ='Articulated Coralline Alage'!G234 | G14: ='Articulated Coralline Alage'!H234 | H14: ='Articulated Coralline Alage'!I234 | I14: ='Articulated Coralline Alage'!J234 | ... M14: ='Articulated Coralline Alage'!N234 | N14: =IF(COUNT(B14:M14)=0,"", SUM(B14:M14)) | O14: =N14/SUM($N$11:$N$24) -> #VALUE!
A15: Halimeda | B15: =Halimeda!C228 | C15: =Halimeda!D228 | D15: =Halimeda!E228 | E15: =Halimeda!F228 | F15: =Halimeda!G228 | G15: =Halimeda!H228 | H15: =Halimeda!I228 | I15: =Halimeda!J228 | ... M15: =Halimeda!N228 | N15: =IF(COUNT(B15:M15)=0,"", SUM(B15:M15)) | O15: =N15/SUM($N$11:$N$24) -> #VALUE!
A16: Penicillus | B16: =Penicillus!C212 | C16: =Penicillus!D212 | D16: =Penicillus!E212 | E16: =Penicillus!F212 | F16: =Penicillus!G212 | G16: =Penicillus!H212 | H16: =Penicillus!I212 | I16: =Penicillus!J212 | ... M16: =Penicillus!N212 | N16: =IF(COUNT(B16:M16)=0,"", SUM(B16:M16)) | O16: =N16/SUM($N$11:$N$24) -> #VALUE!
A17: Udotea | B17: =Udotea!C203 | C17: =Udotea!D203 | D17: =Udotea!E203 | E17: =Udotea!F203 | F17: =Udotea!G203 | G17: =Udotea!H203 | H17: =Udotea!I203 | I17: =Udotea!J203 | ... M17: =Udotea!N203 | N17: =IF(COUNT(B17:M17)=0,"", SUM(B17:M17)) | O17: =N17/SUM($N$11:$N$24) -> #VALUE!
A18: Rhipocephalus | B18: =Rhipocephalus!C206 | C18: =Rhipocephalus!D206 | D18: =Rhipocephalus!E206 | E18: =Rhipocephalus!F206 | F18: =Rhipocephalus!G206 | G18: =Rhipocephalus!H206 | H18: =Rhipocephalus!I206 | I18: =Rhipocephalus!J206 | ... M18: =Rhipocephalus!N206 | N18: =IF(COUNT(B18:M18)=0,"", SUM(B18:M18)) | O18: =N18/SUM($N$11:$N$24) -> #VALUE!
A19: Acetabularia | B19: =Acetabularia!C50 | C19: =Acetabularia!D50 | D19: =Acetabularia!E50 | E19: =Acetabularia!F50 | F19: =Acetabularia!G50 | G19: =Acetabularia!H50 | H19: =Acetabularia!I50 | I19: =Acetabularia!J50 | ... M19: =Acetabularia!N50 | N19: =IF(COUNT(B19:M19)=0,"", SUM(B19:M19)) | O19: =N19/SUM($N$11:$N$24) -> #VALUE!
A20: Bivalves | B20: =Bivalves!C26 | C20: =Bivalves!D26 | D20: =Bivalves!E26 | E20: =Bivalves!F26 | F20: =Bivalves!G26 | G20: =Bivalves!H26 | H20: =Bivalves!I26 | I20: =Bivalves!J26 | ... M20: =Bivalves!N26 | N20: =IF(COUNT(B20:M20)=0,"", SUM(B20:M20)) | O20: =N20/SUM($N$11:$N$24) -> #VALUE!
A21: Gastropods | B21: =Gastropods!C26 | C21: =Gastropods!D26 | D21: =Gastropods!E26 | E21: =Gastropods!F26 | F21: =Gastropods!G26 | G21: =Gastropods!H26 | H21: =Gastropods!I26 | I21: =Gastropods!J26 | ... M21: =Gastropods!N26 | N21: =IF(COUNT(B21:M21)=0,"", SUM(B21:M21)) | O21: =N21/SUM($N$11:$N$24) -> #VALUE!
A22: Benthic Foraminifera | B22: ='Benthic Foraminifera'!D41 | C22: ='Benthic Foraminifera'!E41 | D22: ='Benthic Foraminifera'!F41 | E22: ='Benthic Foraminifera'!G41 | F22: ='Benthic Foraminifera'!H41 | G22: ='Benthic Foraminifera'!I41 | H22: ='Benthic Foraminifera'!J41 | I22: ='Benthic Foraminifera'!K41 | ... M22: ='Benthic Foraminifera'!O41 | N22: =IF(COUNT(B22:M22)=0,"", SUM(B22:M22)) | O22: =N22/SUM($N$11:$N$24) -> #VALUE!
A23: Seagrass Epibionts | B23: ='Seagrass Epibionts'!C43 | C23: ='Seagrass Epibionts'!D43 | D23: ='Seagrass Epibionts'!E43 | E23: ='Seagrass Epibionts'!F43 | F23: ='Seagrass Epibionts'!G43 | G23: ='Seagrass Epibionts'!H43 | H23: ='Seagrass Epibionts'!I43 | I23: ='Seagrass Epibionts'!J43 | ... M23: ='Seagrass Epibionts'!N43 | N23: =IF(COUNT(B23:M23)=0,"", SUM(B23:M23)) | O23: =N23/SUM($N$11:$N$24) -> #VALUE!
A24: Brittle Stars | B24: ='Brittle stars'!B100 | C24: ='Brittle stars'!C100 | D24: ='Brittle stars'!D100 | E24: ='Brittle stars'!E100 | F24: ='Brittle stars'!F100 | G24: ='Brittle stars'!G100 | H24: ='Brittle stars'!H100 | I24: ='Brittle stars'!I100 | ... M24: ='Brittle stars'!M100 | N24: =IF(COUNT(B24:M24)=0,"", SUM(B24:M24)) | O24: =N24/SUM($N$11:$N$24) -> #VALUE!
B27: Transect level mean sediment production (kg m-2 yr-1) data by grain constituent and grain size
B28: >4 mm | C28: 2-4 mm | D28: 1-2 mm | E28: 0.5-1 mm | F28: 0.25-0.5 mm | G28: 0.125-0.25 mm | H28: 63 to 125 um | I28: 31-63 um | J28: 16-31 um | K28: 8-16 um | L28: 4-8 um | M28: <4 um
A29: Grain Constituent | B29: Pebble | C29: Gravel | D29: V coarse sand | E29: Coarse sand | F29: Med sand | G29: Fine sand | H29: V fine sand | I29: Coarse silt | J29: Med silt | K29: Fine silt | L29: V fine silt | M29: Clay | N29: Total | O29: Proportional Contribution
A30: Coral | B30: {=SUMPRODUCT( B$11:B$24, _xlfn.XLOOKUP( $A$11:$A$24, INDEX(GrainTypeMetricsTable[], ,1), INDEX(GrainTypeMetricsTable[], , MATCH($A30, GrainTypeMetricsTable[#Headers], 0)) ) )} -> 0 | C30: {=SUMPRODUCT( C$11:C$24, _xlfn.XLOOKUP( $A$11:$A$24, INDEX(GrainTypeMetricsTable[], ,1), INDEX(GrainTypeMetricsTable[], , MATCH($A30, GrainTypeMetricsTable[#Headers], 0)) ) )} -> 0 | D30: {=SUMPRODUCT( D$11:D$24, _xlfn.XLOOKUP( $A$11:$A$24, INDEX(GrainTypeMetricsTable[], ,1), INDEX(GrainTypeMetricsTable[], , MATCH($A30, GrainTypeMetricsTable[#Headers], 0)) ) )} -> 0 | E30: {=SUMPRODUCT( E$11:E$24, _xlfn.XLOOKUP( $A$11:$A$24, INDEX(GrainTypeMetricsTable[], ,1), INDEX(GrainTypeMetricsTable[], , MATCH($A30, GrainTypeMetricsTable[#Headers], 0)) ) )} -> 0 | F30: {=SUMPRODUCT( F$11:F$24, _xlfn.XLOOKUP( $A$11:$A$24, INDEX(GrainTypeMetricsTable[], ,1), INDEX(GrainTypeMetricsTable[], , MATCH($A30, GrainTypeMetricsTable[#Headers], 0)) ) )} -> 0 | G30: {=SUMPRODUCT( G$11:G$24, _xlfn.XLOOKUP( $A$11:$A$24, INDEX(GrainTypeMetricsTable[], ,1), INDEX(GrainTypeMetricsTable[], , MATCH($A30, GrainTypeMetricsTable[#Headers], 0)) ) )} -> 0 | H30: {=SUMPRODUCT( H$11:H$24, _xlfn.XLOOKUP( $A$11:$A$24, INDEX(GrainTypeMetricsTable[], ,1), INDEX(GrainTypeMetricsTable[], , MATCH($A30, GrainTypeMetricsTable[#Headers], 0)) ) )} -> 0 | I30: {=SUMPRODUCT( I$11:I$24, _xlfn.XLOOKUP( $A$11:$A$24, INDEX(GrainTypeMetricsTable[], ,1), INDEX(GrainTypeMetricsTable[], , MATCH($A30, GrainTypeMetricsTable[#Headers], 0)) ) )} -> 0 | ... M30: {=SUMPRODUCT( M$11:M$24, _xlfn.XLOOKUP( $A$11:$A$24, INDEX(GrainTypeMetricsTable[], ,1), INDEX(GrainTypeMetricsTable[], , MATCH($A30, GrainTypeMetricsTable[#Headers], 0)) ) )} -> 0 | N30: =SUM(B30:M30) -> 0 | O30: =N30/SUM($N$30:$N$40) -> #DIV/0!
A31: Coralline algae | B31: {=SUMPRODUCT( B$11:B$24, _xlfn.XLOOKUP( $A$11:$A$24, INDEX(GrainTypeMetricsTable[], ,1), INDEX(GrainTypeMetricsTable[], , MATCH($A31, GrainTypeMetricsTable[#Headers], 0)) ) )} -> 0 | C31: {=SUMPRODUCT( C$11:C$24, _xlfn.XLOOKUP( $A$11:$A$24, INDEX(GrainTypeMetricsTable[], ,1), INDEX(GrainTypeMetricsTable[], , MATCH($A31, GrainTypeMetricsTable[#Headers], 0)) ) )} -> 0 | D31: {=SUMPRODUCT( D$11:D$24, _xlfn.XLOOKUP( $A$11:$A$24, INDEX(GrainTypeMetricsTable[], ,1), INDEX(GrainTypeMetricsTable[], , MATCH($A31, GrainTypeMetricsTable[#Headers], 0)) ) )} -> 0 | E31: {=SUMPRODUCT( E$11:E$24, _xlfn.XLOOKUP( $A$11:$A$24, INDEX(GrainTypeMetricsTable[], ,1), INDEX(GrainTypeMetricsTable[], , MATCH($A31, GrainTypeMetricsTable[#Headers], 0)) ) )} -> 0 | F31: {=SUMPRODUCT( F$11:F$24, _xlfn.XLOOKUP( $A$11:$A$24, INDEX(GrainTypeMetricsTable[], ,1), INDEX(GrainTypeMetricsTable[], , MATCH($A31, GrainTypeMetricsTable[#Headers], 0)) ) )} -> 0 | G31: {=SUMPRODUCT( G$11:G$24, _xlfn.XLOOKUP( $A$11:$A$24, INDEX(GrainTypeMetricsTable[], ,1), INDEX(GrainTypeMetricsTable[], , MATCH($A31, GrainTypeMetricsTable[#Headers], 0)) ) )} -> 0 | H31: {=SUMPRODUCT( H$11:H$24, _xlfn.XLOOKUP( $A$11:$A$24, INDEX(GrainTypeMetricsTable[], ,1), INDEX(GrainTypeMetricsTable[], , MATCH($A31, GrainTypeMetricsTable[#Headers], 0)) ) )} -> 0 | I31: {=SUMPRODUCT( I$11:I$24, _xlfn.XLOOKUP( $A$11:$A$24, INDEX(GrainTypeMetricsTable[], ,1), INDEX(GrainTypeMetricsTable[], , MATCH($A31, GrainTypeMetricsTable[#Headers], 0)) ) )} -> 0 | ... M31: {=SUMPRODUCT( M$11:M$24, _xlfn.XLOOKUP( $A$11:$A$24, INDEX(GrainTypeMetricsTable[], ,1), INDEX(GrainTypeMetricsTable[], , MATCH($A31, GrainTypeMetricsTable[#Headers], 0)) ) )} -> 0 | N31: =SUM(B31:M31) -> 0 | O31: =N31/SUM($N$30:$N$40) -> #DIV/0!
A32: Halimeda | B32: {=SUMPRODUCT( B$11:B$24, _xlfn.XLOOKUP( $A$11:$A$24, INDEX(GrainTypeMetricsTable[], ,1), INDEX(GrainTypeMetricsTable[], , MATCH($A32, GrainTypeMetricsTable[#Headers], 0)) ) )} -> 0 | C32: {=SUMPRODUCT( C$11:C$24, _xlfn.XLOOKUP( $A$11:$A$24, INDEX(GrainTypeMetricsTable[], ,1), INDEX(GrainTypeMetricsTable[], , MATCH($A32, GrainTypeMetricsTable[#Headers], 0)) ) )} -> 0 | D32: {=SUMPRODUCT( D$11:D$24, _xlfn.XLOOKUP( $A$11:$A$24, INDEX(GrainTypeMetricsTable[], ,1), INDEX(GrainTypeMetricsTable[], , MATCH($A32, GrainTypeMetricsTable[#Headers], 0)) ) )} -> 0 | E32: {=SUMPRODUCT( E$11:E$24, _xlfn.XLOOKUP( $A$11:$A$24, INDEX(GrainTypeMetricsTable[], ,1), INDEX(GrainTypeMetricsTable[], , MATCH($A32, GrainTypeMetricsTable[#Headers], 0)) ) )} -> 0 | F32: {=SUMPRODUCT( F$11:F$24, _xlfn.XLOOKUP( $A$11:$A$24, INDEX(GrainTypeMetricsTable[], ,1), INDEX(GrainTypeMetricsTable[], , MATCH($A32, GrainTypeMetricsTable[#Headers], 0)) ) )} -> 0 | G32: {=SUMPRODUCT( G$11:G$24, _xlfn.XLOOKUP( $A$11:$A$24, INDEX(GrainTypeMetricsTable[], ,1), INDEX(GrainTypeMetricsTable[], , MATCH($A32, GrainTypeMetricsTable[#Headers], 0)) ) )} -> 0 | H32: {=SUMPRODUCT( H$11:H$24, _xlfn.XLOOKUP( $A$11:$A$24, INDEX(GrainTypeMetricsTable[], ,1), INDEX(GrainTypeMetricsTable[], , MATCH($A32, GrainTypeMetricsTable[#Headers], 0)) ) )} -> 0 | I32: {=SUMPRODUCT( I$11:I$24, _xlfn.XLOOKUP( $A$11:$A$24, INDEX(GrainTypeMetricsTable[], ,1), INDEX(GrainTypeMetricsTable[], , MATCH($A32, GrainTypeMetricsTable[#Headers], 0)) ) )} -> 0 | ... M32: {=SUMPRODUCT( M$11:M$24, _xlfn.XLOOKUP( $A$11:$A$24, INDEX(GrainTypeMetricsTable[], ,1), INDEX(GrainTypeMetricsTable[], , MATCH($A32, GrainTypeMetricsTable[#Headers], 0)) ) )} -> 0 | N32: =SUM(B32:M32) -> 0 | O32: =N32/SUM($N$30:$N$40) -> #DIV/0!
A33: Other calcareous green algae | B33: {=SUMPRODUCT( B$11:B$24, _xlfn.XLOOKUP( $A$11:$A$24, INDEX(GrainTypeMetricsTable[], ,1), INDEX(GrainTypeMetricsTable[], , MATCH($A33, GrainTypeMetricsTable[#Headers], 0)) ) )} -> 0 | C33: {=SUMPRODUCT( C$11:C$24, _xlfn.XLOOKUP( $A$11:$A$24, INDEX(GrainTypeMetricsTable[], ,1), INDEX(GrainTypeMetricsTable[], , MATCH($A33, GrainTypeMetricsTable[#Headers], 0)) ) )} -> 0 | D33: {=SUMPRODUCT( D$11:D$24, _xlfn.XLOOKUP( $A$11:$A$24, INDEX(GrainTypeMetricsTable[], ,1), INDEX(GrainTypeMetricsTable[], , MATCH($A33, GrainTypeMetricsTable[#Headers], 0)) ) )} -> 0 | E33: {=SUMPRODUCT( E$11:E$24, _xlfn.XLOOKUP( $A$11:$A$24, INDEX(GrainTypeMetricsTable[], ,1), INDEX(GrainTypeMetricsTable[], , MATCH($A33, GrainTypeMetricsTable[#Headers], 0)) ) )} -> 0 | F33: {=SUMPRODUCT( F$11:F$24, _xlfn.XLOOKUP( $A$11:$A$24, INDEX(GrainTypeMetricsTable[], ,1), INDEX(GrainTypeMetricsTable[], , MATCH($A33, GrainTypeMetricsTable[#Headers], 0)) ) )} -> 0 | G33: {=SUMPRODUCT( G$11:G$24, _xlfn.XLOOKUP( $A$11:$A$24, INDEX(GrainTypeMetricsTable[], ,1), INDEX(GrainTypeMetricsTable[], , MATCH($A33, GrainTypeMetricsTable[#Headers], 0)) ) )} -> 0 | H33: {=SUMPRODUCT( H$11:H$24, _xlfn.XLOOKUP( $A$11:$A$24, INDEX(GrainTypeMetricsTable[], ,1), INDEX(GrainTypeMetricsTable[], , MATCH($A33, GrainTypeMetricsTable[#Headers], 0)) ) )} -> 0 | I33: {=SUMPRODUCT( I$11:I$24, _xlfn.XLOOKUP( $A$11:$A$24, INDEX(GrainTypeMetricsTable[], ,1), INDEX(GrainTypeMetricsTable[], , MATCH($A33, GrainTypeMetricsTable[#Headers], 0)) ) )} -> 0 | ... M33: {=SUMPRODUCT( M$11:M$24, _xlfn.XLOOKUP( $A$11:$A$24, INDEX(GrainTypeMetricsTable[], ,1), INDEX(GrainTypeMetricsTable[], , MATCH($A33, GrainTypeMetricsTable[#Headers], 0)) ) )} -> 0 | N33: =SUM(B33:M33) -> 0 | O33: =N33/SUM($N$30:$N$40) -> #DIV/0!
A34: Foraminifera | B34: {=SUMPRODUCT( B$11:B$24, _xlfn.XLOOKUP( $A$11:$A$24, INDEX(GrainTypeMetricsTable[], ,1), INDEX(GrainTypeMetricsTable[], , MATCH($A34, GrainTypeMetricsTable[#Headers], 0)) ) )} -> 0 | C34: {=SUMPRODUCT( C$11:C$24, _xlfn.XLOOKUP( $A$11:$A$24, INDEX(GrainTypeMetricsTable[], ,1), INDEX(GrainTypeMetricsTable[], , MATCH($A34, GrainTypeMetricsTable[#Headers], 0)) ) )} -> 0 | D34: {=SUMPRODUCT( D$11:D$24, _xlfn.XLOOKUP( $A$11:$A$24, INDEX(GrainTypeMetricsTable[], ,1), INDEX(GrainTypeMetricsTable[], , MATCH($A34, GrainTypeMetricsTable[#Headers], 0)) ) )} -> 0 | E34: {=SUMPRODUCT( E$11:E$24, _xlfn.XLOOKUP( $A$11:$A$24, INDEX(GrainTypeMetricsTable[], ,1), INDEX(GrainTypeMetricsTable[], , MATCH($A34, GrainTypeMetricsTable[#Headers], 0)) ) )} -> 0 | F34: {=SUMPRODUCT( F$11:F$24, _xlfn.XLOOKUP( $A$11:$A$24, INDEX(GrainTypeMetricsTable[], ,1), INDEX(GrainTypeMetricsTable[], , MATCH($A34, GrainTypeMetricsTable[#Headers], 0)) ) )} -> 0 | G34: {=SUMPRODUCT( G$11:G$24, _xlfn.XLOOKUP( $A$11:$A$24, INDEX(GrainTypeMetricsTable[], ,1), INDEX(GrainTypeMetricsTable[], , MATCH($A34, GrainTypeMetricsTable[#Headers], 0)) ) )} -> 0 | H34: {=SUMPRODUCT( H$11:H$24, _xlfn.XLOOKUP( $A$11:$A$24, INDEX(GrainTypeMetricsTable[], ,1), INDEX(GrainTypeMetricsTable[], , MATCH($A34, GrainTypeMetricsTable[#Headers], 0)) ) )} -> 0 | I34: {=SUMPRODUCT( I$11:I$24, _xlfn.XLOOKUP( $A$11:$A$24, INDEX(GrainTypeMetricsTable[], ,1), INDEX(GrainTypeMetricsTable[], , MATCH($A34, GrainTypeMetricsTable[#Headers], 0)) ) )} -> 0 | ... M34: {=SUMPRODUCT( M$11:M$24, _xlfn.XLOOKUP( $A$11:$A$24, INDEX(GrainTypeMetricsTable[], ,1), INDEX(GrainTypeMetricsTable[], , MATCH($A34, GrainTypeMetricsTable[#Headers], 0)) ) )} -> 0 | N34: =SUM(B34:M34) -> 0 | O34: =N34/SUM($N$30:$N$40) -> #DIV/0!
A35: Molluscs (bivalves and gastropods) | B35: {=SUMPRODUCT( B$11:B$24, _xlfn.XLOOKUP( $A$11:$A$24, INDEX(GrainTypeMetricsTable[], ,1), INDEX(GrainTypeMetricsTable[], , MATCH($A35, GrainTypeMetricsTable[#Headers], 0)) ) )} -> 0 | C35: {=SUMPRODUCT( C$11:C$24, _xlfn.XLOOKUP( $A$11:$A$24, INDEX(GrainTypeMetricsTable[], ,1), INDEX(GrainTypeMetricsTable[], , MATCH($A35, GrainTypeMetricsTable[#Headers], 0)) ) )} -> 0 | D35: {=SUMPRODUCT( D$11:D$24, _xlfn.XLOOKUP( $A$11:$A$24, INDEX(GrainTypeMetricsTable[], ,1), INDEX(GrainTypeMetricsTable[], , MATCH($A35, GrainTypeMetricsTable[#Headers], 0)) ) )} -> 0 | E35: {=SUMPRODUCT( E$11:E$24, _xlfn.XLOOKUP( $A$11:$A$24, INDEX(GrainTypeMetricsTable[], ,1), INDEX(GrainTypeMetricsTable[], , MATCH($A35, GrainTypeMetricsTable[#Headers], 0)) ) )} -> 0 | F35: {=SUMPRODUCT( F$11:F$24, _xlfn.XLOOKUP( $A$11:$A$24, INDEX(GrainTypeMetricsTable[], ,1), INDEX(GrainTypeMetricsTable[], , MATCH($A35, GrainTypeMetricsTable[#Headers], 0)) ) )} -> 0 | G35: {=SUMPRODUCT( G$11:G$24, _xlfn.XLOOKUP( $A$11:$A$24, INDEX(GrainTypeMetricsTable[], ,1), INDEX(GrainTypeMetricsTable[], , MATCH($A35, GrainTypeMetricsTable[#Headers], 0)) ) )} -> 0 | H35: {=SUMPRODUCT( H$11:H$24, _xlfn.XLOOKUP( $A$11:$A$24, INDEX(GrainTypeMetricsTable[], ,1), INDEX(GrainTypeMetricsTable[], , MATCH($A35, GrainTypeMetricsTable[#Headers], 0)) ) )} -> 0 | I35: {=SUMPRODUCT( I$11:I$24, _xlfn.XLOOKUP( $A$11:$A$24, INDEX(GrainTypeMetricsTable[], ,1), INDEX(GrainTypeMetricsTable[], , MATCH($A35, GrainTypeMetricsTable[#Headers], 0)) ) )} -> 0 | ... M35: {=SUMPRODUCT( M$11:M$24, _xlfn.XLOOKUP( $A$11:$A$24, INDEX(GrainTypeMetricsTable[], ,1), INDEX(GrainTypeMetricsTable[], , MATCH($A35, GrainTypeMetricsTable[#Headers], 0)) ) )} -> 0 | N35: =SUM(B35:M35) -> 0 | O35: =N35/SUM($N$30:$N$40) -> #DIV/0!
A36: Urchin skeleton | B36: {=SUMPRODUCT( B$11:B$24, _xlfn.XLOOKUP( $A$11:$A$24, INDEX(GrainTypeMetricsTable[], ,1), INDEX(GrainTypeMetricsTable[], , MATCH($A36, GrainTypeMetricsTable[#Headers], 0)) ) )} -> 0 | C36: {=SUMPRODUCT( C$11:C$24, _xlfn.XLOOKUP( $A$11:$A$24, INDEX(GrainTypeMetricsTable[], ,1), INDEX(GrainTypeMetricsTable[], , MATCH($A36, GrainTypeMetricsTable[#Headers], 0)) ) )} -> 0 | D36: {=SUMPRODUCT( D$11:D$24, _xlfn.XLOOKUP( $A$11:$A$24, INDEX(GrainTypeMetricsTable[], ,1), INDEX(GrainTypeMetricsTable[], , MATCH($A36, GrainTypeMetricsTable[#Headers], 0)) ) )} -> 0 | E36: {=SUMPRODUCT( E$11:E$24, _xlfn.XLOOKUP( $A$11:$A$24, INDEX(GrainTypeMetricsTable[], ,1), INDEX(GrainTypeMetricsTable[], , MATCH($A36, GrainTypeMetricsTable[#Headers], 0)) ) )} -> 0 | F36: {=SUMPRODUCT( F$11:F$24, _xlfn.XLOOKUP( $A$11:$A$24, INDEX(GrainTypeMetricsTable[], ,1), INDEX(GrainTypeMetricsTable[], , MATCH($A36, GrainTypeMetricsTable[#Headers], 0)) ) )} -> 0 | G36: {=SUMPRODUCT( G$11:G$24, _xlfn.XLOOKUP( $A$11:$A$24, INDEX(GrainTypeMetricsTable[], ,1), INDEX(GrainTypeMetricsTable[], , MATCH($A36, GrainTypeMetricsTable[#Headers], 0)) ) )} -> 0 | H36: {=SUMPRODUCT( H$11:H$24, _xlfn.XLOOKUP( $A$11:$A$24, INDEX(GrainTypeMetricsTable[], ,1), INDEX(GrainTypeMetricsTable[], , MATCH($A36, GrainTypeMetricsTable[#Headers], 0)) ) )} -> 0 | I36: {=SUMPRODUCT( I$11:I$24, _xlfn.XLOOKUP( $A$11:$A$24, INDEX(GrainTypeMetricsTable[], ,1), INDEX(GrainTypeMetricsTable[], , MATCH($A36, GrainTypeMetricsTable[#Headers], 0)) ) )} -> 0 | ... M36: {=SUMPRODUCT( M$11:M$24, _xlfn.XLOOKUP( $A$11:$A$24, INDEX(GrainTypeMetricsTable[], ,1), INDEX(GrainTypeMetricsTable[], , MATCH($A36, GrainTypeMetricsTable[#Headers], 0)) ) )} -> 0 | N36: =SUM(B36:M36) -> 0 | O36: =N36/SUM($N$30:$N$40) -> #DIV/0!
A37: Bryozoan | B37: {=SUMPRODUCT( B$11:B$24, _xlfn.XLOOKUP( $A$11:$A$24, INDEX(GrainTypeMetricsTable[], ,1), INDEX(GrainTypeMetricsTable[], , MATCH($A37, GrainTypeMetricsTable[#Headers], 0)) ) )} -> 0 | C37: {=SUMPRODUCT( C$11:C$24, _xlfn.XLOOKUP( $A$11:$A$24, INDEX(GrainTypeMetricsTable[], ,1), INDEX(GrainTypeMetricsTable[], , MATCH($A37, GrainTypeMetricsTable[#Headers], 0)) ) )} -> 0 | D37: {=SUMPRODUCT( D$11:D$24, _xlfn.XLOOKUP( $A$11:$A$24, INDEX(GrainTypeMetricsTable[], ,1), INDEX(GrainTypeMetricsTable[], , MATCH($A37, GrainTypeMetricsTable[#Headers], 0)) ) )} -> 0 | E37: {=SUMPRODUCT( E$11:E$24, _xlfn.XLOOKUP( $A$11:$A$24, INDEX(GrainTypeMetricsTable[], ,1), INDEX(GrainTypeMetricsTable[], , MATCH($A37, GrainTypeMetricsTable[#Headers], 0)) ) )} -> 0 | F37: {=SUMPRODUCT( F$11:F$24, _xlfn.XLOOKUP( $A$11:$A$24, INDEX(GrainTypeMetricsTable[], ,1), INDEX(GrainTypeMetricsTable[], , MATCH($A37, GrainTypeMetricsTable[#Headers], 0)) ) )} -> 0 | G37: {=SUMPRODUCT( G$11:G$24, _xlfn.XLOOKUP( $A$11:$A$24, INDEX(GrainTypeMetricsTable[], ,1), INDEX(GrainTypeMetricsTable[], , MATCH($A37, GrainTypeMetricsTable[#Headers], 0)) ) )} -> 0 | H37: {=SUMPRODUCT( H$11:H$24, _xlfn.XLOOKUP( $A$11:$A$24, INDEX(GrainTypeMetricsTable[], ,1), INDEX(GrainTypeMetricsTable[], , MATCH($A37, GrainTypeMetricsTable[#Headers], 0)) ) )} -> 0 | I37: {=SUMPRODUCT( I$11:I$24, _xlfn.XLOOKUP( $A$11:$A$24, INDEX(GrainTypeMetricsTable[], ,1), INDEX(GrainTypeMetricsTable[], , MATCH($A37, GrainTypeMetricsTable[#Headers], 0)) ) )} -> 0 | ... M37: {=SUMPRODUCT( M$11:M$24, _xlfn.XLOOKUP( $A$11:$A$24, INDEX(GrainTypeMetricsTable[], ,1), INDEX(GrainTypeMetricsTable[], , MATCH($A37, GrainTypeMetricsTable[#Headers], 0)) ) )} -> 0 | N37: =SUM(B37:M37) -> 0 | O37: =N37/SUM($N$30:$N$40) -> #DIV/0!
A38: Brittle star skeleton | B38: {=SUMPRODUCT( B$11:B$24, _xlfn.XLOOKUP( $A$11:$A$24, INDEX(GrainTypeMetricsTable[], ,1), INDEX(GrainTypeMetricsTable[], , MATCH($A38, GrainTypeMetricsTable[#Headers], 0)) ) )} -> 0 | C38: {=SUMPRODUCT( C$11:C$24, _xlfn.XLOOKUP( $A$11:$A$24, INDEX(GrainTypeMetricsTable[], ,1), INDEX(GrainTypeMetricsTable[], , MATCH($A38, GrainTypeMetricsTable[#Headers], 0)) ) )} -> 0 | D38: {=SUMPRODUCT( D$11:D$24, _xlfn.XLOOKUP( $A$11:$A$24, INDEX(GrainTypeMetricsTable[], ,1), INDEX(GrainTypeMetricsTable[], , MATCH($A38, GrainTypeMetricsTable[#Headers], 0)) ) )} -> 0 | E38: {=SUMPRODUCT( E$11:E$24, _xlfn.XLOOKUP( $A$11:$A$24, INDEX(GrainTypeMetricsTable[], ,1), INDEX(GrainTypeMetricsTable[], , MATCH($A38, GrainTypeMetricsTable[#Headers], 0)) ) )} -> 0 | F38: {=SUMPRODUCT( F$11:F$24, _xlfn.XLOOKUP( $A$11:$A$24, INDEX(GrainTypeMetricsTable[], ,1), INDEX(GrainTypeMetricsTable[], , MATCH($A38, GrainTypeMetricsTable[#Headers], 0)) ) )} -> 0 | G38: {=SUMPRODUCT( G$11:G$24, _xlfn.XLOOKUP( $A$11:$A$24, INDEX(GrainTypeMetricsTable[], ,1), INDEX(GrainTypeMetricsTable[], , MATCH($A38, GrainTypeMetricsTable[#Headers], 0)) ) )} -> 0 | H38: {=SUMPRODUCT( H$11:H$24, _xlfn.XLOOKUP( $A$11:$A$24, INDEX(GrainTypeMetricsTable[], ,1), INDEX(GrainTypeMetricsTable[], , MATCH($A38, GrainTypeMetricsTable[#Headers], 0)) ) )} -> 0 | I38: {=SUMPRODUCT( I$11:I$24, _xlfn.XLOOKUP( $A$11:$A$24, INDEX(GrainTypeMetricsTable[], ,1), INDEX(GrainTypeMetricsTable[], , MATCH($A38, GrainTypeMetricsTable[#Headers], 0)) ) )} -> 0 | ... M38: {=SUMPRODUCT( M$11:M$24, _xlfn.XLOOKUP( $A$11:$A$24, INDEX(GrainTypeMetricsTable[], ,1), INDEX(GrainTypeMetricsTable[], , MATCH($A38, GrainTypeMetricsTable[#Headers], 0)) ) )} -> 0 | N38: =SUM(B38:M38) -> 0 | O38: =N38/SUM($N$30:$N$40) -> #DIV/0!
A39: Serpulids and worm tubes | B39: {=SUMPRODUCT( B$11:B$24, _xlfn.XLOOKUP( $A$11:$A$24, INDEX(GrainTypeMetricsTable[], ,1), INDEX(GrainTypeMetricsTable[], , MATCH($A39, GrainTypeMetricsTable[#Headers], 0)) ) )} -> 0 | C39: {=SUMPRODUCT( C$11:C$24, _xlfn.XLOOKUP( $A$11:$A$24, INDEX(GrainTypeMetricsTable[], ,1), INDEX(GrainTypeMetricsTable[], , MATCH($A39, GrainTypeMetricsTable[#Headers], 0)) ) )} -> 0 | D39: {=SUMPRODUCT( D$11:D$24, _xlfn.XLOOKUP( $A$11:$A$24, INDEX(GrainTypeMetricsTable[], ,1), INDEX(GrainTypeMetricsTable[], , MATCH($A39, GrainTypeMetricsTable[#Headers], 0)) ) )} -> 0 | E39: {=SUMPRODUCT( E$11:E$24, _xlfn.XLOOKUP( $A$11:$A$24, INDEX(GrainTypeMetricsTable[], ,1), INDEX(GrainTypeMetricsTable[], , MATCH($A39, GrainTypeMetricsTable[#Headers], 0)) ) )} -> 0 | F39: {=SUMPRODUCT( F$11:F$24, _xlfn.XLOOKUP( $A$11:$A$24, INDEX(GrainTypeMetricsTable[], ,1), INDEX(GrainTypeMetricsTable[], , MATCH($A39, GrainTypeMetricsTable[#Headers], 0)) ) )} -> 0 | G39: {=SUMPRODUCT( G$11:G$24, _xlfn.XLOOKUP( $A$11:$A$24, INDEX(GrainTypeMetricsTable[], ,1), INDEX(GrainTypeMetricsTable[], , MATCH($A39, GrainTypeMetricsTable[#Headers], 0)) ) )} -> 0 | H39: {=SUMPRODUCT( H$11:H$24, _xlfn.XLOOKUP( $A$11:$A$24, INDEX(GrainTypeMetricsTable[], ,1), INDEX(GrainTypeMetricsTable[], , MATCH($A39, GrainTypeMetricsTable[#Headers], 0)) ) )} -> 0 | I39: {=SUMPRODUCT( I$11:I$24, _xlfn.XLOOKUP( $A$11:$A$24, INDEX(GrainTypeMetricsTable[], ,1), INDEX(GrainTypeMetricsTable[], , MATCH($A39, GrainTypeMetricsTable[#Headers], 0)) ) )} -> 0 | ... M39: {=SUMPRODUCT( M$11:M$24, _xlfn.XLOOKUP( $A$11:$A$24, INDEX(GrainTypeMetricsTable[], ,1), INDEX(GrainTypeMetricsTable[], , MATCH($A39, GrainTypeMetricsTable[#Headers], 0)) ) )} -> 0 | N39: =SUM(B39:M39) -> 0 | O39: =N39/SUM($N$30:$N$40) -> #DIV/0!
A40: Other | B40: {=SUMPRODUCT( B$11:B$24, _xlfn.XLOOKUP( $A$11:$A$24, INDEX(GrainTypeMetricsTable[], ,1), INDEX(GrainTypeMetricsTable[], , MATCH($A40, GrainTypeMetricsTable[#Headers], 0)) ) )} -> 0 | C40: {=SUMPRODUCT( C$11:C$24, _xlfn.XLOOKUP( $A$11:$A$24, INDEX(GrainTypeMetricsTable[], ,1), INDEX(GrainTypeMetricsTable[], , MATCH($A40, GrainTypeMetricsTable[#Headers], 0)) ) )} -> 0 | D40: {=SUMPRODUCT( D$11:D$24, _xlfn.XLOOKUP( $A$11:$A$24, INDEX(GrainTypeMetricsTable[], ,1), INDEX(GrainTypeMetricsTable[], , MATCH($A40, GrainTypeMetricsTable[#Headers], 0)) ) )} -> 0 | E40: {=SUMPRODUCT( E$11:E$24, _xlfn.XLOOKUP( $A$11:$A$24, INDEX(GrainTypeMetricsTable[], ,1), INDEX(GrainTypeMetricsTable[], , MATCH($A40, GrainTypeMetricsTable[#Headers], 0)) ) )} -> 0 | F40: {=SUMPRODUCT( F$11:F$24, _xlfn.XLOOKUP( $A$11:$A$24, INDEX(GrainTypeMetricsTable[], ,1), INDEX(GrainTypeMetricsTable[], , MATCH($A40, GrainTypeMetricsTable[#Headers], 0)) ) )} -> 0 | G40: {=SUMPRODUCT( G$11:G$24, _xlfn.XLOOKUP( $A$11:$A$24, INDEX(GrainTypeMetricsTable[], ,1), INDEX(GrainTypeMetricsTable[], , MATCH($A40, GrainTypeMetricsTable[#Headers], 0)) ) )} -> 0 | H40: {=SUMPRODUCT( H$11:H$24, _xlfn.XLOOKUP( $A$11:$A$24, INDEX(GrainTypeMetricsTable[], ,1), INDEX(GrainTypeMetricsTable[], , MATCH($A40, GrainTypeMetricsTable[#Headers], 0)) ) )} -> 0 | I40: {=SUMPRODUCT( I$11:I$24, _xlfn.XLOOKUP( $A$11:$A$24, INDEX(GrainTypeMetricsTable[], ,1), INDEX(GrainTypeMetricsTable[], , MATCH($A40, GrainTypeMetricsTable[#Headers], 0)) ) )} -> 0 | ... M40: {=SUMPRODUCT( M$11:M$24, _xlfn.XLOOKUP( $A$11:$A$24, INDEX(GrainTypeMetricsTable[], ,1), INDEX(GrainTypeMetricsTable[], , MATCH($A40, GrainTypeMetricsTable[#Headers], 0)) ) )} -> 0 | N40: =SUM(B40:M40) -> 0 | O40: =N40/SUM($N$30:$N$40) -> #DIV/0!
C61: Articulated Coralline Algae
C62: Articulated Coralline Algae | E62: =IF(C61=C62,1,0) -> 1

Sheet Substrate
A1: SUBSTRATE | B1: Enter data into pale blue boxes only
A3: Transect number
A4: Number of quadrats
A5: Quadrat size (m2) | C5: e.g . 50 x 50 cm = 0.25m²
A7: 1. DATA ENTRY - Percent cover per quadrat | C7: ENTER 0 IF CATEGORY IS NOT PRESENT | M7: Proportional cover
A8: Quadrat | C8: Live coral | D8: Dead coral w/ CCA | E8: Dead coral w/turf | F8: Macroalgae | G8: Rubble | H8: Sand | I8: Seagrass | J8: Other | K8: Total | M8: Live coral | N8: Dead coral w/ CCA | O8: Dead coral w/turf | P8: Macroalgae | Q8: Rubble | R8: Sand | S8: Seagrass | T8: Other
A9: Quadrat 1 | K9: =SUM(C9:J9) -> 0 | M9: =IFERROR(C9/$K9,"") | N9: =IFERROR(D9/$K9,"") | O9: =IFERROR(E9/$K9,"") | P9: =IFERROR(F9/$K9,"") | Q9: =IFERROR(G9/$K9,"") | R9: =IFERROR(H9/$K9,"") | S9: =IFERROR(I9/$K9,"") | T9: =IFERROR(J9/$K9,"")
A10: Quadrat 2 | K10: =SUM(C10:J10) -> 0 | M10: =IFERROR(C10/$K10,"") | N10: =IFERROR(D10/$K10,"") | O10: =IFERROR(E10/$K10,"") | P10: =IFERROR(F10/$K10,"") | Q10: =IFERROR(G10/$K10,"") | R10: =IFERROR(H10/$K10,"") | S10: =IFERROR(I10/$K10,"") | T10: =IFERROR(J10/$K10,"")
A11: Quadrat 3 | K11: =SUM(C11:J11) -> 0 | M11: =IFERROR(C11/$K11,"") | N11: =IFERROR(D11/$K11,"") | O11: =IFERROR(E11/$K11,"") | P11: =IFERROR(F11/$K11,"") | Q11: =IFERROR(G11/$K11,"") | R11: =IFERROR(H11/$K11,"") | S11: =IFERROR(I11/$K11,"") | T11: =IFERROR(J11/$K11,"")
A12: Quadrat 4 | K12: =SUM(C12:J12) -> 0 | M12: =IFERROR(C12/$K12,"") | N12: =IFERROR(D12/$K12,"") | O12: =IFERROR(E12/$K12,"") | P12: =IFERROR(F12/$K12,"") | Q12: =IFERROR(G12/$K12,"") | R12: =IFERROR(H12/$K12,"") | S12: =IFERROR(I12/$K12,"") | T12: =IFERROR(J12/$K12,"")
A13: Quadrat 5 | K13: =SUM(C13:J13) -> 0 | M13: =IFERROR(C13/$K13,"") | N13: =IFERROR(D13/$K13,"") | O13: =IFERROR(E13/$K13,"") | P13: =IFERROR(F13/$K13,"") | Q13: =IFERROR(G13/$K13,"") | R13: =IFERROR(H13/$K13,"") | S13: =IFERROR(I13/$K13,"") | T13: =IFERROR(J13/$K13,"")
A14: Quadrat 6 | K14: =SUM(C14:J14) -> 0 | M14: =IFERROR(C14/$K14,"") | N14: =IFERROR(D14/$K14,"") | O14: =IFERROR(E14/$K14,"") | P14: =IFERROR(F14/$K14,"") | Q14: =IFERROR(G14/$K14,"") | R14: =IFERROR(H14/$K14,"") | S14: =IFERROR(I14/$K14,"") | T14: =IFERROR(J14/$K14,"")
A15: Quadrat 7 | K15: =SUM(C15:J15) -> 0 | M15: =IFERROR(C15/$K15,"") | N15: =IFERROR(D15/$K15,"") | O15: =IFERROR(E15/$K15,"") | P15: =IFERROR(F15/$K15,"") | Q15: =IFERROR(G15/$K15,"") | R15: =IFERROR(H15/$K15,"") | S15: =IFERROR(I15/$K15,"") | T15: =IFERROR(J15/$K15,"")
A16: Quadrat 8 | K16: =SUM(C16:J16) -> 0 | M16: =IFERROR(C16/$K16,"") | N16: =IFERROR(D16/$K16,"") | O16: =IFERROR(E16/$K16,"") | P16: =IFERROR(F16/$K16,"") | Q16: =IFERROR(G16/$K16,"") | R16: =IFERROR(H16/$K16,"") | S16: =IFERROR(I16/$K16,"") | T16: =IFERROR(J16/$K16,"")
A17: Quadrat 9 | K17: =SUM(C17:J17) -> 0 | M17: =IFERROR(C17/$K17,"") | N17: =IFERROR(D17/$K17,"") | O17: =IFERROR(E17/$K17,"") | P17: =IFERROR(F17/$K17,"") | Q17: =IFERROR(G17/$K17,"") | R17: =IFERROR(H17/$K17,"") | S17: =IFERROR(I17/$K17,"") | T17: =IFERROR(J17/$K17,"")
A18: Quadrat 10 | K18: =SUM(C18:J18) -> 0 | M18: =IFERROR(C18/$K18,"") | N18: =IFERROR(D18/$K18,"") | O18: =IFERROR(E18/$K18,"") | P18: =IFERROR(F18/$K18,"") | Q18: =IFERROR(G18/$K18,"") | R18: =IFERROR(H18/$K18,"") | S18: =IFERROR(I18/$K18,"") | T18: =IFERROR(J18/$K18,"")
B19: Mean | C19: =IF($B$3="","",IFERROR((AVERAGE(C9:C18)),0)) | D19: =IF($B$3="","",IFERROR((AVERAGE(D9:D18)),0)) | E19: =IF($B$3="","",IFERROR((AVERAGE(E9:E18)),0)) | F19: =IF($B$3="","",IFERROR((AVERAGE(F9:F18)),0)) | G19: =IF($B$3="","",IFERROR((AVERAGE(G9:G18)),0)) | H19: =IF($B$3="","",IFERROR((AVERAGE(H9:H18)),0)) | I19: =IF($B$3="","",IFERROR((AVERAGE(I9:I18)),0)) | J19: =IF($B$3="","",IFERROR((AVERAGE(J9:J18)),0)) | K19: =SUM(C19:J19) -> 0 | L19: Mean | M19: =AVERAGE(M9:M18) -> #DIV/0! | N19: =AVERAGE(N9:N18) -> #DIV/0! | O19: =AVERAGE(O9:O18) -> #DIV/0! | P19: =AVERAGE(P9:P18) -> #DIV/0! | Q19: =AVERAGE(Q9:Q18) -> #DIV/0! | R19: =AVERAGE(R9:R18) -> #DIV/0! | S19: =AVERAGE(S9:S18) -> #DIV/0! | T19: =AVERAGE(T9:T18) -> #DIV/0!
A21: 2. DATA ENTRY - Rugosity
A22: Quadrat | B22: Width of quadrat (cm) | C22: Profile measure 1 (cm) | D22: Profile measure 2 (cm) | E22: Profile measure 3 (cm) | F22: Rugosity 1 | G22: Rugosity 2 | H22: Rugosity 3 | I22: Mean rugosity
A23: Quadrat 1 | F23: =IF(C23="","",C23/$B23) | G23: =IF(D23="","",D23/$B23) | H23: =IF(E23="","",E23/$B23) | I23: =IF($B$3="","",(IFERROR(AVERAGE(F23:H23),"")))
A24: Quadrat 2 | F24: =IF(C24="","",C24/$B24) | G24: =IF(D24="","",D24/$B24) | H24: =IF(E24="","",E24/$B24) | I24: =IF($B$3="","",(IFERROR(AVERAGE(F24:H24),"")))
A25: Quadrat 3 | F25: =IF(C25="","",C25/$B25) | G25: =IF(D25="","",D25/$B25) | H25: =IF(E25="","",E25/$B25) | I25: =IF($B$3="","",(IFERROR(AVERAGE(F25:H25),"")))
A26: Quadrat 4 | F26: =IF(C26="","",C26/$B26) | G26: =IF(D26="","",D26/$B26) | H26: =IF(E26="","",E26/$B26) | I26: =IF($B$3="","",(IFERROR(AVERAGE(F26:H26),"")))
A27: Quadrat 5 | F27: =IF(C27="","",C27/$B27) | G27: =IF(D27="","",D27/$B27) | H27: =IF(E27="","",E27/$B27) | I27: =IF($B$3="","",(IFERROR(AVERAGE(F27:H27),"")))
A28: Quadrat 6 | F28: =IF(C28="","",C28/$B28) | G28: =IF(D28="","",D28/$B28) | H28: =IF(E28="","",E28/$B28) | I28: =IF($B$3="","",(IFERROR(AVERAGE(F28:H28),"")))
A29: Quadrat 7 | F29: =IF(C29="","",C29/$B29) | G29: =IF(D29="","",D29/$B29) | H29: =IF(E29="","",E29/$B29) | I29: =IF($B$3="","",(IFERROR(AVERAGE(F29:H29),"")))
A30: Quadrat 8 | F30: =IF(C30="","",C30/$B30) | G30: =IF(D30="","",D30/$B30) | H30: =IF(E30="","",E30/$B30) | I30: =IF($B$3="","",(IFERROR(AVERAGE(F30:H30),"")))
A31: Quadrat 9 | F31: =IF(C31="","",C31/$B31) | G31: =IF(D31="","",D31/$B31) | H31: =IF(E31="","",E31/$B31) | I31: =IF($B$3="","",(IFERROR(AVERAGE(F31:H31),"")))
A32: Quadrat 10 | F32: =IF(C32="","",C32/$B32) | G32: =IF(D32="","",D32/$B32) | H32: =IF(E32="","",E32/$B32) | I32: =IF($B$3="","",(IFERROR(AVERAGE(F32:H32),"")))
A33: Mean | H33: Mean | I33: =IF($B$3= "", "",AVERAGE(I23:I32))
A36: 3. DATA ENTRY - Framework dimensions and large rubble presence
A37: Quadrat | B37: Framework height | C37: Framework width | D37: Framework depth | E37: Rubble over 15cm present?
A38: Quadrat 1
A39: Quadrat 2
A40: Quadrat 3
A41: Quadrat 4
A42: Quadrat 5
A43: Quadrat 6
A44: Quadrat 7
A45: Quadrat 8
...

Sheet Urchins Bioerosion
A1: BIOERODING URCHINS | B1: Enter data into pale blue boxes only
A3: Transect number
A4: Number of quadrats
A5: Quadrat size (m2) | C5: e.g . 50 x 50 cm = 0.25m²
A7: Transect area (m2) | B7: =B4*B5 -> 0
A9: 1. DATA ENTRY - Numbers of individuals/size class/transect | D9: SUM # SEA URCHINS OVER ALL QUADRATS
A10: Species | B10: Test diameter (mm)
B11: 0-20 | C11: 21-40 | D11: 41-60 | E11: 61-80 | F11: 81-100 | G11: >100 | H11: 121-140 | I11: >140
A12: Diadema antillarum
A13: Echinometra lucunter
A14: Echinometra viridis
A15: Eucidaris tribuloides
A16: Other species
A18: 2. Size class-specific erosion rates (g ind-1 d-1)
A19: Species | B19: Test diameter (mm)
B20: 0-20 | C20: 21-40 | D20: 41-60 | E20: 61-80 | F20: 81-100 | G20: >100 | H20: 121-140* | I20: >140* | J20: Rates used from:
A21: Diadema antillarum | B21: 0.089862437 | C21: 0.60336208 | D21: 1.617837 | E21: 3.1332871 | F21: 4.7486192 | G21: 4.7486192 | H21: 4.7486192 | I21: 4.7486192 | J21: from Hale et al. (in prep) - Mexico data | M21: NB. >100 mm uses 81-100 rates
A22: Echinometra lucunter | B22: 0.006293222 | C22: 0.042254493 | D22: 0.11329993 | E22: 0.11329993 | F22: 0.11329993 | G22: 0.11329993 | H22: 0.11329993 | I22: 0.11329993 | J22: from Hale et al. (in prep) - Mexico data | M22: NB. >60 mm uses 41-60 rates
A23: Echinometra viridis | B23: 0.006293222 | C23: 0.042254493 | D23: 0.11329993 | E23: 0.11329993 | F23: 0.11329993 | G23: 0.11329993 | H23: 0.11329993 | I23: 0.11329993 | J23: from Hale et al. (in prep) - Mexico data | M23: NB. >60 mm uses 41-60 rates
A24: Eucidaris tribuloides | B24: 0.023916358 | C24: 0.16058126 | D24: 0.37049522 | E24: 0.37049522 | F24: 0.37049522 | G24: 0.37049522 | H24: 0.37049522 | I24: 0.37049522 | J24: from Hale et al. (in prep) - Mexico data | M24: NB. >60 mm uses 41-60 rates
A25: Other species | B25: =AVERAGE(B21:B24) -> 0.03159131 | C25: =AVERAGE(C21:C24) -> 0.21211308 | D25: =AVERAGE(D21:D24) -> 0.55373301 | E25: =AVERAGE(E21:E24) -> 0.93259555 | F25: =AVERAGE(F21:F24) -> 1.3364286 | G25: =AVERAGE(G21:G24) -> 1.3364286 | H25: =AVERAGE(H21:H24) -> 1.3364286 | I25: =AVERAGE(I21:I24) -> 1.3364286 | J25: Average of other Caribbean species | M25: NB. >100 mm uses 81-100 rates
J26: * Due to a current paucity of rate data for very large (>100 mm) test diameter specimens, rates from the 81-100 mm test size class are presently applied to any specimens >100 mm in size for D. antillarum. Similarly for Echinometra lucunter, Echinometra viridis and Eucidaris tribuloides, there is a lack of data for individusals >60mm test diameter (as individuals this large were not encountered at the study sites). Therfore, rates from the 41-60mm test size class are applied to any indivduals larger than 60mm in test diameter.
A27: 3. Sediment generation rate per species/size class (kg m-2 yr-1) | G27: assumes all eroded framework is excreted as sediment
A28: Species | B28: Test diameter (mm)
B29: 0-20 | C29: 21-40 | D29: 41-60 | E29: 61-80 | F29: 81-100 | G29: >100 | H29: 121-140 | I29: >140
A30: Diadema antillarum | B30: =((B12*B21)*365)/1000/$B$7 -> #DIV/0! | C30: =((C12*C21)*365)/1000/$B$7 -> #DIV/0! | D30: =((D12*D21)*365)/1000/$B$7 -> #DIV/0! | E30: =((E12*E21)*365)/1000/$B$7 -> #DIV/0! | F30: =((F12*F21)*365)/1000/$B$7 -> #DIV/0! | G30: =((G12*G21)*365)/1000/$B$7 -> #DIV/0! | H30: =((H12*H21)*365)/1000/$B$7 -> #DIV/0! | I30: =((I12*I21)*365)/1000/$B$7 -> #DIV/0!
A31: Echinometra lucunter | B31: =((B13*B22)*365)/1000/$B$7 -> #DIV/0! | C31: =((C13*C22)*365)/1000/$B$7 -> #DIV/0! | D31: =((D13*D22)*365)/1000/$B$7 -> #DIV/0! | E31: =((E13*E22)*365)/1000/$B$7 -> #DIV/0! | F31: =((F13*F22)*365)/1000/$B$7 -> #DIV/0! | G31: =((G13*G22)*365)/1000/$B$7 -> #DIV/0! | H31: =((H13*H22)*365)/1000/$B$7 -> #DIV/0! | I31: =((I13*I22)*365)/1000/$B$7 -> #DIV/0!
A32: Echinometra viridis | B32: =((B14*B23)*365)/1000/$B$7 -> #DIV/0! | C32: =((C14*C23)*365)/1000/$B$7 -> #DIV/0! | D32: =((D14*D23)*365)/1000/$B$7 -> #DIV/0! | E32: =((E14*E23)*365)/1000/$B$7 -> #DIV/0! | F32: =((F14*F23)*365)/1000/$B$7 -> #DIV/0! | G32: =((G14*G23)*365)/1000/$B$7 -> #DIV/0! | H32: =((H14*H23)*365)/1000/$B$7 -> #DIV/0! | I32: =((I14*I23)*365)/1000/$B$7 -> #DIV/0!
A33: Eucidaris tribuloides | B33: =((B15*B24)*365)/1000/$B$7 -> #DIV/0! | C33: =((C15*C24)*365)/1000/$B$7 -> #DIV/0! | D33: =((D15*D24)*365)/1000/$B$7 -> #DIV/0! | E33: =((E15*E24)*365)/1000/$B$7 -> #DIV/0! | F33: =((F15*F24)*365)/1000/$B$7 -> #DIV/0! | G33: =((G15*G24)*365)/1000/$B$7 -> #DIV/0! | H33: =((H15*H24)*365)/1000/$B$7 -> #DIV/0! | I33: =((I15*I24)*365)/1000/$B$7 -> #DIV/0!
A34: Other species | B34: =((B16*B25)*365)/1000/$B$7 -> #DIV/0! | C34: =((C16*C25)*365)/1000/$B$7 -> #DIV/0! | D34: =((D16*D25)*365)/1000/$B$7 -> #DIV/0! | E34: =((E16*E25)*365)/1000/$B$7 -> #DIV/0! | F34: =((F16*F25)*365)/1000/$B$7 -> #DIV/0! | G34: =((G16*G25)*365)/1000/$B$7 -> #DIV/0! | H34: =((H16*H25)*365)/1000/$B$7 -> #DIV/0! | I34: =((I16*I25)*365)/1000/$B$7 -> #DIV/0!
A36: 4. Proportions of sediment grain size fractions produced
B37: >4 mm | C37: 2-4 mm | D37: 1-2 mm | E37: 0.5-1 mm | F37: 0.25-0.5 mm | G37: 0.125-0.25 mm | H37: 63 to 125 um | I37: 31-63 um | J37: <32 um | K37: 8-16 um | L37: 4-8 um | M37: <4 um
A38: Udden/Wentworth | B38: Pebble | C38: Gravel | D38: V coarse sand | E38: Coarse sand | F38: Med sand | G38: Fine sand | H38: V fine sand | I38: Coarse silt | J38: Med silt | K38: Fine silt | L38: V fine silt | M38: Clay
A39: Diadema antillarum 0-20mm test | B39: 0 | C39: 0 | D39: 2.36 | E39: 14.53 | F39: 39.27 | G39: 30.33 | H39: 10.19 | I39: 3.32 | J39: 0 | K39: 0 | L39: 0 | M39: 0 | N39: from Hale et al. (in prep) - Mexico data
A40: Diadema antillarum 21-40 mm test | B40: 0 | C40: 0.36 | D40: 3.27 | E40: 19.94 | F40: 37.15 | G40: 21.03 | H40: 13.52 | I40: 4.12 | J40: 0.6 | K40: 0 | L40: 0 | M40: 0 | N40: from Hale et al. (in prep) - Mexico data
A41: Diadema antillarum 41-60 mm test | B41: 0 | C41: 0 | D41: 2.17 | E41: 8.16 | F41: 15.99 | G41: 23.05 | H41: 15.24 | I41: 14.05 | J41: 21.34 | K41: 0 | L41: 0 | M41: 0 | N41: from Hale et al. (in prep) - Mexico data
A42: Diadema antillarum 61-80 mm test | B42: 0 | C42: 1.4 | D42: 7 | E42: 13.02 | F42: 19.25 | G42: 15.06 | H42: 11.06 | I42: 16.75 | J42: 16.45 | K42: 0 | L42: 0 | M42: 0 | N42: from Hale et al. (in prep) - Mexico data
A43: Diadema antillarum 81-100 mm test | B43: 0 | C43: 1.68 | D43: 7.6 | E43: 9.46 | F43: 15.74 | G43: 23.93 | H43: 12.93 | I43: 13.54 | J43: 15.11 | K43: 0 | L43: 0 | M43: 0 | N43: from Hale et al. (in prep) - Mexico data
A44: Echinometra 0-20 mm test | B44: 0 | C44: 0 | D44: 0 | E44: 16.57 | F44: 51.15 | G44: 23.48 | H44: 8.8 | I44: 0 | J44: 0 | K44: 0 | L44: 0 | M44: 0 | N44: from Hale et al. (in prep) - Mexico data
A45: Echinometra 21-40 mm test | B45: 0 | C45: 0 | D45: 0.61 | E45: 22.68 | F45: 42.82 | G45: 22.8 | H45: 8.6 | I45: 2.5 | J45: 0 | K45: 0 | L45: 0 | M45: 0 | N45: from Hale et al. (in prep) - Mexico data
...

Sheet Urchins Skeletal
A1: URCHINS SKELETAL | B1: Enter data into pale blue boxes only
A3: Transect number
A4: Number of quadrats | B4: ='Urchins Bioerosion'!B4 -> 0
A5: Quadrat size (m2) | B5: ='Urchins Bioerosion'!B5 -> 0
A7: Transect area (m2) | B7: =B4*B5 -> 0
A9: 1. DATA ENTRY - Numbers of individuals/size class/transect | G9: SUM # SEA URCHINS OVER ALL QUADRATS - THIS AUTO FILLS FROM THE URCHIN BIOEROSION TAB
A10: Species | B10: Test diameter (mm)
B11: 0-20 | C11: 21-40 | D11: 41-60 | E11: 61-80 | F11: 81-100 | G11: >100
A12: Diadema antillarum | B12: ='Urchins Bioerosion'!B12 -> 0 | C12: ='Urchins Bioerosion'!C12 -> 0 | D12: ='Urchins Bioerosion'!D12 -> 0 | E12: ='Urchins Bioerosion'!E12 -> 0 | F12: ='Urchins Bioerosion'!F12 -> 0 | G12: ='Urchins Bioerosion'!G12 -> 0
A13: Echinometra lucunter | B13: ='Urchins Bioerosion'!B13 -> 0 | C13: ='Urchins Bioerosion'!C13 -> 0 | D13: ='Urchins Bioerosion'!D13 -> 0 | E13: ='Urchins Bioerosion'!E13 -> 0 | F13: ='Urchins Bioerosion'!F13 -> 0 | G13: ='Urchins Bioerosion'!G13 -> 0
A14: Echinometra viridis | B14: ='Urchins Bioerosion'!B14 -> 0 | C14: ='Urchins Bioerosion'!C14 -> 0 | D14: ='Urchins Bioerosion'!D14 -> 0 | E14: ='Urchins Bioerosion'!E14 -> 0 | F14: ='Urchins Bioerosion'!F14 -> 0 | G14: ='Urchins Bioerosion'!G14 -> 0
A15: Eucidaris tribuloides | B15: ='Urchins Bioerosion'!B15 -> 0 | C15: ='Urchins Bioerosion'!C15 -> 0 | D15: ='Urchins Bioerosion'!D15 -> 0 | E15: ='Urchins Bioerosion'!E15 -> 0 | F15: ='Urchins Bioerosion'!F15 -> 0 | G15: ='Urchins Bioerosion'!G15 -> 0
A16: Other species | B16: ='Urchins Bioerosion'!B16 -> 0 | C16: ='Urchins Bioerosion'!C16 -> 0 | D16: ='Urchins Bioerosion'!D16 -> 0 | E16: ='Urchins Bioerosion'!E16 -> 0 | F16: ='Urchins Bioerosion'!F16 -> 0 | G16: ='Urchins Bioerosion'!G16 -> 0
A21: 2. Average skeletal weight (g/ ind)
A22: Species | B22: Test diameter (mm)
B23: 0-20 | C23: 21-40 | D23: 41-60 | E23: 61-80 | F23: 81-100 | G23: >100 | H23: Weights used from:
A24: Diadema antillarum | B24: 0.8417323 | C24: 5.6516314 | D24: 15.154115 | E24: 29.349183 | F24: 44.479835 | G24: 44.479835 | H24: from Hale et al. (in prep) - Mexico data
A25: Echinometra lucunter | B25: 1.0718193 | C25: 7.1965007 | D25: 19.296481 | E25: 19.296481 | F25: 19.296481 | G25: 19.296481 | H25: from Hale et al. (in prep) - Mexico data
A26: Echinometra viridis | B26: 1.0718193 | C26: 7.1965007 | D26: 19.296481 | E26: 19.296481 | F26: 19.296481 | G26: 19.296481 | H26: from Hale et al. (in prep) - Mexico data
A27: Eucidaris tribuloides | B27: 1.5738686 | C27: 10.567403 | D27: 24.381254 | E27: 24.381254 | F27: 24.381254 | G27: 24.381254 | H27: from Hale et al. (in prep) - Mexico data
A28: Other species | B28: =AVERAGE(B24:B27) -> 1.1398099 | C28: =AVERAGE(C24:C27) -> 7.6530091 | D28: =AVERAGE(D24:D27) -> 19.532083 | E28: =AVERAGE(E24:E27) -> 23.08085 | F28: =AVERAGE(F24:F27) -> 26.863513 | G28: =AVERAGE(G24:G27) -> 26.863513 | H28: Average of other Caribbean species
A31: 3. Average ages (yr/ ind)
A32: Species | B32: Test diameter (mm)
B33: 0-20 | C33: 21-40 | D33: 41-60 | E33: 61-80 | F33: 81-100 | G33: >100 | H33: Rates used from:
A34: Diadema antillarum | B34: 0.22141625 | C34: 0.726507 | D34: 1.4292073 | E34: 2.6035118 | F34: 5.2032178 | G34: 5.2032178 | H34: from Hale et al. (in prep) - Mexico data
A35: Echinometra lucunter | B35: 0.69418458 | C35: 2.4635731 | D35: 5.9676818 | E35: 5.9676818 | F35: 5.9676818 | G35: 5.9676818 | H35: from Hale et al. (in prep) - Mexico data
A36: Echinometra viridis | B36: 0.69418458 | C36: 2.4635731 | D36: 5.9676818 | E36: 5.9676818 | F36: 5.9676818 | G36: 5.9676818 | H36: from Hale et al. (in prep) - Mexico data
A37: Eucidaris tribuloides | B37: 0.47536617 | C37: 1.8352692 | D37: 5.078776 | E37: 5.078776 | F37: 5.078776 | G37: 5.078776 | H37: from Hale et al. (in prep) - Mexico data
A38: Other species | B38: =AVERAGE(B34:B37) -> 0.5212879 | C38: =AVERAGE(C34:C37) -> 1.8722306 | D38: =AVERAGE(D34:D37) -> 4.6108367 | E38: =AVERAGE(E34:E37) -> 4.9044128 | F38: =AVERAGE(F34:F37) -> 5.5543393 | G38: =AVERAGE(G34:G37) -> 5.5543393 | H38: Average of other Caribbean species
A41: 4. Average skeletal sediment production (g/ yr/ ind )
A42: Species | B42: Test diameter (mm)
B43: 0-20 | C43: 21-40 | D43: 41-60 | E43: 61-80 | F43: 81-100 | G43: >100 | H43: Rates used from:
A44: Diadema antillarum | B44: =B24/B34 -> 3.8015832 | C44: =C24/C34 -> 7.7791837 | D44: =D24/D34 -> 10.603161 | E44: =E24/E34 -> 11.272921 | F44: =F24/F34 -> 8.5485244 | G44: =G24/G34 -> 8.5485244 | H44: from Hale et al. (in prep) - Mexico data
A45: Echinometra lucunter | B45: =B25/B35 -> 1.5439976 | C45: =C25/C35 -> 2.9211639 | D45: =D25/D35 -> 3.233497 | E45: =E25/E35 -> 3.233497 | F45: =F25/F35 -> 3.233497 | G45: =G25/G35 -> 3.233497 | H45: from Hale et al. (in prep) - Mexico data
A46: Echinometra viridis | B46: =B26/B36 -> 1.5439976 | C46: =C26/C36 -> 2.9211639 | D46: =D26/D36 -> 3.233497 | E46: =E26/E36 -> 3.233497 | F46: =F26/F36 -> 3.233497 | G46: =G26/G36 -> 3.233497 | H46: from Hale et al. (in prep) - Mexico data
A47: Eucidaris tribuloides | B47: =B27/B37 -> 3.3108553 | C47: =C27/C37 -> 5.7579584 | D47: =D27/D37 -> 4.8006161 | E47: =E27/E37 -> 4.8006161 | F47: =F27/F37 -> 4.8006161 | G47: =G27/G37 -> 4.8006161 | H47: from Hale et al. (in prep) - Mexico data
A48: Other species | B48: =AVERAGE(B44:B47) -> 2.5501084 | C48: =AVERAGE(C44:C47) -> 4.8448675 | D48: =AVERAGE(D44:D47) -> 5.4676927 | E48: =AVERAGE(E44:E47) -> 5.6351328 | F48: =AVERAGE(F44:F47) -> 4.9540336 | G48: =AVERAGE(G44:G47) -> 4.9540336 | H48: Average of other Caribbean species
A51: 5. Sediment generation rate per species/size class (kg/ m2/ yr) from skeletal breakdown
A52: Species | B52: Test diameter (mm)
B53: 0-20 | C53: 21-40 | D53: 41-60 | E53: 61-80 | F53: 81-100 | G53: >100
...

Sheet Endolithic Sponges
A1: ENDOLITHIC SPONGES | B1: Enter data into pale blue boxes only
A3: Transect number
A4: Number of quadrats
A5: Quadrat size (m2) | C5: e.g . 50 x 50 cm = 0.25m²
A8: 1. Census data - sponge tissue cover (total cm2) per quadrat
B9: Q1 | C9: Q2 | D9: Q3 | E9: Q4 | F9: Q5 | G9: Q6 | H9: Q7 | I9: Q8 | J9: Q9 | K9: Q10
A10: Planar survey area (cm2) | B10: =$B$5*10000 -> 0 | C10: =$B$5*10000 -> 0 | D10: =$B$5*10000 -> 0 | E10: =$B$5*10000 -> 0 | F10: =$B$5*10000 -> 0 | G10: =$B$5*10000 -> 0 | H10: =$B$5*10000 -> 0 | I10: =$B$5*10000 -> 0 | ... K10: =$B$5*10000 -> 0 | L10: Mean/m2
A11: Measured tissue cover (cm2) | B11: cm2 | C11: cm2 | D11: cm2 | E11: cm2 | F11: cm2 | G11: cm2 | H11: cm2 | I11: cm2 | J11: cm2 | K11: cm2
A12: C. aprica | L12: =((((SUM(B12:K12)/$B$4))/10000)/$B$5) -> #DIV/0!
A13: C. caribbaea | L13: =((((SUM(B13:K13)/$B$4))/10000)/$B$5) -> #DIV/0!
A14: C. tenuis | L14: =((((SUM(B14:K14)/$B$4))/10000)/$B$5) -> #DIV/0!
A15: C. varians | L15: =((((SUM(B15:K15)/$B$4))/10000)/$B$5) -> #DIV/0!
A16: C. delitrix | L16: =((((SUM(B16:K16)/$B$4))/10000)/$B$5) -> #DIV/0!
A17: C. amplicavata | L17: =((((SUM(B17:K17)/$B$4))/10000)/$B$5) -> #DIV/0!
A18: Siphonodictyon spp. | L18: =((((SUM(B18:K18)/$B$4))/10000)/$B$5) -> #DIV/0!
A19: S. flavolivescens | L19: =((((SUM(B19:K19)/$B$4))/10000)/$B$5) -> #DIV/0!
A22: 2. Measured rate of endolithic bioerosion/m2 (from literature)
A24: Sponge species where known | B24: Sediment production rate (kg CaCO3 m-2yr-1) | C24: Source (nb. can be user changed if desired)
A25: C. aprica | B25: 1.4 | C25: Based on rates in de Bakker et al. 2018; 2024 | F25: Mean for substrates: A. palmata (1.7); O. faveolata (1.0)
A26: C. caribbaea | B26: 4.6 | C26: Based on rates in de Bakker et al. 2018; 2024 | F26: Mean for substrates A. palmata (4.9); O. faveolata (4.2)
A27: C. tenuis | B27: 4.2 | C27: Based on rates in de Bakker et al. 2018; 2024 | F27: Mean for substrates A. palmata (4.5); O. faveolata (3.9)
A28: C. varians | B28: 2.9 | C28: Based on rates in de Bakker et al. 2018; 2024 | F28: Reef framework
A29: C. delitrix | B29: 5.4 | C29: Based on rates in de Bakker et al. 2018; 2024 | F29: Mean for substrates A. palmata (6.1); S. siderea (5.2); O. faveolata (4.9)
A30: C. amplicavata | B30: 2.8 | C30: Based on rates in de Bakker et al. 2018; 2024 | F30: In A. palmata
A31: Siphonodictyon spp. | B31: 6.3 | C31: Based on rates in de Bakker et al. 2018; 2024 | F31: in O. faveolata
A32: S. flavolivescens | B32: 1 | C32: Based on rates in de Bakker et al. 2018; 2024 | F32: in O. faveolata
A35: 3. Resultant mean sediment generation rates by species (kg CaCO3 /m2/ yr)
A37: Caribbean species
A38: C. aprica | B38: =B25*L12 -> #DIV/0!
A39: C. caribbaea | B39: =B26*L13 -> #DIV/0!
A40: C. tenuis | B40: =B27*L14 -> #DIV/0!
A41: C. varians | B41: =B28*L15 -> #DIV/0!
A42: C. delitrix | B42: =B29*L16 -> #DIV/0!
A43: C. amplicavata | B43: =B30*L17 -> #DIV/0!
A44: Siphonodictyon spp. | B44: =B31*L18 -> #DIV/0!
A45: S. flavolivescens | B45: =B32*L19 -> #DIV/0!
A46: TOTAL | B46: =SUM(B38:B45) -> #DIV/0!
A48: 4. Proportions of sediment grain size fractions produced
B49: >4 mm | C49: 2-4 mm | D49: 1-2 mm | E49: 0.5-1 mm | F49: 0.25-0.5 mm | G49: 0.125-0.25 mm | H49: 63 to 125 um | I49: 31-63 um | J49: 16-31 um | K49: 8-16 um | L49: 4-8 um | M49: <4 um
A50: Udden/Wentworth | B50: Pebble | C50: Gravel | D50: V coarse sand | E50: Coarse sand | F50: Med sand | G50: Fine sand | H50: V fine sand | I50: Coarse silt | J50: Med silt | K50: Fine silt | L50: V fine silt | M50: Clay
...

Sheet Articulated Coralline Alage
A1: ACA | B1: Enter species and relevant metrics into grey boxes
B2: Enter data into pale blue boxes only
A4: Transect number
A5: Number of quadrats
A6: Quadrat size (m2) | C6: e.g . 50 x 50 cm = 0.25m²
A8: A: Thallus volume and carbonate metrics | G8: COPY IN RELEVANT METRICS FROM "AMPHIROA METRICS" SHEET
A9: Species | C9: Species code | H9: Source/notes
D10: Growth rate (mm per day) | E10: Source/notes | G10: CaCO3 per cm3
A11: Ampriroa fragilissima | C11: 1 | D11: 0.287725 | E11: from Hale et al. (in prep) - Mexico data | G11: 0.0691176 | H11: from Hale et al. (in prep) - Mexico data
A12: Amphiroa tribulus | C12: 2 | D12: 0.16539 | E12: from Hale et al. (in prep) - Mexico data | G12: 0.04785565 | H12: from Hale et al. (in prep) - Mexico data
A13: Tricleocarpa fragilis | C13: 3 | D13: 0.1709 | E13: from Hale et al. (in prep) - Mexico data | G13: 0.02443417 | H13: from Hale et al. (in prep) - Mexico data
C14: 4
C15: 5
C16: 6
C17: 7
C18: 8
A20: B: Proportions of sediment grain size fractions produced | G20: COPY IN RELEVANT PROPORTIONAL BREAKDOWN DATA FROM "AMPHIROA METRICS" SHEET
A21: Species | B21: Species code | C21: >4mm | D21: 2-4 mm | E21: 1-2 mm | F21: 0.5-1 mm | G21: 0.25-0.5 mm | H21: 0.125-0.25 mm | I21: 63 to 125 um | J21: 32-63 um | K21: 16-31 um | L21: 8-16 um | M21: 4-8 um | N21: <4 um
C22: Pebble | D22: Gravel | E22: V coarse sand | F22: Coarse sand | G22: Med sand | H22: Fine sand | I22: V fine sand | J22: Coarse silt | K22: Med silt | L22: Fine silt | M22: V fine silt | N22: Clay | O22: Source/notes
A23: =IF($A$11="","",($A$11)) -> Ampriroa fragilissima | B23: 1 | C23: 0.0059220624 | D23: 0.19570826 | E23: 0.27859412 | F23: 0.1930409 | G23: 0.047359823 | H23: 0.0080911908 | I23: 0.0018444575 | J23: 0.000583515 | K23: 0.26885568 | L23: 0 | M23: 0 | N23: 0 | O23: from Hale et al. (in prep)
A24: =IF($A$12="","",($A$12)) -> Amphiroa tribulus | B24: 2 | C24: 0.25524514 | D24: 0.39285908 | E24: 0.16242662 | F24: 0.036257699 | G24: 0.0065441281 | H24: 0.0018690935 | I24: 0.0006857764 | J24: 0.0002643255 | K24: 0.14384814 | L24: 0 | M24: 0 | N24: 0 | O24: from Hale et al. (in prep)
A25: =IF($A$13="","",($A$13)) -> Tricleocarpa fragilis | B25: 3 | C25: 0 | D25: 0.0009931554 | E25: 0.015816536 | F25: 0.035953699 | G25: 0.059783699 | H25: 0.048355659 | I25: 0.058617233 | J25: 0.049910253 | K25: 0.73056977 | L25: 0 | M25: 0 | N25: 0 | O25: from Hale et al. (in prep)
A26: =IF($A$14="","",($A$14)) | B26: 4
A27: =IF($A$15="","",($A$15)) | B27: 5
A28: =IF($A$16="","",($A$16)) | B28: 6
A29: =IF($A$17="","",($A$17)) | B29: 7
A30: =IF($A$18="","",($A$18)) | B30: 8
A32: 1. DATA ENTRY - Measurements of individual thalli per quadrat
D33: THALLUS DIMENSIONS | K33: PRODUCTION/THALLUS | R33: Production rates per species
A34: Quadrat # | B34: Species / morphology code (select from above) | C34: width (mm) | D34: depth (mm) | E34: height h (mm) | F34: Total thallus volume (cm3) | G34: Growth rate (mm/day) | H34: Volume Increase in 1 day (cm3) | I34: CaCO3 per cm3 | J34: CaCO3 prod (g) /thallus/yr | K34: g CaCO3/m2/yr | L34: kg CaCO3/m2/yr | M34: . | N34: Species 1 | O34: Species 2 | P34: Species 3 | Q34: Species 4 | R34: Species 5 | S34: Species 6 | T34: Species 7 | U34: Species 8
A35: =1 -> 1 | F35: =(0.5*(4/3*(PI()*((C35*0.5)*(D35*0.5)*E35)))/1000) -> 0 | G35: =IF(B35=1,$D$11,IF(B35=2,$D$12,IF(B35=3,$D$13,IF(B35=4,$D$14,IF(B35=5,$D$15,IF(B35=6,$D$16,IF(B35=7,$D$17,IF(B35=8,$D$18,)))))))) -> 0 | H35: =IF(F35>0,(((0.5*(4/3*(PI()*(((0.5*C35)+G35))*(((0.5*D35)+G35))*(E35+G35))))/1000-F35)), 0) -> 0 | I35: =IF(B35=1,$G$11,IF(B35=2,$G$12,IF(B35=3,$G$13,IF(B35=4,$G$14,IF(B35=5,$G$15,IF(B35=6,$G$16,IF(B35=7,$G$17,IF(B35=8,$G$18,"")))))))) | J35: =IFERROR((H35*I35)*365, "") | K35: =IFERROR(J35*(1/$B$6), "") | L35: =IFERROR(K35/1000, "") | N35: =IF(B35=1, L35,"") | O35: =IF(B35=2, L35,"") | P35: =IF(B35=3, L35,"") | Q35: =IF(B35=4, L35,"") | R35: =IF(B35=5, L35,"") | S35: =IF(B35=6, L35,"") | T35: =IF(B35=7, L35,"") | U35: =IF(B35=8, L35,"")
A36: =1 -> 1 | F36: =(0.5*(4/3*(PI()*((C36*0.5)*(D36*0.5)*E36)))/1000) -> 0 | G36: =IF(B36=1,$D$11,IF(B36=2,$D$12,IF(B36=3,$D$13,IF(B36=4,$D$14,IF(B36=5,$D$15,IF(B36=6,$D$16,IF(B36=7,$D$17,IF(B36=8,$D$18,)))))))) -> 0 | H36: =IF(F36>0,(((0.5*(4/3*(PI()*(((0.5*C36)+G36))*(((0.5*D36)+G36))*(E36+G36))))/1000-F36)), 0) -> 0 | I36: =IF(B36=1,$G$11,IF(B36=2,$G$12,IF(B36=3,$G$13,IF(B36=4,$G$14,IF(B36=5,$G$15,IF(B36=6,$G$16,IF(B36=7,$G$17,IF(B36=8,$G$18,"")))))))) | J36: =IFERROR((H36*I36)*365, "") | K36: =IFERROR(J36*(1/$B$6), "") | L36: =IFERROR(K36/1000, "") | N36: =IF(B36=1, L36,"") | O36: =IF(B36=2, L36,"") | P36: =IF(B36=3, L36,"") | Q36: =IF(B36=4, L36,"") | R36: =IF(B36=5, L36,"") | S36: =IF(B36=6, L36,"") | T36: =IF(B36=7, L36,"") | U36: =IF(B36=8, L36,"")
A37: =1 -> 1 | F37: =(0.5*(4/3*(PI()*((C37*0.5)*(D37*0.5)*E37)))/1000) -> 0 | G37: =IF(B37=1,$D$11,IF(B37=2,$D$12,IF(B37=3,$D$13,IF(B37=4,$D$14,IF(B37=5,$D$15,IF(B37=6,$D$16,IF(B37=7,$D$17,IF(B37=8,$D$18,)))))))) -> 0 | H37: =IF(F37>0,(((0.5*(4/3*(PI()*(((0.5*C37)+G37))*(((0.5*D37)+G37))*(E37+G37))))/1000-F37)), 0) -> 0 | I37: =IF(B37=1,$G$11,IF(B37=2,$G$12,IF(B37=3,$G$13,IF(B37=4,$G$14,IF(B37=5,$G$15,IF(B37=6,$G$16,IF(B37=7,$G$17,IF(B37=8,$G$18,"")))))))) | J37: =IFERROR((H37*I37)*365, "") | K37: =IFERROR(J37*(1/$B$6), "") | L37: =IFERROR(K37/1000, "") | N37: =IF(B37=1, L37,"") | O37: =IF(B37=2, L37,"") | P37: =IF(B37=3, L37,"") | Q37: =IF(B37=4, L37,"") | R37: =IF(B37=5, L37,"") | S37: =IF(B37=6, L37,"") | T37: =IF(B37=7, L37,"") | U37: =IF(B37=8, L37,"")
A38: =1 -> 1 | F38: =(0.5*(4/3*(PI()*((C38*0.5)*(D38*0.5)*E38)))/1000) -> 0 | G38: =IF(B38=1,$D$11,IF(B38=2,$D$12,IF(B38=3,$D$13,IF(B38=4,$D$14,IF(B38=5,$D$15,IF(B38=6,$D$16,IF(B38=7,$D$17,IF(B38=8,$D$18,)))))))) -> 0 | H38: =IF(F38>0,(((0.5*(4/3*(PI()*(((0.5*C38)+G38))*(((0.5*D38)+G38))*(E38+G38))))/1000-F38)), 0) -> 0 | I38: =IF(B38=1,$G$11,IF(B38=2,$G$12,IF(B38=3,$G$13,IF(B38=4,$G$14,IF(B38=5,$G$15,IF(B38=6,$G$16,IF(B38=7,$G$17,IF(B38=8,$G$18,"")))))))) | J38: =IFERROR((H38*I38)*365, "") | K38: =IFERROR(J38*(1/$B$6), "") | L38: =IFERROR(K38/1000, "") | N38: =IF(B38=1, L38,"") | O38: =IF(B38=2, L38,"") | P38: =IF(B38=3, L38,"") | Q38: =IF(B38=4, L38,"") | R38: =IF(B38=5, L38,"") | S38: =IF(B38=6, L38,"") | T38: =IF(B38=7, L38,"") | U38: =IF(B38=8, L38,"")
A39: =1 -> 1 | F39: =(0.5*(4/3*(PI()*((C39*0.5)*(D39*0.5)*E39)))/1000) -> 0 | G39: =IF(B39=1,$D$11,IF(B39=2,$D$12,IF(B39=3,$D$13,IF(B39=4,$D$14,IF(B39=5,$D$15,IF(B39=6,$D$16,IF(B39=7,$D$17,IF(B39=8,$D$18,)))))))) -> 0 | H39: =IF(F39>0,(((0.5*(4/3*(PI()*(((0.5*C39)+G39))*(((0.5*D39)+G39))*(E39+G39))))/1000-F39)), 0) -> 0 | I39: =IF(B39=1,$G$11,IF(B39=2,$G$12,IF(B39=3,$G$13,IF(B39=4,$G$14,IF(B39=5,$G$15,IF(B39=6,$G$16,IF(B39=7,$G$17,IF(B39=8,$G$18,"")))))))) | J39: =IFERROR((H39*I39)*365, "") | K39: =IFERROR(J39*(1/$B$6), "") | L39: =IFERROR(K39/1000, "") | N39: =IF(B39=1, L39,"") | O39: =IF(B39=2, L39,"") | P39: =IF(B39=3, L39,"") | Q39: =IF(B39=4, L39,"") | R39: =IF(B39=5, L39,"") | S39: =IF(B39=6, L39,"") | T39: =IF(B39=7, L39,"") | U39: =IF(B39=8, L39,"")
A40: =1 -> 1 | F40: =(0.5*(4/3*(PI()*((C40*0.5)*(D40*0.5)*E40)))/1000) -> 0 | G40: =IF(B40=1,$D$11,IF(B40=2,$D$12,IF(B40=3,$D$13,IF(B40=4,$D$14,IF(B40=5,$D$15,IF(B40=6,$D$16,IF(B40=7,$D$17,IF(B40=8,$D$18,)))))))) -> 0 | H40: =IF(F40>0,(((0.5*(4/3*(PI()*(((0.5*C40)+G40))*(((0.5*D40)+G40))*(E40+G40))))/1000-F40)), 0) -> 0 | I40: =IF(B40=1,$G$11,IF(B40=2,$G$12,IF(B40=3,$G$13,IF(B40=4,$G$14,IF(B40=5,$G$15,IF(B40=6,$G$16,IF(B40=7,$G$17,IF(B40=8,$G$18,"")))))))) | J40: =IFERROR((H40*I40)*365, "") | K40: =IFERROR(J40*(1/$B$6), "") | L40: =IFERROR(K40/1000, "") | N40: =IF(B40=1, L40,"") | O40: =IF(B40=2, L40,"") | P40: =IF(B40=3, L40,"") | Q40: =IF(B40=4, L40,"") | R40: =IF(B40=5, L40,"") | S40: =IF(B40=6, L40,"") | T40: =IF(B40=7, L40,"") | U40: =IF(B40=8, L40,"")
A41: =1 -> 1 | F41: =(0.5*(4/3*(PI()*((C41*0.5)*(D41*0.5)*E41)))/1000) -> 0 | G41: =IF(B41=1,$D$11,IF(B41=2,$D$12,IF(B41=3,$D$13,IF(B41=4,$D$14,IF(B41=5,$D$15,IF(B41=6,$D$16,IF(B41=7,$D$17,IF(B41=8,$D$18,)))))))) -> 0 | H41: =IF(F41>0,(((0.5*(4/3*(PI()*(((0.5*C41)+G41))*(((0.5*D41)+G41))*(E41+G41))))/1000-F41)), 0) -> 0 | I41: =IF(B41=1,$G$11,IF(B41=2,$G$12,IF(B41=3,$G$13,IF(B41=4,$G$14,IF(B41=5,$G$15,IF(B41=6,$G$16,IF(B41=7,$G$17,IF(B41=8,$G$18,"")))))))) | J41: =IFERROR((H41*I41)*365, "") | K41: =IFERROR(J41*(1/$B$6), "") | L41: =IFERROR(K41/1000, "") | N41: =IF(B41=1, L41,"") | O41: =IF(B41=2, L41,"") | P41: =IF(B41=3, L41,"") | Q41: =IF(B41=4, L41,"") | R41: =IF(B41=5, L41,"") | S41: =IF(B41=6, L41,"") | T41: =IF(B41=7, L41,"") | U41: =IF(B41=8, L41,"")
A42: =1 -> 1 | F42: =(0.5*(4/3*(PI()*((C42*0.5)*(D42*0.5)*E42)))/1000) -> 0 | G42: =IF(B42=1,$D$11,IF(B42=2,$D$12,IF(B42=3,$D$13,IF(B42=4,$D$14,IF(B42=5,$D$15,IF(B42=6,$D$16,IF(B42=7,$D$17,IF(B42=8,$D$18,)))))))) -> 0 | H42: =IF(F42>0,(((0.5*(4/3*(PI()*(((0.5*C42)+G42))*(((0.5*D42)+G42))*(E42+G42))))/1000-F42)), 0) -> 0 | I42: =IF(B42=1,$G$11,IF(B42=2,$G$12,IF(B42=3,$G$13,IF(B42=4,$G$14,IF(B42=5,$G$15,IF(B42=6,$G$16,IF(B42=7,$G$17,IF(B42=8,$G$18,"")))))))) | J42: =IFERROR((H42*I42)*365, "") | K42: =IFERROR(J42*(1/$B$6), "") | L42: =IFERROR(K42/1000, "") | N42: =IF(B42=1, L42,"") | O42: =IF(B42=2, L42,"") | P42: =IF(B42=3, L42,"") | Q42: =IF(B42=4, L42,"") | R42: =IF(B42=5, L42,"") | S42: =IF(B42=6, L42,"") | T42: =IF(B42=7, L42,"") | U42: =IF(B42=8, L42,"")
