Workbook
Name ACA_growth_rates: #REF!
Name ACAGrain: '[1]Amphiroa metrics'!#REF!
Name ACAGrain: '[2]ACA metrics'!#REF!
Name ACAGrain: 'ACA metrics'!#REF!
Name ACAGrowth: '[1]Amphiroa metrics'!#REF!
Name ACAGrowth: '[2]ACA metrics'!#REF!
Name ACAGrowth: 'ACA metrics'!#REF!
Name ACAGrowthRates: '[1]Amphiroa metrics'!#REF!
Name ACAGrowthRates: '[2]ACA metrics'!#REF!
Name ACAGrowthRates: 'ACA metrics'!#REF!
Name BenthicData: 'Transect Summary'!$B$4:$K$5
Name GrainTypeMetrics: 'Grain Constituent Metrics'!$A$3:$L$18
Name HalimedaInitialMetrics: Halimeda!$C$11:$M$18
Name HalimedaInitialMetrics: [3]LC1!$C$11:$M$17
Name SpeciesCarb: '[1]Amphiroa metrics'!#REF!
Name SpeciesCarb: '[2]ACA metrics'!#REF!
Name SpeciesCarb: 'ACA metrics'!#REF!
Name TransectGrainType: 'Transect Summary'!$A$29:$O$40
Name TransectSedProduction: 'Transect Summary'!$A$10:$N$24
Name UdoteaInitialMetrics: [2]Udotea!$C$11:$J$14
Name UdoteaInitialMetrics: Udotea!$C$11:$J$14
Name UdoteaMetrics: Udotea!$C$11:$J$14

Sheet Overview
A1: Site details | B1: Transect # | C1: Date (d/m/yr) | D1: GPS
A4: Site notes:

Sheet Transect Summary
A1: Transect number | B1: =IF((Substrate!$B$3) = "", "", (Substrate!$B$3))
B3: Transect level mean benthic cover and rugosity data
B4: Live coral | C4: Dead coral w/ CCA | D4: Dead coral w/ turf | E4: Dead coral w/ macroalgae | F4: Rubble | G4: Sand | H4: Seagrass | I4: Other | J4: Total Area % | K4: Rugosity
B5: =Substrate!C19 | C5: =Substrate!D19 | D5: =Substrate!E19 | E5: =Substrate!F19 | F5: =Substrate!G19 | G5: =Substrate!H19 | H5: =Substrate!I19 | I5: =Substrate!J19 | J5: =Substrate!K19 -> 0 | K5: =Substrate!I33
B8: Transect level mean sediment production (kg m-2 yr-1) data by sediment producer group and grain size
B9: >4 mm | C9: 2-4 mm | D9: 1-2 mm | E9: 0.5-1 mm | F9: 0.25-0.5 mm | G9: 0.125-0.25 mm | H9: 63 to 125 um | I9: 31-63 um | J9: 16-31 um | K9: 8-16 um | L9: 4-8 um | M9: <4 um
A10: Producer Group | B10: Pebble | C10: Gravel | D10: V coarse sand | E10: Coarse sand | F10: Med sand | G10: Fine sand | H10: V fine sand | I10: Coarse silt | J10: Med silt | K10: Fine silt | L10: V fine silt | M10: Clay | N10: Total Sediment Production | O10: Proportional Contribution
A11: Urchins - Erosion Derived | B11: ='Urchins Bioerosion'!B106 | C11: ='Urchins Bioerosion'!C106 | D11: ='Urchins Bioerosion'!D106 | E11: ='Urchins Bioerosion'!E106 | F11: ='Urchins Bioerosion'!F106 | G11: ='Urchins Bioerosion'!G106 | H11: ='Urchins Bioerosion'!H106 | I11: ='Urchins Bioerosion'!I106 | ... M11: ='Urchins Bioerosion'!M106 | N11: =IF(COUNT(B11:M11)=0,"", SUM(B11:M11)) | O11: =N11/SUM($N$11:$N$24) -> #VALUE!
A12: Urchins - Skeletal Derived | B12: ='Urchins Skeletal'!B132 | C12: ='Urchins Skeletal'!C132 | D12: ='Urchins Skeletal'!D132 | E12: ='Urchins Skeletal'!E132 | F12: ='Urchins Skeletal'!F132 | G12: ='Urchins Skeletal'!G132 | H12: ='Urchins Skeletal'!H132 | I12: ='Urchins Skeletal'!I132 | ... M12: ='Urchins Skeletal'!M132 | N12: =IF(COUNT(B12:M12)=0,"", SUM(B12:M12)) | O12: =N12/SUM($N$11:$N$24) -> #VALUE!
A13: Endolithic Sponges | B13: ='Endolithic Sponges'!B77 | C13: ='Endolithic Sponges'!C77 | D13: ='Endolithic Sponges'!D77 | E13: ='Endolithic Sponges'!E77 | F13: ='Endolithic Sponges'!F77 | G13: ='Endolithic Sponges'!G77 | H13: ='Endolithic Sponges'!H77 | I13: ='Endolithic Sponges'!I77 | ... M13: ='Endolithic Sponges'!M77 | N13: =IF(COUNT(B13:M13)=0,"", SUM(B13:M13)) | O13: =N13/SUM($N$11:$N$24) -> #VALUE!
A14: Articulated Coralline Algae | B14: ='Articulated Coralline Alage'!C234 | C14: ='Articulated Coralline Alage'!D234 | D14: ='Articulated Coralline Alage'!E234 | E14: ='Articulated Coralline Alage'!F234 | F14: ='Articulated Coralline Alage'!G234 | G14: ='Articulated Coralline Alage'!H234 | H14: ='Articulated Coralline Alage'!I234 | I14: ='Articulated Coralline Alage'!J234 | ... M14: ='Articulated Coralline Alage'!N234 | N14: =IF(COUNT(B14:M14)=0,"", SUM(B14:M14)) | O14: =N14/SUM($N$11:$N$24) -> #VALUE!
A15: Halimeda | B15: =Halimeda!C228 | C15: =Halimeda!D228 | D15: =Halimeda!E228 | E15: =Halimeda!F228 | F15: =Halimeda!G228 | G15: =Halimeda!H228 | H15: =Halimeda!I228 | I15: =Halimeda!J228 | ... M15: =Halimeda!N228 | N15: =IF(COUNT(B15:M15)=0,"", SUM(B15:M15)) | O15: =N15/SUM($N$11:$N$24) -> #VALUE!
A16: Penicillus | B16: =Penicillus!C212 | C16: =Penicillus!D212 | D16: =Penicillus!E212 | E16: =Penicillus!F212 | F16: =Penicillus!G212 | G16: =Penicillus!H212 | H16: =Penicillus!I212 | I16: =Penicillus!J212 | ... M16: =Penicillus!N212 | N16: =IF(COUNT(B16:M16)=0,"", SUM(B16:M16)) | O16: =N16/SUM($N$11:$N$24) -> #VALUE!
A17: Udotea | B17: =Udotea!C203 | C17: =Udotea!D203 | D17: =Udotea!E203 | E17: =Udotea!F203 | F17: =Udotea!G203 | G17: =Udotea!H203 | H17: =Udotea!I203 | I17: =Udotea!J203 | ... M17: =Udotea!N203 | N17: =IF(COUNT(B17:M17)=0,"", SUM(B17:M17)) | O17: =N17/SUM($N$11:$N$24) -> #VALUE!
A18: Rhipocephalus | B18: =Rhipocephalus!C206 | C18: =Rhipocephalus!D206 | D18: =Rhipocephalus!E206 | E18: =Rhipocephalus!F206 | F18: =Rhipocephalus!G206 | G18: =Rhipocephalus!H206 | H18: =Rhipocephalus!I206 | I18: =Rhipocephalus!J206 | ... M18: =Rhipocephalus!N206 | N18: =IF(COUNT(B18:M18)=0,"", SUM(B18:M18)) | O18: =N18/SUM($N$11:$N$24) -> #VALUE!
A19: Acetabularia | B19: =Acetabularia!C50 | C19: =Acetabularia!D50 | D19: =Acetabularia!E50 | E19: =Acetabularia!F50 | F19: =Acetabularia!G50 | G19: =Acetabularia!H50 | H19: =Acetabularia!I50 | I19: =Acetabularia!J50 | ... M19: =Acetabularia!N50 | N19: =IF(COUNT(B19:M19)=0,"", SUM(B19:M19)) | O19: =N19/SUM($N$11:$N$24) -> #VALUE!
A20: Bivalves | B20: =Bivalves!C26 | C20: =Bivalves!D26 | D20: =Bivalves!E26 | E20: =Bivalves!F26 | F20: =Bivalves!G26 | G20: =Bivalves!H26 | H20: =Bivalves!I26 | I20: =Bivalves!J26 | ... M20: =Bivalves!N26 | N20: =IF(COUNT(B20:M20)=0,"", SUM(B20:M20)) | O20: =N20/SUM($N$11:$N$24) -> #VALUE!
A21: Gastropods | B21: =Gastropods!C26 | C21: =Gastropods!D26 | D21: =Gastropods!E26 | E21: =Gastropods!F26 | F21: =Gastropods!G26 | G21: =Gastropods!H26 | H21: =Gastropods!I26 | I21: =Gastropods!J26 | ... M21: =Gastropods!N26 | N21: =IF(COUNT(B21:M21)=0,"", SUM(B21:M21)) | O21: =N21/SUM($N$11:$N$24) -> #VALUE!
A22: Benthic Foraminifera | B22: ='Benthic Foraminifera'!D41 | C22: ='Benthic Foraminifera'!E41 | D22: ='Benthic Foraminifera'!F41 | E22: ='Benthic Foraminifera'!G41 | F22: ='Benthic Foraminifera'!H41 | G22: ='Benthic Foraminifera'!I41 | H22: ='Benthic Foraminifera'!J41 | I22: ='Benthic Foraminifera'!K41 | ... M22: ='Benthic Foraminifera'!O41 | N22: =IF(COUNT(B22:M22)=0,"", SUM(B22:M22)) | O22: =N22/SUM($N$11:$N$24) -> #VALUE!
A23: Seagrass Epibionts | B23: ='Seagrass Epibionts'!C43 | C23: ='Seagrass Epibionts'!D43 | D23: ='Seagrass Epibionts'!E43 | E23: ='Seagrass Epibionts'!F43 | F23: ='Seagrass Epibionts'!G43 | G23: ='Seagrass Epibionts'!H43 | H23: ='Seagrass Epibionts'!I43 | I23: ='Seagrass Epibionts'!J43 | ... M23: ='Seagrass Epibionts'!N43 | N23: =IF(COUNT(B23:M23)=0,"", SUM(B23:M23)) | O23: =N23/SUM($N$11:$N$24) -> #VALUE!
A24: Brittle Stars | B24: ='Brittle stars'!B100 | C24: ='Brittle stars'!C100 | D24: ='Brittle stars'!D100 | E24: ='Brittle stars'!E100 | F24: ='Brittle stars'!F100 | G24: ='Brittle stars'!G100 | H24: ='Brittle stars'!H100 | I24: ='Brittle stars'!I100 | ... M24: ='Brittle stars'!M100 | N24: =IF(COUNT(B24:M24)=0,"", SUM(B24:M24)) | O24: =N24/SUM($N$11:$N$24) -> #VALUE!
B27: Transect level mean sediment production (kg m-2 yr-1) data by grain constituent and grain size
B28: >4 mm | C28: 2-4 mm | D28: 1-2 mm | E28: 0.5-1 mm | F28: 0.25-0.5 mm | G28: 0.125-0.25 mm | H28: 63 to 125 um | I28: 31-63 um | J28: 16-31 um | K28: 8-16 um | L28: 4-8 um | M28: <4 um
A29: Grain Constituent | B29: Pebble | C29: Gravel | D29: V coarse sand | E29: Coarse sand | F29: Med sand | G29: Fine sand | H29: V fine sand | I29: Coarse silt | J29: Med silt | K29: Fine silt | L29: V fine silt | M29: Clay | N29: Total | O29: Proportional Contribution
A30: Coral | B30: {=SUMPRODUCT( B$11:B$24, _xlfn.XLOOKUP( $A$11:$A$24, INDEX(GrainTypeMetricsTable[], ,1), INDEX(GrainTypeMetricsTable[], , MATCH($A30, GrainTypeMetricsTable[#Headers], 0)) ) )} -> 0 | C30: {=SUMPRODUCT( C$11:C$24, _xlfn.XLOOKUP( $A$11:$A$24, INDEX(GrainTypeMetricsTable[], ,1), INDEX(GrainTypeMetricsTable[], , MATCH($A30, GrainTypeMetricsTable[#Headers], 0)) ) )} -> 0 | D30: {=SUMPRODUCT( D$11:D$24, _xlfn.XLOOKUP( $A$11:$A$24, INDEX(GrainTypeMetricsTable[], ,1), INDEX(GrainTypeMetricsTable[], , MATCH($A30, GrainTypeMetricsTable[#Headers], 0)) ) )} -> 0 | E30: {=SUMPRODUCT( E$11:E$24, _xlfn.XLOOKUP( $A$11:$A$24, INDEX(GrainTypeMetricsTable[], ,1), INDEX(GrainTypeMetricsTable[], , MATCH($A30, GrainTypeMetricsTable[#Headers], 0)) ) )} -> 0 | F30: {=SUMPRODUCT( F$11:F$24, _xlfn.XLOOKUP( $A$11:$A$24, INDEX(GrainTypeMetricsTable[], ,1), INDEX(GrainTypeMetricsTable[], , MATCH($A30, GrainTypeMetricsTable[#Headers], 0)) ) )} -> 0 | G30: {=SUMPRODUCT( G$11:G$24, _xlfn.XLOOKUP( $A$11:$A$24, INDEX(GrainTypeMetricsTable[], ,1), INDEX(GrainTypeMetricsTable[], , MATCH($A30, GrainTypeMetricsTable[#Headers], 0)) ) )} -> 0 | H30: {=SUMPRODUCT( H$11:H$24, _xlfn.XLOOKUP( $A$11:$A$24, INDEX(GrainTypeMetricsTable[], ,1), INDEX(GrainTypeMetricsTable[], , MATCH($A30, GrainTypeMetricsTable[#Headers], 0)) ) )} -> 0 | I30: {=SUMPRODUCT( I$11:I$24, _xlfn.XLOOKUP( $A$11:$A$24, INDEX(GrainTypeMetricsTable[], ,1), INDEX(GrainTypeMetricsTable[], , MATCH($A30, GrainTypeMetricsTable[#Headers], 0)) ) )} -> 0 | ... M30: {=SUMPRODUCT( M$11:M$24, _xlfn.XLOOKUP( $A$11:$A$24, INDEX(GrainTypeMetricsTable[], ,1), INDEX(GrainTypeMetricsTable[], , MATCH($A30, GrainTypeMetricsTable[#Headers], 0)) ) )} -> 0 | N30: =SUM(B30:M30) -> 0 | O30: =N30/SUM($N$30:$N$40) -> #DIV/0!
A31: Coralline algae | B31: {=SUMPRODUCT( B$11:B$24, _xlfn.XLOOKUP( $A$11:$A$24, INDEX(GrainTypeMetricsTable[], ,1), INDEX(GrainTypeMetricsTable[], , MATCH($A31, GrainTypeMetricsTable[#Headers], 0)) ) )} -> 0 | C31: {=SUMPRODUCT( C$11:C$24, _xlfn.XLOOKUP( $A$11:$A$24, INDEX(GrainTypeMetricsTable[], ,1), INDEX(GrainTypeMetricsTable[], , MATCH($A31, GrainTypeMetricsTable[#Headers], 0)) ) )} -> 0 | D31: {=SUMPRODUCT( D$11:D$24, _xlfn.XLOOKUP( $A$11:$A$24, INDEX(GrainTypeMetricsTable[], ,1), INDEX(GrainTypeMetricsTable[], , MATCH($A31, GrainTypeMetricsTable[#Headers], 0)) ) )} -> 0 | E31: {=SUMPRODUCT( E$11:E$24, _xlfn.XLOOKUP( $A$11:$A$24, INDEX(GrainTypeMetricsTable[], ,1), INDEX(GrainTypeMetricsTable[], , MATCH($A31, GrainTypeMetricsTable[#Headers], 0)) ) )} -> 0 | F31: {=SUMPRODUCT( F$11:F$24, _xlfn.XLOOKUP( $A$11:$A$24, INDEX(GrainTypeMetricsTable[], ,1), INDEX(GrainTypeMetricsTable[], , MATCH($A31, GrainTypeMetricsTable[#Headers], 0)) ) )} -> 0 | G31: {=SUMPRODUCT( G$11:G$24, _xlfn.XLOOKUP( $A$11:$A$24, INDEX(GrainTypeMetricsTable[], ,1), INDEX(GrainTypeMetricsTable[], , MATCH($A31, GrainTypeMetricsTable[#Headers], 0)) ) )} -> 0 | H31: {=SUMPRODUCT( H$11:H$24, _xlfn.XLOOKUP( $A$11:$A$24, INDEX(GrainTypeMetricsTable[], ,1), INDEX(GrainTypeMetricsTable[], , MATCH($A31, GrainTypeMetricsTable[#Headers], 0)) ) )} -> 0 | I31: {=SUMPRODUCT( I$11:I$24, _xlfn.XLOOKUP( $A$11:$A$24, INDEX(GrainTypeMetricsTable[], ,1), INDEX(GrainTypeMetricsTable[], , MATCH($A31, GrainTypeMetricsTable[#Headers], 0)) ) )} -> 0 | ... M31: {=SUMPRODUCT( M$11:M$24, _xlfn.XLOOKUP( $A$11:$A$24, INDEX(GrainTypeMetricsTable[], ,1), INDEX(GrainTypeMetricsTable[], , MATCH($A31, GrainTypeMetricsTable[#Headers], 0)) ) )} -> 0 | N31: =SUM(B31:M31) -> 0 | O31: =N31/SUM($N$30:$N$40) -> #DIV/0!
A32: Halimeda | B32: {=SUMPRODUCT( B$11:B$24, _xlfn.XLOOKUP( $A$11:$A$24, INDEX(GrainTypeMetricsTable[], ,1), INDEX(GrainTypeMetricsTable[], , MATCH($A32, GrainTypeMetricsTable[#Headers], 0)) ) )} -> 0 | C32: {=SUMPRODUCT( C$11:C$24, _xlfn.XLOOKUP( $A$11:$A$24, INDEX(GrainTypeMetricsTable[], ,1), INDEX(GrainTypeMetricsTable[], , MATCH($A32, GrainTypeMetricsTable[#Headers], 0)) ) )} -> 0 | D32: {=SUMPRODUCT( D$11:D$24, _xlfn.XLOOKUP( $A$11:$A$24, INDEX(GrainTypeMetricsTable[], ,1), INDEX(GrainTypeMetricsTable[], , MATCH($A32, GrainTypeMetricsTable[#Headers], 0)) ) )} -> 0 | E32: {=SUMPRODUCT( E$11:E$24, _xlfn.XLOOKUP( $A$11:$A$24, INDEX(GrainTypeMetricsTable[], ,1), INDEX(GrainTypeMetricsTable[], , MATCH($A32, GrainTypeMetricsTable[#Headers], 0)) ) )} -> 0 | F32: {=SUMPRODUCT( F$11:F$24, _xlfn.XLOOKUP( $A$11:$A$24, INDEX(GrainTypeMetricsTable[], ,1), INDEX(GrainTypeMetricsTable[], , MATCH($A32, GrainTypeMetricsTable[#Headers], 0)) ) )} -> 0 | G32: {=SUMPRODUCT( G$11:G$24, _xlfn.XLOOKUP( $A$11:$A$24, INDEX(GrainTypeMetricsTable[], ,1), INDEX(GrainTypeMetricsTable[], , MATCH($A32, GrainTypeMetricsTable[#Headers], 0)) ) )} -> 0 | H32: {=SUMPRODUCT( H$11:H$24, _xlfn.XLOOKUP( $A$11:$A$24, INDEX(GrainTypeMetricsTable[], ,1), INDEX(GrainTypeMetricsTable[], , MATCH($A32, GrainTypeMetricsTable[#Headers], 0)) ) )} -> 0 | I32: {=SUMPRODUCT( I$11:I$24, _xlfn.XLOOKUP( $A$11:$A$24, INDEX(GrainTypeMetricsTable[], ,1), INDEX(GrainTypeMetricsTable[], , MATCH($A32, GrainTypeMetricsTable[#Headers], 0)) ) )} -> 0 | ... M32: {=SUMPRODUCT( M$11:M$24, _xlfn.XLOOKUP( $A$11:$A$24, INDEX(GrainTypeMetricsTable[], ,1), INDEX(GrainTypeMetricsTable[], , MATCH($A32, GrainTypeMetricsTable[#Headers], 0)) ) )} -> 0 | N32: =SUM(B32:M32) -> 0 | O32: =N32/SUM($N$30:$N$40) -> #DIV/0!
A33: Other calcareous green algae | B33: {=SUMPRODUCT( B$11:B$24, _xlfn.XLOOKUP( $A$11:$A$24, INDEX(GrainTypeMetricsTable[], ,1), INDEX(GrainTypeMetricsTable[], , MATCH($A33, GrainTypeMetricsTable[#Headers], 0)) ) )} -> 0 | C33: {=SUMPRODUCT( C$11:C$24, _xlfn.XLOOKUP( $A$11:$A$24, INDEX(GrainTypeMetricsTable[], ,1), INDEX(GrainTypeMetricsTable[], , MATCH($A33, GrainTypeMetricsTable[#Headers], 0)) ) )} -> 0 | D33: {=SUMPRODUCT( D$11:D$24, _xlfn.XLOOKUP( $A$11:$A$24, INDEX(GrainTypeMetricsTable[], ,1), INDEX(GrainTypeMetricsTable[], , MATCH($A33, GrainTypeMetricsTable[#Headers], 0)) ) )} -> 0 | E33: {=SUMPRODUCT( E$11:E$24, _xlfn.XLOOKUP( $A$11:$A$24, INDEX(GrainTypeMetricsTable[], ,1), INDEX(GrainTypeMetricsTable[], , MATCH($A33, GrainTypeMetricsTable[#Headers], 0)) ) )} -> 0 | F33: {=SUMPRODUCT( F$11:F$24, _xlfn.XLOOKUP( $A$11:$A$24, INDEX(GrainTypeMetricsTable[], ,1), INDEX(GrainTypeMetricsTable[], , MATCH($A33, GrainTypeMetricsTable[#Headers], 0)) ) )} -> 0 | G33: {=SUMPRODUCT( G$11:G$24, _xlfn.XLOOKUP( $A$11:$A$24, INDEX(GrainTypeMetricsTable[], ,1), INDEX(GrainTypeMetricsTable[], , MATCH($A33, GrainTypeMetricsTable[#Headers], 0)) ) )} -> 0 | H33: {=SUMPRODUCT( H$11:H$24, _xlfn.XLOOKUP( $A$11:$A$24, INDEX(GrainTypeMetricsTable[], ,1), INDEX(GrainTypeMetricsTable[], , MATCH($A33, GrainTypeMetricsTable[#Headers], 0)) ) )} -> 0 | I33: {=SUMPRODUCT( I$11:I$24, _xlfn.XLOOKUP( $A$11:$A$24, INDEX(GrainTypeMetricsTable[], ,1), INDEX(GrainTypeMetricsTable[], , MATCH($A33, GrainTypeMetricsTable[#Headers], 0)) ) )} -> 0 | ... M33: {=SUMPRODUCT( M$11:M$24, _xlfn.XLOOKUP( $A$11:$A$24, INDEX(GrainTypeMetricsTable[], ,1), INDEX(GrainTypeMetricsTable[], , MATCH($A33, GrainTypeMetricsTable[#Headers], 0)) ) )} -> 0 | N33: =SUM(B33:M33) -> 0 | O33: =N33/SUM($N$30:$N$40) -> #DIV/0!
A34: Foraminifera | B34: {=SUMPRODUCT( B$11:B$24, _xlfn.XLOOKUP( $A$11:$A$24, INDEX(GrainTypeMetricsTable[], ,1), INDEX(GrainTypeMetricsTable[], , MATCH($A34, GrainTypeMetricsTable[#Headers], 0)) ) )} -> 0 | C34: {=SUMPRODUCT( C$11:C$24, _xlfn.XLOOKUP( $A$11:$A$24, INDEX(GrainTypeMetricsTable[], ,1), INDEX(GrainTypeMetricsTable[], , MATCH($A34, GrainTypeMetricsTable[#Headers], 0)) ) )} -> 0 | D34: {=SUMPRODUCT( D$11:D$24, _xlfn.XLOOKUP( $A$11:$A$24, INDEX(GrainTypeMetricsTable[], ,1), INDEX(GrainTypeMetricsTable[], , MATCH($A34, GrainTypeMetricsTable[#Headers], 0)) ) )} -> 0 | E34: {=SUMPRODUCT( E$11:E$24, _xlfn.XLOOKUP( $A$11:$A$24, INDEX(GrainTypeMetricsTable[], ,1), INDEX(GrainTypeMetricsTable[], , MATCH($A34, GrainTypeMetricsTable[#Headers], 0)) ) )} -> 0 | F34: {=SUMPRODUCT( F$11:F$24, _xlfn.XLOOKUP( $A$11:$A$24, INDEX(GrainTypeMetricsTable[], ,1), INDEX(GrainTypeMetricsTable[], , MATCH($A34, GrainTypeMetricsTable[#Headers], 0)) ) )} -> 0 | G34: {=SUMPRODUCT( G$11:G$24, _xlfn.XLOOKUP( $A$11:$A$24, INDEX(GrainTypeMetricsTable[], ,1), INDEX(GrainTypeMetricsTable[], , MATCH($A34, GrainTypeMetricsTable[#Headers], 0)) ) )} -> 0 | H34: {=SUMPRODUCT( H$11:H$24, _xlfn.XLOOKUP( $A$11:$A$24, INDEX(GrainTypeMetricsTable[], ,1), INDEX(GrainTypeMetricsTable[], , MATCH($A34, GrainTypeMetricsTable[#Headers], 0)) ) )} -> 0 | I34: {=SUMPRODUCT( I$11:I$24, _xlfn.XLOOKUP( $A$11:$A$24, INDEX(GrainTypeMetricsTable[], ,1), INDEX(GrainTypeMetricsTable[], , MATCH($A34, GrainTypeMetricsTable[#Headers], 0)) ) )} -> 0 | ... M34: {=SUMPRODUCT( M$11:M$24, _xlfn.XLOOKUP( $A$11:$A$24, INDEX(GrainTypeMetricsTable[], ,1), INDEX(GrainTypeMetricsTable[], , MATCH($A34, GrainTypeMetricsTable[#Headers], 0)) ) )} -> 0 | N34: =SUM(B34:M34) -> 0 | O34: =N34/SUM($N$30:$N$40) -> #DIV/0!
A35: Molluscs (bivalves and gastropods) | B35: {=SUMPRODUCT( B$11:B$24, _xlfn.XLOOKUP( $A$11:$A$24, INDEX(GrainTypeMetricsTable[], ,1), INDEX(GrainTypeMetricsTable[], , MATCH($A35, GrainTypeMetricsTable[#Headers], 0)) ) )} -> 0 | C35: {=SUMPRODUCT( C$11:C$24, _xlfn.XLOOKUP( $A$11:$A$24, INDEX(GrainTypeMetricsTable[], ,1), INDEX(GrainTypeMetricsTable[], , MATCH($A35, GrainTypeMetricsTable[#Headers], 0)) ) )} -> 0 | D35: {=SUMPRODUCT( D$11:D$24, _xlfn.XLOOKUP( $A$11:$A$24, INDEX(GrainTypeMetricsTable[], ,1), INDEX(GrainTypeMetricsTable[], , MATCH($A35, GrainTypeMetricsTable[#Headers], 0)) ) )} -> 0 | E35: {=SUMPRODUCT( E$11:E$24, _xlfn.XLOOKUP( $A$11:$A$24, INDEX(GrainTypeMetricsTable[], ,1), INDEX(GrainTypeMetricsTable[], , MATCH($A35, GrainTypeMetricsTable[#Headers], 0)) ) )} -> 0 | F35: {=SUMPRODUCT( F$11:F$24, _xlfn.XLOOKUP( $A$11:$A$24, INDEX(GrainTypeMetricsTable[], ,1), INDEX(GrainTypeMetricsTable[], , MATCH($A35, GrainTypeMetricsTable[#Headers], 0)) ) )} -> 0 | G35: {=SUMPRODUCT( G$11:G$24, _xlfn.XLOOKUP( $A$11:$A$24, INDEX(GrainTypeMetricsTable[], ,1), INDEX(GrainTypeMetricsTable[], , MATCH($A35, GrainTypeMetricsTable[#Headers], 0)) ) )} -> 0 | H35: {=SUMPRODUCT( H$11:H$24, _xlfn.XLOOKUP( $A$11:$A$24, INDEX(GrainTypeMetricsTable[], ,1), INDEX(GrainTypeMetricsTable[], , MATCH($A35, GrainTypeMetricsTable[#Headers], 0)) ) )} -> 0 | I35: {=SUMPRODUCT( I$11:I$24, _xlfn.XLOOKUP( $A$11:$A$24, INDEX(GrainTypeMetricsTable[], ,1), INDEX(GrainTypeMetricsTable[], , MATCH($A35, GrainTypeMetricsTable[#Headers], 0)) ) )} -> 0 | ... M35: {=SUMPRODUCT( M$11:M$24, _xlfn.XLOOKUP( $A$11:$A$24, INDEX(GrainTypeMetricsTable[], ,1), INDEX(GrainTypeMetricsTable[], , MATCH($A35, GrainTypeMetricsTable[#Headers], 0)) ) )} -> 0 | N35: =SUM(B35:M35) -> 0 | O35: =N35/SUM($N$30:$N$40) -> #DIV/0!
A36: Urchin skeleton | B36: {=SUMPRODUCT( B$11:B$24, _xlfn.XLOOKUP( $A$11:$A$24, INDEX(GrainTypeMetricsTable[], ,1), INDEX(GrainTypeMetricsTable[], , MATCH($A36, GrainTypeMetricsTable[#Headers], 0)) ) )} -> 0 | C36: {=SUMPRODUCT( C$11:C$24, _xlfn.XLOOKUP( $A$11:$A$24, INDEX(GrainTypeMetricsTable[], ,1), INDEX(GrainTypeMetricsTable[], , MATCH($A36, GrainTypeMetricsTable[#Headers], 0)) ) )} -> 0 | D36: {=SUMPRODUCT( D$11:D$24, _xlfn.XLOOKUP( $A$11:$A$24, INDEX(GrainTypeMetricsTable[], ,1), INDEX(GrainTypeMetricsTable[], , MATCH($A36, GrainTypeMetricsTable[#Headers], 0)) ) )} -> 0 | E36: {=SUMPRODUCT( E$11:E$24, _xlfn.XLOOKUP( $A$11:$A$24, INDEX(GrainTypeMetricsTable[], ,1), INDEX(GrainTypeMetricsTable[], , MATCH($A36, GrainTypeMetricsTable[#Headers], 0)) ) )} -> 0 | F36: {=SUMPRODUCT( F$11:F$24, _xlfn.XLOOKUP( $A$11:$A$24, INDEX(GrainTypeMetricsTable[], ,1), INDEX(GrainTypeMetricsTable[], , MATCH($A36, GrainTypeMetricsTable[#Headers], 0)) ) )} -> 0 | G36: {=SUMPRODUCT( G$11:G$24, _xlfn.XLOOKUP( $A$11:$A$24, INDEX(GrainTypeMetricsTable[], ,1), INDEX(GrainTypeMetricsTable[], , MATCH($A36, GrainTypeMetricsTable[#Headers], 0)) ) )} -> 0 | H36: {=SUMPRODUCT( H$11:H$24, _xlfn.XLOOKUP( $A$11:$A$24, INDEX(GrainTypeMetricsTable[], ,1), INDEX(GrainTypeMetricsTable[], , MATCH($A36, GrainTypeMetricsTable[#Headers], 0)) ) )} -> 0 | I36: {=SUMPRODUCT( I$11:I$24, _xlfn.XLOOKUP( $A$11:$A$24, INDEX(GrainTypeMetricsTable[], ,1), INDEX(GrainTypeMetricsTable[], , MATCH($A36, GrainTypeMetricsTable[#Headers], 0)) ) )} -> 0 | ... M36: {=SUMPRODUCT( M$11:M$24, _xlfn.XLOOKUP( $A$11:$A$24, INDEX(GrainTypeMetricsTable[], ,1), INDEX(GrainTypeMetricsTable[], , MATCH($A36, GrainTypeMetricsTable[#Headers], 0)) ) )} -> 0 | N36: =SUM(B36:M36) -> 0 | O36: =N36/SUM($N$30:$N$40) -> #DIV/0!
A37: Bryozoan | B37: {=SUMPRODUCT( B$11:B$24, _xlfn.XLOOKUP( $A$11:$A$24, INDEX(GrainTypeMetricsTable[], ,1), INDEX(GrainTypeMetricsTable[], , MATCH($A37, GrainTypeMetricsTable[#Headers], 0)) ) )} -> 0 | C37: {=SUMPRODUCT( C$11:C$24, _xlfn.XLOOKUP( $A$11:$A$24, INDEX(GrainTypeMetricsTable[], ,1), INDEX(GrainTypeMetricsTable[], , MATCH($A37, GrainTypeMetricsTable[#Headers], 0)) ) )} -> 0 | D37: {=SUMPRODUCT( D$11:D$24, _xlfn.XLOOKUP( $A$11:$A$24, INDEX(GrainTypeMetricsTable[], ,1), INDEX(GrainTypeMetricsTable[], , MATCH($A37, GrainTypeMetricsTable[#Headers], 0)) ) )} -> 0 | E37: {=SUMPRODUCT( E$11:E$24, _xlfn.XLOOKUP( $A$11:$A$24, INDEX(GrainTypeMetricsTable[], ,1), INDEX(GrainTypeMetricsTable[], , MATCH($A37, GrainTypeMetricsTable[#Headers], 0)) ) )} -> 0 | F37: {=SUMPRODUCT( F$11:F$24, _xlfn.XLOOKUP( $A$11:$A$24, INDEX(GrainTypeMetricsTable[], ,1), INDEX(GrainTypeMetricsTable[], , MATCH($A37, GrainTypeMetricsTable[#Headers], 0)) ) )} -> 0 | G37: {=SUMPRODUCT( G$11:G$24, _xlfn.XLOOKUP( $A$11:$A$24, INDEX(GrainTypeMetricsTable[], ,1), INDEX(GrainTypeMetricsTable[], , MATCH($A37, GrainTypeMetricsTable[#Headers], 0)) ) )} -> 0 | H37: {=SUMPRODUCT( H$11:H$24, _xlfn.XLOOKUP( $A$11:$A$24, INDEX(GrainTypeMetricsTable[], ,1), INDEX(GrainTypeMetricsTable[], , MATCH($A37, GrainTypeMetricsTable[#Headers], 0)) ) )} -> 0 | I37: {=SUMPRODUCT( I$11:I$24, _xlfn.XLOOKUP( $A$11:$A$24, INDEX(GrainTypeMetricsTable[], ,1), INDEX(GrainTypeMetricsTable[], , MATCH($A37, GrainTypeMetricsTable[#Headers], 0)) ) )} -> 0 | ... M37: {=SUMPRODUCT( M$11:M$24, _xlfn.XLOOKUP( $A$11:$A$24, INDEX(GrainTypeMetricsTable[], ,1), INDEX(GrainTypeMetricsTable[], , MATCH($A37, GrainTypeMetricsTable[#Headers], 0)) ) )} -> 0 | N37: =SUM(B37:M37) -> 0 | O37: =N37/SUM($N$30:$N$40) -> #DIV/0!
A38: Brittle star skeleton | B38: {=SUMPRODUCT( B$11:B$24, _xlfn.XLOOKUP( $A$11:$A$24, INDEX(GrainTypeMetricsTable[], ,1), INDEX(GrainTypeMetricsTable[], , MATCH($A38, GrainTypeMetricsTable[#Headers], 0)) ) )} -> 0 | C38: {=SUMPRODUCT( C$11:C$24, _xlfn.XLOOKUP( $A$11:$A$24, INDEX(GrainTypeMetricsTable[], ,1), INDEX(GrainTypeMetricsTable[], , MATCH($A38, GrainTypeMetricsTable[#Headers], 0)) ) )} -> 0 | D38: {=SUMPRODUCT( D$11:D$24, _xlfn.XLOOKUP( $A$11:$A$24, INDEX(GrainTypeMetricsTable[], ,1), INDEX(GrainTypeMetricsTable[], , MATCH($A38, GrainTypeMetricsTable[#Headers], 0)) ) )} -> 0 | E38: {=SUMPRODUCT( E$11:E$24, _xlfn.XLOOKUP( $A$11:$A$24, INDEX(GrainTypeMetricsTable[], ,1), INDEX(GrainTypeMetricsTable[], , MATCH($A38, GrainTypeMetricsTable[#Headers], 0)) ) )} -> 0 | F38: {=SUMPRODUCT( F$11:F$24, _xlfn.XLOOKUP( $A$11:$A$24, INDEX(GrainTypeMetricsTable[], ,1), INDEX(GrainTypeMetricsTable[], , MATCH($A38, GrainTypeMetricsTable[#Headers], 0)) ) )} -> 0 | G38: {=SUMPRODUCT( G$11:G$24, _xlfn.XLOOKUP( $A$11:$A$24, INDEX(GrainTypeMetricsTable[], ,1), INDEX(GrainTypeMetricsTable[], , MATCH($A38, GrainTypeMetricsTable[#Headers], 0)) ) )} -> 0 | H38: {=SUMPRODUCT( H$11:H$24, _xlfn.XLOOKUP( $A$11:$A$24, INDEX(GrainTypeMetricsTable[], ,1), INDEX(GrainTypeMetricsTable[], , MATCH($A38, GrainTypeMetricsTable[#Headers], 0)) ) )} -> 0 | I38: {=SUMPRODUCT( I$11:I$24, _xlfn.XLOOKUP( $A$11:$A$24, INDEX(GrainTypeMetricsTable[], ,1), INDEX(GrainTypeMetricsTable[], , MATCH($A38, GrainTypeMetricsTable[#Headers], 0)) ) )} -> 0 | ... M38: {=SUMPRODUCT( M$11:M$24, _xlfn.XLOOKUP( $A$11:$A$24, INDEX(GrainTypeMetricsTable[], ,1), INDEX(GrainTypeMetricsTable[], , MATCH($A38, GrainTypeMetricsTable[#Headers], 0)) ) )} -> 0 | N38: =SUM(B38:M38) -> 0 | O38: =N38/SUM($N$30:$N$40) -> #DIV/0!
A39: Serpulids and worm tubes | B39: {=SUMPRODUCT( B$11:B$24, _xlfn.XLOOKUP( $A$11:$A$24, INDEX(GrainTypeMetricsTable[], ,1), INDEX(GrainTypeMetricsTable[], , MATCH($A39, GrainTypeMetricsTable[#Headers], 0)) ) )} -> 0 | C39: {=SUMPRODUCT( C$11:C$24, _xlfn.XLOOKUP( $A$11:$A$24, INDEX(GrainTypeMetricsTable[], ,1), INDEX(GrainTypeMetricsTable[], , MATCH($A39, GrainTypeMetricsTable[#Headers], 0)) ) )} -> 0 | D39: {=SUMPRODUCT( D$11:D$24, _xlfn.XLOOKUP( $A$11:$A$24, INDEX(GrainTypeMetricsTable[], ,1), INDEX(GrainTypeMetricsTable[], , MATCH($A39, GrainTypeMetricsTable[#Headers], 0)) ) )} -> 0 | E39: {=SUMPRODUCT( E$11:E$24, _xlfn.XLOOKUP( $A$11:$A$24, INDEX(GrainTypeMetricsTable[], ,1), INDEX(GrainTypeMetricsTable[], , MATCH($A39, GrainTypeMetricsTable[#Headers], 0)) ) )} -> 0 | F39: {=SUMPRODUCT( F$11:F$24, _xlfn.XLOOKUP( $A$11:$A$24, INDEX(GrainTypeMetricsTable[], ,1), INDEX(GrainTypeMetricsTable[], , MATCH($A39, GrainTypeMetricsTable[#Headers], 0)) ) )} -> 0 | G39: {=SUMPRODUCT( G$11:G$24, _xlfn.XLOOKUP( $A$11:$A$24, INDEX(GrainTypeMetricsTable[], ,1), INDEX(GrainTypeMetricsTable[], , MATCH($A39, GrainTypeMetricsTable[#Headers], 0)) ) )} -> 0 | H39: {=SUMPRODUCT( H$11:H$24, _xlfn.XLOOKUP( $A$11:$A$24, INDEX(GrainTypeMetricsTable[], ,1), INDEX(GrainTypeMetricsTable[], , MATCH($A39, GrainTypeMetricsTable[#Headers], 0)) ) )} -> 0 | I39: {=SUMPRODUCT( I$11:I$24, _xlfn.XLOOKUP( $A$11:$A$24, INDEX(GrainTypeMetricsTable[], ,1), INDEX(GrainTypeMetricsTable[], , MATCH($A39, GrainTypeMetricsTable[#Headers], 0)) ) )} -> 0 | ... M39: {=SUMPRODUCT( M$11:M$24, _xlfn.XLOOKUP( $A$11:$A$24, INDEX(GrainTypeMetricsTable[], ,1), INDEX(GrainTypeMetricsTable[], , MATCH($A39, GrainTypeMetricsTable[#Headers], 0)) ) )} -> 0 | N39: =SUM(B39:M39) -> 0 | O39: =N39/SUM($N$30:$N$40) -> #DIV/0!
A40: Other | B40: {=SUMPRODUCT( B$11:B$24, _xlfn.XLOOKUP( $A$11:$A$24, INDEX(GrainTypeMetricsTable[], ,1), INDEX(GrainTypeMetricsTable[], , MATCH($A40, GrainTypeMetricsTable[#Headers], 0)) ) )} -> 0 | C40: {=SUMPRODUCT( C$11:C$24, _xlfn.XLOOKUP( $A$11:$A$24, INDEX(GrainTypeMetricsTable[], ,1), INDEX(GrainTypeMetricsTable[], , MATCH($A40, GrainTypeMetricsTable[#Headers], 0)) ) )} -> 0 | D40: {=SUMPRODUCT( D$11:D$24, _xlfn.XLOOKUP( $A$11:$A$24, INDEX(GrainTypeMetricsTable[], ,1), INDEX(GrainTypeMetricsTable[], , MATCH($A40, GrainTypeMetricsTable[#Headers], 0)) ) )} -> 0 | E40: {=SUMPRODUCT( E$11:E$24, _xlfn.XLOOKUP( $A$11:$A$24, INDEX(GrainTypeMetricsTable[], ,1), INDEX(GrainTypeMetricsTable[], , MATCH($A40, GrainTypeMetricsTable[#Headers], 0)) ) )} -> 0 | F40: {=SUMPRODUCT( F$11:F$24, _xlfn.XLOOKUP( $A$11:$A$24, INDEX(GrainTypeMetricsTable[], ,1), INDEX(GrainTypeMetricsTable[], , MATCH($A40, GrainTypeMetricsTable[#Headers], 0)) ) )} -> 0 | G40: {=SUMPRODUCT( G$11:G$24, _xlfn.XLOOKUP( $A$11:$A$24, INDEX(GrainTypeMetricsTable[], ,1), INDEX(GrainTypeMetricsTable[], , MATCH($A40, GrainTypeMetricsTable[#Headers], 0)) ) )} -> 0 | H40: {=SUMPRODUCT( H$11:H$24, _xlfn.XLOOKUP( $A$11:$A$24, INDEX(GrainTypeMetricsTable[], ,1), INDEX(GrainTypeMetricsTable[], , MATCH($A40, GrainTypeMetricsTable[#Headers], 0)) ) )} -> 0 | I40: {=SUMPRODUCT( I$11:I$24, _xlfn.XLOOKUP( $A$11:$A$24, INDEX(GrainTypeMetricsTable[], ,1), INDEX(GrainTypeMetricsTable[], , MATCH($A40, GrainTypeMetricsTable[#Headers], 0)) ) )} -> 0 | ... M40: {=SUMPRODUCT( M$11:M$24, _xlfn.XLOOKUP( $A$11:$A$24, INDEX(GrainTypeMetricsTable[], ,1), INDEX(GrainTypeMetricsTable[], , MATCH($A40, GrainTypeMetricsTable[#Headers], 0)) ) )} -> 0 | N40: =SUM(B40:M40) -> 0 | O40: =N40/SUM($N$30:$N$40) -> #DIV/0!
C61: Articulated Coralline Algae
C62: Articulated Coralline Algae | E62: =IF(C61=C62,1,0) -> 1

Sheet Substrate
A1: SUBSTRATE | B1: Enter data into pale blue boxes only
A3: Transect number
A4: Number of quadrats
A5: Quadrat size (m2) | C5: e.g . 50 x 50 cm = 0.25m²
A7: 1. DATA ENTRY - Percent cover per quadrat | C7: ENTER 0 IF CATEGORY IS NOT PRESENT | M7: Proportional cover
A8: Quadrat | C8: Live coral | D8: Dead coral w/ CCA | E8: Dead coral w/turf | F8: Macroalgae | G8: Rubble | H8: Sand | I8: Seagrass | J8: Other | K8: Total | M8: Live coral | N8: Dead coral w/ CCA | O8: Dead coral w/turf | P8: Macroalgae | Q8: Rubble | R8: Sand | S8: Seagrass | T8: Other
A9: Quadrat 1 | K9: =SUM(C9:J9) -> 0 | M9: =IFERROR(C9/$K9,"") | N9: =IFERROR(D9/$K9,"") | O9: =IFERROR(E9/$K9,"") | P9: =IFERROR(F9/$K9,"") | Q9: =IFERROR(G9/$K9,"") | R9: =IFERROR(H9/$K9,"") | S9: =IFERROR(I9/$K9,"") | T9: =IFERROR(J9/$K9,"")
A10: Quadrat 2 | K10: =SUM(C10:J10) -> 0 | M10: =IFERROR(C10/$K10,"") | N10: =IFERROR(D10/$K10,"") | O10: =IFERROR(E10/$K10,"") | P10: =IFERROR(F10/$K10,"") | Q10: =IFERROR(G10/$K10,"") | R10: =IFERROR(H10/$K10,"") | S10: =IFERROR(I10/$K10,"") | T10: =IFERROR(J10/$K10,"")
A11: Quadrat 3 | K11: =SUM(C11:J11) -> 0 | M11: =IFERROR(C11/$K11,"") | N11: =IFERROR(D11/$K11,"") | O11: =IFERROR(E11/$K11,"") | P11: =IFERROR(F11/$K11,"") | Q11: =IFERROR(G11/$K11,"") | R11: =IFERROR(H11/$K11,"") | S11: =IFERROR(I11/$K11,"") | T11: =IFERROR(J11/$K11,"")
A12: Quadrat 4 | K12: =SUM(C12:J12) -> 0 | M12: =IFERROR(C12/$K12,"") | N12: =IFERROR(D12/$K12,"") | O12: =IFERROR(E12/$K12,"") | P12: =IFERROR(F12/$K12,"") | Q12: =IFERROR(G12/$K12,"") | R12: =IFERROR(H12/$K12,"") | S12: =IFERROR(I12/$K12,"") | T12: =IFERROR(J12/$K12,"")
A13: Quadrat 5 | K13: =SUM(C13:J13) -> 0 | M13: =IFERROR(C13/$K13,"") | N13: =IFERROR(D13/$K13,"") | O13: =IFERROR(E13/$K13,"") | P13: =IFERROR(F13/$K13,"") | Q13: =IFERROR(G13/$K13,"") | R13: =IFERROR(H13/$K13,"") | S13: =IFERROR(I13/$K13,"") | T13: =IFERROR(J13/$K13,"")
A14: Quadrat 6 | K14: =SUM(C14:J14) -> 0 | M14: =IFERROR(C14/$K14,"") | N14: =IFERROR(D14/$K14,"") | O14: =IFERROR(E14/$K14,"") | P14: =IFERROR(F14/$K14,"") | Q14: =IFERROR(G14/$K14,"") | R14: =IFERROR(H14/$K14,"") | S14: =IFERROR(I14/$K14,"") | T14: =IFERROR(J14/$K14,"")
A15: Quadrat 7 | K15: =SUM(C15:J15) -> 0 | M15: =IFERROR(C15/$K15,"") | N15: =IFERROR(D15/$K15,"") | O15: =IFERROR(E15/$K15,"") | P15: =IFERROR(F15/$K15,"") | Q15: =IFERROR(G15/$K15,"") | R15: =IFERROR(H15/$K15,"") | S15: =IFERROR(I15/$K15,"") | T15: =IFERROR(J15/$K15,"")
A16: Quadrat 8 | K16: =SUM(C16:J16) -> 0 | M16: =IFERROR(C16/$K16,"") | N16: =IFERROR(D16/$K16,"") | O16: =IFERROR(E16/$K16,"") | P16: =IFERROR(F16/$K16,"") | Q16: =IFERROR(G16/$K16,"") | R16: =IFERROR(H16/$K16,"") | S16: =IFERROR(I16/$K16,"") | T16: =IFERROR(J16/$K16,"")
A17: Quadrat 9 | K17: =SUM(C17:J17) -> 0 | M17: =IFERROR(C17/$K17,"") | N17: =IFERROR(D17/$K17,"") | O17: =IFERROR(E17/$K17,"") | P17: =IFERROR(F17/$K17,"") | Q17: =IFERROR(G17/$K17,"") | R17: =IFERROR(H17/$K17,"") | S17: =IFERROR(I17/$K17,"") | T17: =IFERROR(J17/$K17,"")
A18: Quadrat 10 | K18: =SUM(C18:J18) -> 0 | M18: =IFERROR(C18/$K18,"") | N18: =IFERROR(D18/$K18,"") | O18: =IFERROR(E18/$K18,"") | P18: =IFERROR(F18/$K18,"") | Q18: =IFERROR(G18/$K18,"") | R18: =IFERROR(H18/$K18,"") | S18: =IFERROR(I18/$K18,"") | T18: =IFERROR(J18/$K18,"")
B19: Mean | C19: =IF($B$3="","",IFERROR((AVERAGE(C9:C18)),0)) | D19: =IF($B$3="","",IFERROR((AVERAGE(D9:D18)),0)) | E19: =IF($B$3="","",IFERROR((AVERAGE(E9:E18)),0)) | F19: =IF($B$3="","",IFERROR((AVERAGE(F9:F18)),0)) | G19: =IF($B$3="","",IFERROR((AVERAGE(G9:G18)),0)) | H19: =IF($B$3="","",IFERROR((AVERAGE(H9:H18)),0)) | I19: =IF($B$3="","",IFERROR((AVERAGE(I9:I18)),0)) | J19: =IF($B$3="","",IFERROR((AVERAGE(J9:J18)),0)) | K19: =SUM(C19:J19) -> 0 | L19: Mean | M19: =AVERAGE(M9:M18) -> #DIV/0! | N19: =AVERAGE(N9:N18) -> #DIV/0! | O19: =AVERAGE(O9:O18) -> #DIV/0! | P19: =AVERAGE(P9:P18) -> #DIV/0! | Q19: =AVERAGE(Q9:Q18) -> #DIV/0! | R19: =AVERAGE(R9:R18) -> #DIV/0! | S19: =AVERAGE(S9:S18) -> #DIV/0! | T19: =AVERAGE(T9:T18) -> #DIV/0!
A21: 2. DATA ENTRY - Rugosity
A22: Quadrat | B22: Width of quadrat (cm) | C22: Profile measure 1 (cm) | D22: Profile measure 2 (cm) | E22: Profile measure 3 (cm) | F22: Rugosity 1 | G22: Rugosity 2 | H22: Rugosity 3 | I22: Mean rugosity
A23: Quadrat 1 | F23: =IF(C23="","",C23/$B23) | G23: =IF(D23="","",D23/$B23) | H23: =IF(E23="","",E23/$B23) | I23: =IF($B$3="","",(IFERROR(AVERAGE(F23:H23),"")))
A24: Quadrat 2 | F24: =IF(C24="","",C24/$B24) | G24: =IF(D24="","",D24/$B24) | H24: =IF(E24="","",E24/$B24) | I24: =IF($B$3="","",(IFERROR(AVERAGE(F24:H24),"")))
A25: Quadrat 3 | F25: =IF(C25="","",C25/$B25) | G25: =IF(D25="","",D25/$B25) | H25: =IF(E25="","",E25/$B25) | I25: =IF($B$3="","",(IFERROR(AVERAGE(F25:H25),"")))
A26: Quadrat 4 | F26: =IF(C26="","",C26/$B26) | G26: =IF(D26="","",D26/$B26) | H26: =IF(E26="","",E26/$B26) | I26: =IF($B$3="","",(IFERROR(AVERAGE(F26:H26),"")))
A27: Quadrat 5 | F27: =IF(C27="","",C27/$B27) | G27: =IF(D27="","",D27/$B27) | H27: =IF(E27="","",E27/$B27) | I27: =IF($B$3="","",(IFERROR(AVERAGE(F27:H27),"")))
A28: Quadrat 6 | F28: =IF(C28="","",C28/$B28) | G28: =IF(D28="","",D28/$B28) | H28: =IF(E28="","",E28/$B28) | I28: =IF($B$3="","",(IFERROR(AVERAGE(F28:H28),"")))
A29: Quadrat 7 | F29: =IF(C29="","",C29/$B29) | G29: =IF(D29="","",D29/$B29) | H29: =IF(E29="","",E29/$B29) | I29: =IF($B$3="","",(IFERROR(AVERAGE(F29:H29),"")))
A30: Quadrat 8 | F30: =IF(C30="","",C30/$B30) | G30: =IF(D30="","",D30/$B30) | H30: =IF(E30="","",E30/$B30) | I30: =IF($B$3="","",(IFERROR(AVERAGE(F30:H30),"")))
A31: Quadrat 9 | F31: =IF(C31="","",C31/$B31) | G31: =IF(D31="","",D31/$B31) | H31: =IF(E31="","",E31/$B31) | I31: =IF($B$3="","",(IFERROR(AVERAGE(F31:H31),"")))
A32: Quadrat 10 | F32: =IF(C32="","",C32/$B32) | G32: =IF(D32="","",D32/$B32) | H32: =IF(E32="","",E32/$B32) | I32: =IF($B$3="","",(IFERROR(AVERAGE(F32:H32),"")))
A33: Mean | H33: Mean | I33: =IF($B$3= "", "",AVERAGE(I23:I32))
A36: 3. DATA ENTRY - Framework dimensions and large rubble presence
A37: Quadrat | B37: Framework height | C37: Framework width | D37: Framework depth | E37: Rubble over 15cm present?
A38: Quadrat 1
A39: Quadrat 2
A40: Quadrat 3
A41: Quadrat 4
A42: Quadrat 5
A43: Quadrat 6
A44: Quadrat 7
A45: Quadrat 8
A46: Quadrat 9
A47: Quadrat 10

Sheet Urchins Bioerosion
A1: BIOERODING URCHINS | B1: Enter data into pale blue boxes only
A3: Transect number
A4: Number of quadrats
A5: Quadrat size (m2) | C5: e.g . 50 x 50 cm = 0.25m²
A7: Transect area (m2) | B7: =B4*B5 -> 0
A9: 1. DATA ENTRY - Numbers of individuals/size class/transect | D9: SUM # SEA URCHINS OVER ALL QUADRATS
A10: Species | B10: Test diameter (mm)
B11: 0-20 | C11: 21-40 | D11: 41-60 | E11: 61-80 | F11: 81-100 | G11: >100 | H11: 121-140 | I11: >140
A12: Diadema antillarum
A13: Echinometra lucunter
A14: Echinometra viridis
A15: Eucidaris tribuloides
A16: Other species
A18: 2. Size class-specific erosion rates (g ind-1 d-1)
A19: Species | B19: Test diameter (mm)
B20: 0-20 | C20: 21-40 | D20: 41-60 | E20: 61-80 | F20: 81-100 | G20: >100 | H20: 121-140* | I20: >140* | J20: Rates used from:
A21: Diadema antillarum | B21: 0.089862437 | C21: 0.60336208 | D21: 1.617837 | E21: 3.1332871 | F21: 4.7486192 | G21: 4.7486192 | H21: 4.7486192 | I21: 4.7486192 | J21: from Hale et al. (in prep) - Mexico data | M21: NB. >100 mm uses 81-100 rates
A22: Echinometra lucunter | B22: 0.006293222 | C22: 0.042254493 | D22: 0.11329993 | E22: 0.11329993 | F22: 0.11329993 | G22: 0.11329993 | H22: 0.11329993 | I22: 0.11329993 | J22: from Hale et al. (in prep) - Mexico data | M22: NB. >60 mm uses 41-60 rates
A23: Echinometra viridis | B23: 0.006293222 | C23: 0.042254493 | D23: 0.11329993 | E23: 0.11329993 | F23: 0.11329993 | G23: 0.11329993 | H23: 0.11329993 | I23: 0.11329993 | J23: from Hale et al. (in prep) - Mexico data | M23: NB. >60 mm uses 41-60 rates
A24: Eucidaris tribuloides | B24: 0.023916358 | C24: 0.16058126 | D24: 0.37049522 | E24: 0.37049522 | F24: 0.37049522 | G24: 0.37049522 | H24: 0.37049522 | I24: 0.37049522 | J24: from Hale et al. (in prep) - Mexico data | M24: NB. >60 mm uses 41-60 rates
A25: Other species | B25: =AVERAGE(B21:B24) -> 0.03159131 | C25: =AVERAGE(C21:C24) -> 0.21211308 | D25: =AVERAGE(D21:D24) -> 0.55373301 | E25: =AVERAGE(E21:E24) -> 0.93259555 | F25: =AVERAGE(F21:F24) -> 1.3364286 | G25: =AVERAGE(G21:G24) -> 1.3364286 | H25: =AVERAGE(H21:H24) -> 1.3364286 | I25: =AVERAGE(I21:I24) -> 1.3364286 | J25: Average of other Caribbean species | M25: NB. >100 mm uses 81-100 rates
J26: * Due to a current paucity of rate data for very large (>100 mm) test diameter specimens, rates from the 81-100 mm test size class are presently applied to any specimens >100 mm in size for D. antillarum. Similarly for Echinometra lucunter, Echinometra viridis and Eucidaris tribuloides, there is a lack of data for individusals >60mm test diameter (as individuals this large were not encountered at the study sites). Therfore, rates from the 41-60mm test size class are applied to any indivduals larger than 60mm in test diameter.
A27: 3. Sediment generation rate per species/size class (kg m-2 yr-1) | G27: assumes all eroded framework is excreted as sediment
A28: Species | B28: Test diameter (mm)
B29: 0-20 | C29: 21-40 | D29: 41-60 | E29: 61-80 | F29: 81-100 | G29: >100 | H29: 121-140 | I29: >140
A30: Diadema antillarum | B30: =((B12*B21)*365)/1000/$B$7 -> #DIV/0! | C30: =((C12*C21)*365)/1000/$B$7 -> #DIV/0! | D30: =((D12*D21)*365)/1000/$B$7 -> #DIV/0! | E30: =((E12*E21)*365)/1000/$B$7 -> #DIV/0! | F30: =((F12*F21)*365)/1000/$B$7 -> #DIV/0! | G30: =((G12*G21)*365)/1000/$B$7 -> #DIV/0! | H30: =((H12*H21)*365)/1000/$B$7 -> #DIV/0! | I30: =((I12*I21)*365)/1000/$B$7 -> #DIV/0!
A31: Echinometra lucunter | B31: =((B13*B22)*365)/1000/$B$7 -> #DIV/0! | C31: =((C13*C22)*365)/1000/$B$7 -> #DIV/0! | D31: =((D13*D22)*365)/1000/$B$7 -> #DIV/0! | E31: =((E13*E22)*365)/1000/$B$7 -> #DIV/0! | F31: =((F13*F22)*365)/1000/$B$7 -> #DIV/0! | G31: =((G13*G22)*365)/1000/$B$7 -> #DIV/0! | H31: =((H13*H22)*365)/1000/$B$7 -> #DIV/0! | I31: =((I13*I22)*365)/1000/$B$7 -> #DIV/0!
A32: Echinometra viridis | B32: =((B14*B23)*365)/1000/$B$7 -> #DIV/0! | C32: =((C14*C23)*365)/1000/$B$7 -> #DIV/0! | D32: =((D14*D23)*365)/1000/$B$7 -> #DIV/0! | E32: =((E14*E23)*365)/1000/$B$7 -> #DIV/0! | F32: =((F14*F23)*365)/1000/$B$7 -> #DIV/0! | G32: =((G14*G23)*365)/1000/$B$7 -> #DIV/0! | H32: =((H14*H23)*365)/1000/$B$7 -> #DIV/0! | I32: =((I14*I23)*365)/1000/$B$7 -> #DIV/0!
A33: Eucidaris tribuloides | B33: =((B15*B24)*365)/1000/$B$7 -> #DIV/0! | C33: =((C15*C24)*365)/1000/$B$7 -> #DIV/0! | D33: =((D15*D24)*365)/1000/$B$7 -> #DIV/0! | E33: =((E15*E24)*365)/1000/$B$7 -> #DIV/0! | F33: =((F15*F24)*365)/1000/$B$7 -> #DIV/0! | G33: =((G15*G24)*365)/1000/$B$7 -> #DIV/0! | H33: =((H15*H24)*365)/1000/$B$7 -> #DIV/0! | I33: =((I15*I24)*365)/1000/$B$7 -> #DIV/0!
A34: Other species | B34: =((B16*B25)*365)/1000/$B$7 -> #DIV/0! | C34: =((C16*C25)*365)/1000/$B$7 -> #DIV/0! | D34: =((D16*D25)*365)/1000/$B$7 -> #DIV/0! | E34: =((E16*E25)*365)/1000/$B$7 -> #DIV/0! | F34: =((F16*F25)*365)/1000/$B$7 -> #DIV/0! | G34: =((G16*G25)*365)/1000/$B$7 -> #DIV/0! | H34: =((H16*H25)*365)/1000/$B$7 -> #DIV/0! | I34: =((I16*I25)*365)/1000/$B$7 -> #DIV/0!
A36: 4. Proportions of sediment grain size fractions produced
B37: >4 mm | C37: 2-4 mm | D37: 1-2 mm | E37: 0.5-1 mm | F37: 0.25-0.5 mm | G37: 0.125-0.25 mm | H37: 63 to 125 um | I37: 31-63 um | J37: <32 um | K37: 8-16 um | L37: 4-8 um | M37: <4 um
A38: Udden/Wentworth | B38: Pebble | C38: Gravel | D38: V coarse sand | E38: Coarse sand | F38: Med sand | G38: Fine sand | H38: V fine sand | I38: Coarse silt | J38: Med silt | K38: Fine silt | L38: V fine silt | M38: Clay
A39: Diadema antillarum 0-20mm test | B39: 0 | C39: 0 | D39: 2.36 | E39: 14.53 | F39: 39.27 | G39: 30.33 | H39: 10.19 | I39: 3.32 | J39: 0 | K39: 0 | L39: 0 | M39: 0 | N39: from Hale et al. (in prep) - Mexico data
A40: Diadema antillarum 21-40 mm test | B40: 0 | C40: 0.36 | D40: 3.27 | E40: 19.94 | F40: 37.15 | G40: 21.03 | H40: 13.52 | I40: 4.12 | J40: 0.6 | K40: 0 | L40: 0 | M40: 0 | N40: from Hale et al. (in prep) - Mexico data
A41: Diadema antillarum 41-60 mm test | B41: 0 | C41: 0 | D41: 2.17 | E41: 8.16 | F41: 15.99 | G41: 23.05 | H41: 15.24 | I41: 14.05 | J41: 21.34 | K41: 0 | L41: 0 | M41: 0 | N41: from Hale et al. (in prep) - Mexico data
A42: Diadema antillarum 61-80 mm test | B42: 0 | C42: 1.4 | D42: 7 | E42: 13.02 | F42: 19.25 | G42: 15.06 | H42: 11.06 | I42: 16.75 | J42: 16.45 | K42: 0 | L42: 0 | M42: 0 | N42: from Hale et al. (in prep) - Mexico data
A43: Diadema antillarum 81-100 mm test | B43: 0 | C43: 1.68 | D43: 7.6 | E43: 9.46 | F43: 15.74 | G43: 23.93 | H43: 12.93 | I43: 13.54 | J43: 15.11 | K43: 0 | L43: 0 | M43: 0 | N43: from Hale et al. (in prep) - Mexico data
A44: Echinometra 0-20 mm test | B44: 0 | C44: 0 | D44: 0 | E44: 16.57 | F44: 51.15 | G44: 23.48 | H44: 8.8 | I44: 0 | J44: 0 | K44: 0 | L44: 0 | M44: 0 | N44: from Hale et al. (in prep) - Mexico data
A45: Echinometra 21-40 mm test | B45: 0 | C45: 0 | D45: 0.61 | E45: 22.68 | F45: 42.82 | G45: 22.8 | H45: 8.6 | I45: 2.5 | J45: 0 | K45: 0 | L45: 0 | M45: 0 | N45: from Hale et al. (in prep) - Mexico data
A46: Echinometra 41-60 mm test | B46: 0 | C46: 0 | D46: 2.55 | E46: 35.01 | F46: 35.45 | G46: 15.99 | H46: 10.81 | I46: 0.18 | J46: 0 | K46: 0 | L46: 0 | M46: 0 | N46: from Hale et al. (in prep) - Mexico data
A47: Eucidaris tribuloides 0-20 mm test | B47: 0 | C47: 0 | D47: 24.52 | E47: 33.65 | F47: 23.27 | G47: 12.44 | H47: 5.13 | I47: 0.99 | J47: 0 | K47: 0 | L47: 0 | M47: 0 | N47: from Hale et al. (in prep) - Mexico data
A48: Eucidaris tribuloides 21-40 mm test | B48: 0 | C48: 9.1 | D48: 48.16 | E48: 18.35 | F48: 10.68 | G48: 7.92 | H48: 4.47 | I48: 1.29 | J48: 0.02 | K48: 0 | L48: 0 | M48: 0 | N48: from Hale et al. (in prep) - Mexico data
A49: Eucidaris tribuloides 41-60 mm test | B49: 0 | C49: 0 | D49: 0 | E49: 0.05 | F49: 0.31 | G49: 0.42 | H49: 0.22 | I49: 0 | J49: 0 | K49: 0 | L49: 0 | M49: 0 | N49: from Hale et al. (in prep) - Mexico data
A50: All urchin species data | B50: =AVERAGE(B39:B49) -> 0 | C50: =AVERAGE(C39:C49) -> 1.14 | D50: =AVERAGE(D39:D49) -> 8.9309091 | E50: =AVERAGE(E39:E49) -> 17.401818 | F50: =AVERAGE(F39:F49) -> 26.461818 | G50: =AVERAGE(G39:G49) -> 17.859091 | H50: =AVERAGE(H39:H49) -> 9.1790909 | I50: =AVERAGE(I39:I49) -> 5.1581818 | ... M50: =AVERAGE(M39:M49) -> 0 | N50: Average of all above
A52: 5. Sediment production rates (kg m-2 yr-1) by grain size fractions
B53: > 4mm | C53: 2-4 mm | D53: 1-2 mm | E53: 0.5-1 mm | F53: 0.25-0.5 mm | G53: 0.125-0.25 mm | H53: 63 to 125 um | I53: 31-63 um | J53: <32 um | K53: 8-16 um | L53: 4-8 um | M53: <4 um
A54: Species | B54: Pebble | C54: Gravel | D54: V coarse sand | E54: Coarse sand | F54: Med sand | G54: Fine sand | H54: V fine sand | I54: Coarse silt | J54: Med silt | K54: Fine silt | L54: V fine silt | M54: Clay | N54: Rates used from:
A55: Diadema antillarum
A56: 0-20 mm | B56: =($B$30*B39)/100 -> #DIV/0! | C56: =($B$30*C39)/100 -> #DIV/0! | D56: =($B$30*D39)/100 -> #DIV/0! | E56: =($B$30*E39)/100 -> #DIV/0! | F56: =($B$30*F39)/100 -> #DIV/0! | G56: =($B$30*G39)/100 -> #DIV/0! | H56: =($B$30*H39)/100 -> #DIV/0! | I56: =($B$30*I39)/100 -> #DIV/0! | ... M56: =($B$30*M39)/100 -> #DIV/0!
A57: 21-40 mm | B57: =($C$30*B40)/100 -> #DIV/0! | C57: =($C$30*C40)/100 -> #DIV/0! | D57: =($C$30*D40)/100 -> #DIV/0! | E57: =($C$30*E40)/100 -> #DIV/0! | F57: =($C$30*F40)/100 -> #DIV/0! | G57: =($C$30*G40)/100 -> #DIV/0! | H57: =($C$30*H40)/100 -> #DIV/0! | I57: =($C$30*I40)/100 -> #DIV/0! | ... M57: =($C$30*M40)/100 -> #DIV/0!
A58: 41-60 mm | B58: =($D$30*B41)/100 -> #DIV/0! | C58: =($D$30*C41)/100 -> #DIV/0! | D58: =($D$30*D41)/100 -> #DIV/0! | E58: =($D$30*E41)/100 -> #DIV/0! | F58: =($D$30*F41)/100 -> #DIV/0! | G58: =($D$30*G41)/100 -> #DIV/0! | H58: =($D$30*H41)/100 -> #DIV/0! | I58: =($D$30*I41)/100 -> #DIV/0! | ... M58: =($D$30*M41)/100 -> #DIV/0!
A59: 61-80 mm | B59: =($E$30*B42)/100 -> #DIV/0! | C59: =($E$30*C42)/100 -> #DIV/0! | D59: =($E$30*D42)/100 -> #DIV/0! | E59: =($E$30*E42)/100 -> #DIV/0! | F59: =($E$30*F42)/100 -> #DIV/0! | G59: =($E$30*G42)/100 -> #DIV/0! | H59: =($E$30*H42)/100 -> #DIV/0! | I59: =($E$30*I42)/100 -> #DIV/0! | ... M59: =($E$30*M42)/100 -> #DIV/0!
A60: 81-100 mm | B60: =($F$30*B43)/100 -> #DIV/0! | C60: =($F$30*C43)/100 -> #DIV/0! | D60: =($F$30*D43)/100 -> #DIV/0! | E60: =($F$30*E43)/100 -> #DIV/0! | F60: =($F$30*F43)/100 -> #DIV/0! | G60: =($F$30*G43)/100 -> #DIV/0! | H60: =($F$30*H43)/100 -> #DIV/0! | I60: =($F$30*I43)/100 -> #DIV/0! | ... M60: =($F$30*M43)/100 -> #DIV/0!
A61: >100 mm | B61: =($G$30*B44)/100 -> #DIV/0! | C61: =($G$30*C44)/100 -> #DIV/0! | D61: =($G$30*D44)/100 -> #DIV/0! | E61: =($G$30*E44)/100 -> #DIV/0! | F61: =($G$30*F44)/100 -> #DIV/0! | G61: =($G$30*G44)/100 -> #DIV/0! | H61: =($G$30*H44)/100 -> #DIV/0! | I61: =($G$30*I44)/100 -> #DIV/0! | ... M61: =($G$30*M44)/100 -> #DIV/0! | N61: Use D. antillarum 81-100
A62: Sub-totals | B62: =SUM(B56:B61) -> #DIV/0! | C62: =SUM(C56:C61) -> #DIV/0! | D62: =SUM(D56:D61) -> #DIV/0! | E62: =SUM(E56:E61) -> #DIV/0! | F62: =SUM(F56:F61) -> #DIV/0! | G62: =SUM(G56:G61) -> #DIV/0! | H62: =SUM(H56:H61) -> #DIV/0! | I62: =SUM(I56:I61) -> #DIV/0! | ... M62: =SUM(M56:M61) -> #DIV/0!
A64: Echinometra lucunter
A65: 0-20 mm | B65: =($B$31*B44)/100 -> #DIV/0! | C65: =($B$31*C44)/100 -> #DIV/0! | D65: =($B$31*D44)/100 -> #DIV/0! | E65: =($B$31*E44)/100 -> #DIV/0! | F65: =($B$31*F44)/100 -> #DIV/0! | G65: =($B$31*G44)/100 -> #DIV/0! | H65: =($B$31*H44)/100 -> #DIV/0! | I65: =($B$31*I44)/100 -> #DIV/0! | ... M65: =($B$31*M44)/100 -> #DIV/0!
A66: 21-40 mm | B66: =($C$31*B45)/100 -> #DIV/0! | C66: =($C$31*C45)/100 -> #DIV/0! | D66: =($C$31*D45)/100 -> #DIV/0! | E66: =($C$31*E45)/100 -> #DIV/0! | F66: =($C$31*F45)/100 -> #DIV/0! | G66: =($C$31*G45)/100 -> #DIV/0! | H66: =($C$31*H45)/100 -> #DIV/0! | I66: =($C$31*I45)/100 -> #DIV/0! | ... M66: =($C$31*M45)/100 -> #DIV/0!
A67: 41-60 mm | B67: =($D$31*B46)/100 -> #DIV/0! | C67: =($D$31*C46)/100 -> #DIV/0! | D67: =($D$31*D46)/100 -> #DIV/0! | E67: =($D$31*E46)/100 -> #DIV/0! | F67: =($D$31*F46)/100 -> #DIV/0! | G67: =($D$31*G46)/100 -> #DIV/0! | H67: =($D$31*H46)/100 -> #DIV/0! | I67: =($D$31*I46)/100 -> #DIV/0! | ... M67: =($D$31*M46)/100 -> #DIV/0!
A68: >60 mm | B68: =($E$31*B46)/100 -> #DIV/0! | C68: =($E$31*C46)/100 -> #DIV/0! | D68: =($E$31*D46)/100 -> #DIV/0! | E68: =($E$31*E46)/100 -> #DIV/0! | F68: =($E$31*F46)/100 -> #DIV/0! | G68: =($E$31*G46)/100 -> #DIV/0! | H68: =($E$31*H46)/100 -> #DIV/0! | I68: =($E$31*I46)/100 -> #DIV/0! | ... M68: =($E$31*M46)/100 -> #DIV/0!
A69: Sub-totals | B69: =SUM(B65:B68) -> #DIV/0! | C69: =SUM(C65:C68) -> #DIV/0! | D69: =SUM(D65:D68) -> #DIV/0! | E69: =SUM(E65:E68) -> #DIV/0! | F69: =SUM(F65:F68) -> #DIV/0! | G69: =SUM(G65:G68) -> #DIV/0! | H69: =SUM(H65:H68) -> #DIV/0! | I69: =SUM(I65:I68) -> #DIV/0! | ... M69: =SUM(M65:M68) -> #DIV/0!
A71: Echinometra viridis
A72: 0-20 mm | B72: =($B$32*B44)/100 -> #DIV/0! | C72: =($B$32*C44)/100 -> #DIV/0! | D72: =($B$32*D44)/100 -> #DIV/0! | E72: =($B$32*E44)/100 -> #DIV/0! | F72: =($B$32*F44)/100 -> #DIV/0! | G72: =($B$32*G44)/100 -> #DIV/0! | H72: =($B$32*H44)/100 -> #DIV/0! | I72: =($B$32*I44)/100 -> #DIV/0! | ... M72: =($B$32*M44)/100 -> #DIV/0!
A73: 21-40 mm | B73: =($C$32*B45)/100 -> #DIV/0! | C73: =($C$32*C45)/100 -> #DIV/0! | D73: =($C$32*D45)/100 -> #DIV/0! | E73: =($C$32*E45)/100 -> #DIV/0! | F73: =($C$32*F45)/100 -> #DIV/0! | G73: =($C$32*G45)/100 -> #DIV/0! | H73: =($C$32*H45)/100 -> #DIV/0! | I73: =($C$32*I45)/100 -> #DIV/0! | ... M73: =($C$32*M45)/100 -> #DIV/0!
A74: 41-60 mm | B74: =($D$32*B46)/100 -> #DIV/0! | C74: =($D$32*C46)/100 -> #DIV/0! | D74: =($D$32*D46)/100 -> #DIV/0! | E74: =($D$32*E46)/100 -> #DIV/0! | F74: =($D$32*F46)/100 -> #DIV/0! | G74: =($D$32*G46)/100 -> #DIV/0! | H74: =($D$32*H46)/100 -> #DIV/0! | I74: =($D$32*I46)/100 -> #DIV/0! | ... M74: =($D$32*M46)/100 -> #DIV/0!
A75: >60 mm | B75: =($E$32*B46)/100 -> #DIV/0! | C75: =($E$32*C46)/100 -> #DIV/0! | D75: =($E$32*D46)/100 -> #DIV/0! | E75: =($E$32*E46)/100 -> #DIV/0! | F75: =($E$32*F46)/100 -> #DIV/0! | G75: =($E$32*G46)/100 -> #DIV/0! | H75: =($E$32*H46)/100 -> #DIV/0! | I75: =($E$32*I46)/100 -> #DIV/0! | ... M75: =($E$32*M46)/100 -> #DIV/0!
A76: Sub-totals | B76: =SUM(B72:B75) -> #DIV/0! | C76: =SUM(C72:C75) -> #DIV/0! | D76: =SUM(D72:D75) -> #DIV/0! | E76: =SUM(E72:E75) -> #DIV/0! | F76: =SUM(F72:F75) -> #DIV/0! | G76: =SUM(G72:G75) -> #DIV/0! | H76: =SUM(H72:H75) -> #DIV/0! | I76: =SUM(I72:I75) -> #DIV/0! | ... M76: =SUM(M72:M75) -> #DIV/0!
A78: Eucidaris tribuloides
A79: 0-20 mm | B79: =($B$33*B47)/100 -> #DIV/0! | C79: =($B$33*C47)/100 -> #DIV/0! | D79: =($B$33*D47)/100 -> #DIV/0! | E79: =($B$33*E47)/100 -> #DIV/0! | F79: =($B$33*F47)/100 -> #DIV/0! | G79: =($B$33*G47)/100 -> #DIV/0! | H79: =($B$33*H47)/100 -> #DIV/0! | I79: =($B$33*I47)/100 -> #DIV/0! | ... M79: =($B$33*M47)/100 -> #DIV/0!
A80: 21-40 mm | B80: =($C$33*B48)/100 -> #DIV/0! | C80: =($C$33*C48)/100 -> #DIV/0! | D80: =($C$33*D48)/100 -> #DIV/0! | E80: =($C$33*E48)/100 -> #DIV/0! | F80: =($C$33*F48)/100 -> #DIV/0! | G80: =($C$33*G48)/100 -> #DIV/0! | H80: =($C$33*H48)/100 -> #DIV/0! | I80: =($C$33*I48)/100 -> #DIV/0! | ... M80: =($C$33*M48)/100 -> #DIV/0!
A81: 41-60 mm | B81: =($D$33*B49)/100 -> #DIV/0! | C81: =($D$33*C49)/100 -> #DIV/0! | D81: =($D$33*D49)/100 -> #DIV/0! | E81: =($D$33*E49)/100 -> #DIV/0! | F81: =($D$33*F49)/100 -> #DIV/0! | G81: =($D$33*G49)/100 -> #DIV/0! | H81: =($D$33*H49)/100 -> #DIV/0! | I81: =($D$33*I49)/100 -> #DIV/0! | ... M81: =($D$33*M49)/100 -> #DIV/0!
A82: >60 mm | B82: =($E$33*B49)/100 -> #DIV/0! | C82: =($E$33*C49)/100 -> #DIV/0! | D82: =($E$33*D49)/100 -> #DIV/0! | E82: =($E$33*E49)/100 -> #DIV/0! | F82: =($E$33*F49)/100 -> #DIV/0! | G82: =($E$33*G49)/100 -> #DIV/0! | H82: =($E$33*H49)/100 -> #DIV/0! | I82: =($E$33*I49)/100 -> #DIV/0! | ... M82: =($E$33*M49)/100 -> #DIV/0!
A83: Sub-totals | B83: =SUM(B79:B82) -> #DIV/0! | C83: =SUM(C79:C82) -> #DIV/0! | D83: =SUM(D79:D82) -> #DIV/0! | E83: =SUM(E79:E82) -> #DIV/0! | F83: =SUM(F79:F82) -> #DIV/0! | G83: =SUM(G79:G82) -> #DIV/0! | H83: =SUM(H79:H82) -> #DIV/0! | I83: =SUM(I79:I82) -> #DIV/0! | ... M83: =SUM(M79:M82) -> #DIV/0!
A85: Other species
A86: 0-20 mm | B86: =($B$34*B50)/100 -> #DIV/0! | C86: =($B$34*C50)/100 -> #DIV/0! | D86: =($B$34*D50)/100 -> #DIV/0! | E86: =($B$34*E50)/100 -> #DIV/0! | F86: =($B$34*F50)/100 -> #DIV/0! | G86: =($B$34*G50)/100 -> #DIV/0! | H86: =($B$34*H50)/100 -> #DIV/0! | I86: =($B$34*I50)/100 -> #DIV/0! | ... M86: =($B$34*M50)/100 -> #DIV/0! | N86: Use overall average data
A87: 21-40 mm | B87: =($D$34*B50)/100 -> #DIV/0! | C87: =($C$34*C50)/100 -> #DIV/0! | D87: =($C$34*D50)/100 -> #DIV/0! | E87: =($C$34*E50)/100 -> #DIV/0! | F87: =($C$34*F50)/100 -> #DIV/0! | G87: =($C$34*G50)/100 -> #DIV/0! | H87: =($C$34*H50)/100 -> #DIV/0! | I87: =($C$34*I50)/100 -> #DIV/0! | J87: =($C$34*J50)/100 -> #DIV/0! | ... M87: =($C$34*M50)/100 -> #DIV/0! | N87: Use overall average data
A88: 41-60 mm | B88: =($D$34*B50)/100 -> #DIV/0! | C88: =($D$34*C50)/100 -> #DIV/0! | D88: =($D$34*D50)/100 -> #DIV/0! | E88: =($D$34*E50)/100 -> #DIV/0! | F88: =($D$34*F50)/100 -> #DIV/0! | G88: =($D$34*G50)/100 -> #DIV/0! | H88: =($D$34*H50)/100 -> #DIV/0! | I88: =($D$34*I50)/100 -> #DIV/0! | ... M88: =($D$34*M50)/100 -> #DIV/0! | N88: Use overall average data
A89: 61-80 mm | B89: =($E$34*B50)/100 -> #DIV/0! | C89: =($E$34*C50)/100 -> #DIV/0! | D89: =($E$34*D50)/100 -> #DIV/0! | E89: =($E$34*E50)/100 -> #DIV/0! | F89: =($E$34*F50)/100 -> #DIV/0! | G89: =($E$34*G50)/100 -> #DIV/0! | H89: =($E$34*H50)/100 -> #DIV/0! | I89: =($E$34*I50)/100 -> #DIV/0! | ... M89: =($E$34*M50)/100 -> #DIV/0! | N89: Use overall average data
A90: 81-100 mm | B90: =($F$34*B50)/100 -> #DIV/0! | C90: =($F$34*C50)/100 -> #DIV/0! | D90: =($F$34*D50)/100 -> #DIV/0! | E90: =($F$34*E50)/100 -> #DIV/0! | F90: =($F$34*F50)/100 -> #DIV/0! | G90: =($F$34*G50)/100 -> #DIV/0! | H90: =($F$34*H50)/100 -> #DIV/0! | I90: =($F$34*I50)/100 -> #DIV/0! | ... M90: =($F$34*M50)/100 -> #DIV/0! | N90: Use overall average data
A91: >100 mm | B91: =($G$34*B50)/100 -> #DIV/0! | C91: =($G$34*C50)/100 -> #DIV/0! | D91: =($G$34*D50)/100 -> #DIV/0! | E91: =($G$34*E50)/100 -> #DIV/0! | F91: =($G$34*F50)/100 -> #DIV/0! | G91: =($G$34*G50)/100 -> #DIV/0! | H91: =($G$34*H50)/100 -> #DIV/0! | I91: =($G$34*I50)/100 -> #DIV/0! | ... M91: =($G$34*M50)/100 -> #DIV/0! | N91: Use overall average data
A92: Sub-totals | B92: =SUM(B86:B91) -> #DIV/0! | C92: =SUM(C86:C91) -> #DIV/0! | D92: =SUM(D86:D91) -> #DIV/0! | E92: =SUM(E86:E91) -> #DIV/0! | F92: =SUM(F86:F91) -> #DIV/0! | G92: =SUM(G86:G91) -> #DIV/0! | H92: =SUM(H86:H91) -> #DIV/0! | I92: =SUM(I86:I91) -> #DIV/0! | ... M92: =SUM(M86:M91) -> #DIV/0!
A95: 6. Sediment production rates (kg/ m2 /yr) for each species by grain size fractions
B96: >4mm | C96: 2-4 mm | D96: 1-2 mm | E96: 0.5-1 mm | F96: 0.25-0.5 mm | G96: 0.125-0.25 mm | H96: 63 to 125 um | I96: 31-63 um | J96: <32 um | K96: 8-16 um | L96: 4-8 um | M96: <4 um
A97: Species | B97: Pebble | C97: Gravel | D97: V coarse sand | E97: Coarse sand | F97: Med sand | G97: Fine sand | H97: V fine sand | I97: Coarse silt | J97: Med silt | K97: Fine silt | L97: V fine silt | M97: Clay
A98: Diadema antillarum | B98: =B62 -> #DIV/0! | C98: =C62 -> #DIV/0! | D98: =D62 -> #DIV/0! | E98: =E62 -> #DIV/0! | F98: =F62 -> #DIV/0! | G98: =G62 -> #DIV/0! | H98: =H62 -> #DIV/0! | I98: =I62 -> #DIV/0! | ... M98: =M62 -> #DIV/0!
A99: Echinometra lucunter | B99: =B69 -> #DIV/0! | C99: =C69 -> #DIV/0! | D99: =D69 -> #DIV/0! | E99: =E69 -> #DIV/0! | F99: =F69 -> #DIV/0! | G99: =G69 -> #DIV/0! | H99: =H69 -> #DIV/0! | I99: =I69 -> #DIV/0! | ... M99: =M69 -> #DIV/0!
A100: Echinometra viridis | B100: =B76 -> #DIV/0! | C100: =C76 -> #DIV/0! | D100: =D76 -> #DIV/0! | E100: =E76 -> #DIV/0! | F100: =F76 -> #DIV/0! | G100: =G76 -> #DIV/0! | H100: =H76 -> #DIV/0! | I100: =I76 -> #DIV/0! | ... M100: =M76 -> #DIV/0!
A101: Eucidaris tribuloides | B101: =B83 -> #DIV/0! | C101: =C83 -> #DIV/0! | D101: =D83 -> #DIV/0! | E101: =E83 -> #DIV/0! | F101: =F83 -> #DIV/0! | G101: =G83 -> #DIV/0! | H101: =H83 -> #DIV/0! | I101: =I83 -> #DIV/0! | ... M101: =M83 -> #DIV/0!
A102: Other species | B102: =B92 -> #DIV/0! | C102: =C92 -> #DIV/0! | D102: =D92 -> #DIV/0! | E102: =E92 -> #DIV/0! | F102: =F92 -> #DIV/0! | G102: =G92 -> #DIV/0! | H102: =H92 -> #DIV/0! | I102: =I92 -> #DIV/0! | ... M102: =M92 -> #DIV/0!
A105: 7. Total sediment production rates (kg/ m2/ yr) for all species by grain size fractions | N105: TOTAL
A106: TOTAL (kg /m2 /yr) | B106: =IF($B$3="","",SUM(B98:B102)) | C106: =IF($B$3="","",SUM(C98:C102)) | D106: =IF($B$3="","",SUM(D98:D102)) | E106: =IF($B$3="","",SUM(E98:E102)) | F106: =IF($B$3="","",SUM(F98:F102)) | G106: =IF($B$3="","",SUM(G98:G102)) | H106: =IF($B$3="","",SUM(H98:H102)) | I106: =IF($B$3="","",SUM(I98:I102)) | ... M106: =IF($B$3="","",SUM(M98:M102)) | N106: =SUM(B106:M106) -> 0

Sheet Urchins Skeletal
A1: URCHINS SKELETAL | B1: Enter data into pale blue boxes only
A3: Transect number
A4: Number of quadrats | B4: ='Urchins Bioerosion'!B4 -> 0
A5: Quadrat size (m2) | B5: ='Urchins Bioerosion'!B5 -> 0
A7: Transect area (m2) | B7: =B4*B5 -> 0
A9: 1. DATA ENTRY - Numbers of individuals/size class/transect | G9: SUM # SEA URCHINS OVER ALL QUADRATS - THIS AUTO FILLS FROM THE URCHIN BIOEROSION TAB
A10: Species | B10: Test diameter (mm)
B11: 0-20 | C11: 21-40 | D11: 41-60 | E11: 61-80 | F11: 81-100 | G11: >100
A12: Diadema antillarum | B12: ='Urchins Bioerosion'!B12 -> 0 | C12: ='Urchins Bioerosion'!C12 -> 0 | D12: ='Urchins Bioerosion'!D12 -> 0 | E12: ='Urchins Bioerosion'!E12 -> 0 | F12: ='Urchins Bioerosion'!F12 -> 0 | G12: ='Urchins Bioerosion'!G12 -> 0
A13: Echinometra lucunter | B13: ='Urchins Bioerosion'!B13 -> 0 | C13: ='Urchins Bioerosion'!C13 -> 0 | D13: ='Urchins Bioerosion'!D13 -> 0 | E13: ='Urchins Bioerosion'!E13 -> 0 | F13: ='Urchins Bioerosion'!F13 -> 0 | G13: ='Urchins Bioerosion'!G13 -> 0
A14: Echinometra viridis | B14: ='Urchins Bioerosion'!B14 -> 0 | C14: ='Urchins Bioerosion'!C14 -> 0 | D14: ='Urchins Bioerosion'!D14 -> 0 | E14: ='Urchins Bioerosion'!E14 -> 0 | F14: ='Urchins Bioerosion'!F14 -> 0 | G14: ='Urchins Bioerosion'!G14 -> 0
A15: Eucidaris tribuloides | B15: ='Urchins Bioerosion'!B15 -> 0 | C15: ='Urchins Bioerosion'!C15 -> 0 | D15: ='Urchins Bioerosion'!D15 -> 0 | E15: ='Urchins Bioerosion'!E15 -> 0 | F15: ='Urchins Bioerosion'!F15 -> 0 | G15: ='Urchins Bioerosion'!G15 -> 0
A16: Other species | B16: ='Urchins Bioerosion'!B16 -> 0 | C16: ='Urchins Bioerosion'!C16 -> 0 | D16: ='Urchins Bioerosion'!D16 -> 0 | E16: ='Urchins Bioerosion'!E16 -> 0 | F16: ='Urchins Bioerosion'!F16 -> 0 | G16: ='Urchins Bioerosion'!G16 -> 0
A21: 2. Average skeletal weight (g/ ind)
A22: Species | B22: Test diameter (mm)
B23: 0-20 | C23: 21-40 | D23: 41-60 | E23: 61-80 | F23: 81-100 | G23: >100 | H23: Weights used from:
A24: Diadema antillarum | B24: 0.8417323 | C24: 5.6516314 | D24: 15.154115 | E24: 29.349183 | F24: 44.479835 | G24: 44.479835 | H24: from Hale et al. (in prep) - Mexico data
A25: Echinometra lucunter | B25: 1.0718193 | C25: 7.1965007 | D25: 19.296481 | E25: 19.296481 | F25: 19.296481 | G25: 19.296481 | H25: from Hale et al. (in prep) - Mexico data
A26: Echinometra viridis | B26: 1.0718193 | C26: 7.1965007 | D26: 19.296481 | E26: 19.296481 | F26: 19.296481 | G26: 19.296481 | H26: from Hale et al. (in prep) - Mexico data
A27: Eucidaris tribuloides | B27: 1.5738686 | C27: 10.567403 | D27: 24.381254 | E27: 24.381254 | F27: 24.381254 | G27: 24.381254 | H27: from Hale et al. (in prep) - Mexico data
A28: Other species | B28: =AVERAGE(B24:B27) -> 1.1398099 | C28: =AVERAGE(C24:C27) -> 7.6530091 | D28: =AVERAGE(D24:D27) -> 19.532083 | E28: =AVERAGE(E24:E27) -> 23.08085 | F28: =AVERAGE(F24:F27) -> 26.863513 | G28: =AVERAGE(G24:G27) -> 26.863513 | H28: Average of other Caribbean species
A31: 3. Average ages (yr/ ind)
A32: Species | B32: Test diameter (mm)
B33: 0-20 | C33: 21-40 | D33: 41-60 | E33: 61-80 | F33: 81-100 | G33: >100 | H33: Rates used from:
A34: Diadema antillarum | B34: 0.22141625 | C34: 0.726507 | D34: 1.4292073 | E34: 2.6035118 | F34: 5.2032178 | G34: 5.2032178 | H34: from Hale et al. (in prep) - Mexico data
A35: Echinometra lucunter | B35: 0.69418458 | C35: 2.4635731 | D35: 5.9676818 | E35: 5.9676818 | F35: 5.9676818 | G35: 5.9676818 | H35: from Hale et al. (in prep) - Mexico data
A36: Echinometra viridis | B36: 0.69418458 | C36: 2.4635731 | D36: 5.9676818 | E36: 5.9676818 | F36: 5.9676818 | G36: 5.9676818 | H36: from Hale et al. (in prep) - Mexico data
A37: Eucidaris tribuloides | B37: 0.47536617 | C37: 1.8352692 | D37: 5.078776 | E37: 5.078776 | F37: 5.078776 | G37: 5.078776 | H37: from Hale et al. (in prep) - Mexico data
A38: Other species | B38: =AVERAGE(B34:B37) -> 0.5212879 | C38: =AVERAGE(C34:C37) -> 1.8722306 | D38: =AVERAGE(D34:D37) -> 4.6108367 | E38: =AVERAGE(E34:E37) -> 4.9044128 | F38: =AVERAGE(F34:F37) -> 5.5543393 | G38: =AVERAGE(G34:G37) -> 5.5543393 | H38: Average of other Caribbean species
A41: 4. Average skeletal sediment production (g/ yr/ ind )
A42: Species | B42: Test diameter (mm)
B43: 0-20 | C43: 21-40 | D43: 41-60 | E43: 61-80 | F43: 81-100 | G43: >100 | H43: Rates used from:
A44: Diadema antillarum | B44: =B24/B34 -> 3.8015832 | C44: =C24/C34 -> 7.7791837 | D44: =D24/D34 -> 10.603161 | E44: =E24/E34 -> 11.272921 | F44: =F24/F34 -> 8.5485244 | G44: =G24/G34 -> 8.5485244 | H44: from Hale et al. (in prep) - Mexico data
A45: Echinometra lucunter | B45: =B25/B35 -> 1.5439976 | C45: =C25/C35 -> 2.9211639 | D45: =D25/D35 -> 3.233497 | E45: =E25/E35 -> 3.233497 | F45: =F25/F35 -> 3.233497 | G45: =G25/G35 -> 3.233497 | H45: from Hale et al. (in prep) - Mexico data
A46: Echinometra viridis | B46: =B26/B36 -> 1.5439976 | C46: =C26/C36 -> 2.9211639 | D46: =D26/D36 -> 3.233497 | E46: =E26/E36 -> 3.233497 | F46: =F26/F36 -> 3.233497 | G46: =G26/G36 -> 3.233497 | H46: from Hale et al. (in prep) - Mexico data
A47: Eucidaris tribuloides | B47: =B27/B37 -> 3.3108553 | C47: =C27/C37 -> 5.7579584 | D47: =D27/D37 -> 4.8006161 | E47: =E27/E37 -> 4.8006161 | F47: =F27/F37 -> 4.8006161 | G47: =G27/G37 -> 4.8006161 | H47: from Hale et al. (in prep) - Mexico data
A48: Other species | B48: =AVERAGE(B44:B47) -> 2.5501084 | C48: =AVERAGE(C44:C47) -> 4.8448675 | D48: =AVERAGE(D44:D47) -> 5.4676927 | E48: =AVERAGE(E44:E47) -> 5.6351328 | F48: =AVERAGE(F44:F47) -> 4.9540336 | G48: =AVERAGE(G44:G47) -> 4.9540336 | H48: Average of other Caribbean species
A51: 5. Sediment generation rate per species/size class (kg/ m2/ yr) from skeletal breakdown
A52: Species | B52: Test diameter (mm)
B53: 0-20 | C53: 21-40 | D53: 41-60 | E53: 61-80 | F53: 81-100 | G53: >100
A54: Diadema antillarum | B54: =((B12*B44))/1000/$B$7 -> #DIV/0! | C54: =((C12*C44))/1000/$B$7 -> #DIV/0! | D54: =((D12*D44))/1000/$B$7 -> #DIV/0! | E54: =((E12*E44))/1000/$B$7 -> #DIV/0! | F54: =((F12*F44))/1000/$B$7 -> #DIV/0! | G54: =((G12*G44))/1000/$B$7 -> #DIV/0!
A55: Echinometra lucunter | B55: =((B13*B45))/1000/$B$7 -> #DIV/0! | C55: =((C13*C45))/1000/$B$7 -> #DIV/0! | D55: =((D13*D45))/1000/$B$7 -> #DIV/0! | E55: =((E13*E45))/1000/$B$7 -> #DIV/0! | F55: =((F13*F45))/1000/$B$7 -> #DIV/0! | G55: =((G13*G45))/1000/$B$7 -> #DIV/0!
A56: Echinometra viridis | B56: =((B14*B46))/1000/$B$7 -> #DIV/0! | C56: =((C14*C46))/1000/$B$7 -> #DIV/0! | D56: =((D14*D46))/1000/$B$7 -> #DIV/0! | E56: =((E14*E46))/1000/$B$7 -> #DIV/0! | F56: =((F14*F46))/1000/$B$7 -> #DIV/0! | G56: =((G14*G46))/1000/$B$7 -> #DIV/0!
A57: Eucidaris tribuloides | B57: =((B15*B47))/1000/$B$7 -> #DIV/0! | C57: =((C15*C47))/1000/$B$7 -> #DIV/0! | D57: =((D15*D47))/1000/$B$7 -> #DIV/0! | E57: =((E15*E47))/1000/$B$7 -> #DIV/0! | F57: =((F15*F47))/1000/$B$7 -> #DIV/0! | G57: =((G15*G47))/1000/$B$7 -> #DIV/0!
A58: Other species | B58: =((B16*B48))/1000/$B$7 -> #DIV/0! | C58: =((C16*C48))/1000/$B$7 -> #DIV/0! | D58: =((D16*D48))/1000/$B$7 -> #DIV/0! | E58: =((E16*E48))/1000/$B$7 -> #DIV/0! | F58: =((F16*F48))/1000/$B$7 -> #DIV/0! | G58: =((G16*G48))/1000/$B$7 -> #DIV/0!
A61: 6. Proportions of sediment grain size fractions produced from skeletal breakdown
B62: >4 mm | C62: 2-4 mm | D62: 1-2 mm | E62: 0.5-1 mm | F62: 0.25-0.5 mm | G62: 0.125-0.25 mm | H62: 63 to 125 um | I62: 31-63 um | J62: <32 um | K62: 8-16 um | L62: 4-8 um | M62: <4 um
A63: Udden/Wentworth | B63: Pebble | C63: Gravel | D63: V coarse sand | E63: Coarse sand | F63: Med sand | G63: Fine sand | H63: V fine sand | I63: Coarse silt | J63: Med silt - clay | K63: Fine silt | L63: V fine silt | M63: Clay | N63: Rates used from:
A64: Diadema antillarum 0-20mm test | B64: 19.60331 | C64: 7.5754569 | D64: 12.424711 | E64: 5.5473721 | F64: 0.59697744 | G64: 0.14563827 | H64: 0.05006228 | I64: 0 | J64: 54.056472 | K64: 0 | L64: 0 | M64: 0 | N64: from Hale et al. (in prep) - Mexico data
A65: Diadema antillarum 21-40 mm test | B65: 29.041528 | C65: 20.911321 | D65: 14.958257 | E65: 6.2796974 | F65: 1.0598165 | G65: 0.37845367 | H65: 1.1156264 | I65: 1.8314575 | J65: 24.423844 | K65: 0 | L65: 0 | M65: 0 | N65: from Hale et al. (in prep) - Mexico data
A66: Diadema antillarum 41-60 mm test | B66: 51.800355 | C66: 28.353793 | D66: 8.3534165 | E66: 1.3963256 | F66: 0.64650975 | G66: 0.15432011 | H66: 0.35305412 | I66: 0.25384879 | J66: 8.6883767 | K66: 0 | L66: 0 | M66: 0 | N66: from Hale et al. (in prep) - Mexico data
A67: Diadema antillarum 61-80 mm test | B67: 58.116535 | C67: 27.867172 | D67: 7.5365665 | E67: 0.95358415 | F67: 0.41625606 | G67: 0.35577181 | H67: 0.21849577 | I67: 0.1275464 | J67: 4.4080721 | K67: 0 | L67: 0 | M67: 0 | N67: from Hale et al. (in prep) - Mexico data
A68: Diadema antillarum 81-100 mm test | B68: 58.116535 | C68: 27.867172 | D68: 7.5365665 | E68: 0.95358415 | F68: 0.41625606 | G68: 0.35577181 | H68: 0.21849577 | I68: 0.1275464 | J68: 4.4080721 | K68: 0 | L68: 0 | M68: 0 | N68: Use D. antillarum 61-80 data
A69: Echinometra 0-20 mm test | B69: 14.518185 | C69: 25.252045 | D69: 10.954561 | E69: 7.5372403 | F69: 1.7537274 | G69: 0.21847389 | H69: 0.03804812 | I69: 0.02329419 | J69: 39.704425 | K69: 0 | L69: 0 | M69: 0 | N69: from Hale et al. (in prep) - Mexico data
A70: Echinometra 21-40 mm test | B70: 26.63048 | C70: 31.129333 | D70: 18.649679 | E70: 4.9392421 | F70: 1.8558769 | G70: 0.61835835 | H70: 0.1471089 | I70: 0.05932739 | J70: 15.970594 | K70: 0 | L70: 0 | M70: 0 | N70: from Hale et al. (in prep) - Mexico data
A71: Echinometra 41-60 mm test | B71: 43.065528 | C71: 41.76307 | D71: 7.4176188 | E71: 2.824451 | F71: 1.4162244 | G71: 0.29005029 | H71: 0.04209893 | I71: 0.036834 | J71: 3.1441243 | K71: 0 | L71: 0 | M71: 0 | N71: from Hale et al. (in prep) - Mexico data
A72: Eucidaris tribuloides 0-20 mm test | B72: 5.869689 | C72: 28.086892 | D72: 7.1956628 | E72: 1.7282546 | F72: 0.19144256 | G72: 0.04601852 | H72: 0.02100063 | I72: 0.02224569 | J72: 56.838794 | K72: 0 | L72: 0 | M72: 0 | N72: from Hale et al. (in prep) - Mexico data
A73: Eucidaris tribuloides 21-40 mm test | B73: 30.371897 | C73: 31.793755 | D73: 4.1792011 | E73: 3.2509607 | F73: 0.18665918 | G73: 0.02479857 | H73: 0.03083756 | I73: 0.03520521 | J73: 30.126686 | K73: 0 | L73: 0 | M73: 0 | N73: from Hale et al. (in prep) - Mexico data
A74: Eucidaris tribuloides 41-60 mm test | B74: 30.371897 | C74: 31.793755 | D74: 4.1792011 | E74: 3.2509607 | F74: 0.18665918 | G74: 0.02479857 | H74: 0.03083756 | I74: 0.03520521 | J74: 30.126686 | K74: 0 | L74: 0 | M74: 0 | N74: Use E. tribuloides 21-40 data
A75: All urchin species data | B75: =AVERAGE(B64:B74) -> 33.409631 | C75: =AVERAGE(C64:C74) -> 27.490342 | D75: =AVERAGE(D64:D74) -> 9.3986764 | E75: =AVERAGE(E64:E74) -> 3.5146975 | F75: =AVERAGE(F64:F74) -> 0.79330959 | G75: =AVERAGE(G64:G74) -> 0.23749581 | H75: =AVERAGE(H64:H74) -> 0.20596964 | I75: =AVERAGE(I64:I74) -> 0.23204644 | J75: =AVERAGE(J64:J74) -> 24.717831 | K75: 0 | L75: 0 | M75: 0 | N75: Average of all above
A78: 7. Sediment production rates (kg/ m2/ yr) by grain size fractions from skeletal breakdown
B79: > 4mm | C79: 2-4 mm | D79: 1-2 mm | E79: 0.5-1 mm | F79: 0.25-0.5 mm | G79: 0.125-0.25 mm | H79: 63 to 125 um | I79: 31-63 um | J79: <32 um | K79: 8-16 um | L79: 4-8 um | M79: <4 um
A80: Species | B80: Pebble | C80: Gravel | D80: V coarse sand | E80: Coarse sand | F80: Med sand | G80: Fine sand | H80: V fine sand | I80: Coarse silt | J80: Med silt - clay | K80: Fine silt | L80: V fine silt | M80: Clay | N80: Rates used from:
A81: Diadema antillarum
A82: 0-20 mm | B82: =($B$54*B64)/100 -> #DIV/0! | C82: =($B$54*C64)/100 -> #DIV/0! | D82: =($B$54*D64)/100 -> #DIV/0! | E82: =($B$54*E64)/100 -> #DIV/0! | F82: =($B$54*F64)/100 -> #DIV/0! | G82: =($B$54*G64)/100 -> #DIV/0! | H82: =($B$54*H64)/100 -> #DIV/0! | I82: =($B$54*I64)/100 -> #DIV/0! | ... M82: =($B$54*M64)/100 -> #DIV/0!
A83: 21-40 mm | B83: =($C$54*B65)/100 -> #DIV/0! | C83: =($C$54*C65)/100 -> #DIV/0! | D83: =($C$54*D65)/100 -> #DIV/0! | E83: =($C$54*E65)/100 -> #DIV/0! | F83: =($C$54*F65)/100 -> #DIV/0! | G83: =($C$54*G65)/100 -> #DIV/0! | H83: =($C$54*H65)/100 -> #DIV/0! | I83: =($C$54*I65)/100 -> #DIV/0! | J83: =($C$54*J65)/100 -> #DIV/0! | K83: =($B$54*K65)/100 -> #DIV/0! | L83: =($B$54*L65)/100 -> #DIV/0! | M83: =($B$54*M65)/100 -> #DIV/0!
A84: 41-60 mm | B84: =($D$54*B66)/100 -> #DIV/0! | C84: =($D$54*C66)/100 -> #DIV/0! | D84: =($D$54*D66)/100 -> #DIV/0! | E84: =($D$54*E66)/100 -> #DIV/0! | F84: =($D$54*F66)/100 -> #DIV/0! | G84: =($D$54*G66)/100 -> #DIV/0! | H84: =($D$54*H66)/100 -> #DIV/0! | I84: =($D$54*I66)/100 -> #DIV/0! | J84: =($D$54*J66)/100 -> #DIV/0! | K84: =($B$54*K66)/100 -> #DIV/0! | L84: =($B$54*L66)/100 -> #DIV/0! | M84: =($B$54*M66)/100 -> #DIV/0!
A85: 61-80 mm | B85: =($E$54*B67)/100 -> #DIV/0! | C85: =($E$54*C67)/100 -> #DIV/0! | D85: =($E$54*D67)/100 -> #DIV/0! | E85: =($E$54*E67)/100 -> #DIV/0! | F85: =($E$54*F67)/100 -> #DIV/0! | G85: =($E$54*G67)/100 -> #DIV/0! | H85: =($E$54*H67)/100 -> #DIV/0! | I85: =($E$54*I67)/100 -> #DIV/0! | J85: =($E$54*J67)/100 -> #DIV/0! | K85: =($B$54*K67)/100 -> #DIV/0! | L85: =($B$54*L67)/100 -> #DIV/0! | M85: =($B$54*M67)/100 -> #DIV/0!
A86: 81-100 mm | B86: =($F$54*B68)/100 -> #DIV/0! | C86: =($F$54*C68)/100 -> #DIV/0! | D86: =($F$54*D68)/100 -> #DIV/0! | E86: =($F$54*E68)/100 -> #DIV/0! | F86: =($F$54*F68)/100 -> #DIV/0! | G86: =($F$54*G68)/100 -> #DIV/0! | H86: =($F$54*H68)/100 -> #DIV/0! | I86: =($F$54*I68)/100 -> #DIV/0! | J86: =($F$54*J68)/100 -> #DIV/0! | K86: =($B$54*K68)/100 -> #DIV/0! | L86: =($B$54*L68)/100 -> #DIV/0! | M86: =($B$54*M68)/100 -> #DIV/0!
A87: >100 mm | B87: =($G$54*B68)/100 -> #DIV/0! | C87: =($G$54*C68)/100 -> #DIV/0! | D87: =($G$54*D68)/100 -> #DIV/0! | E87: =($G$54*E68)/100 -> #DIV/0! | F87: =($G$54*F68)/100 -> #DIV/0! | G87: =($G$54*G68)/100 -> #DIV/0! | H87: =($G$54*H68)/100 -> #DIV/0! | I87: =($G$54*I68)/100 -> #DIV/0! | J87: =($G$54*J68)/100 -> #DIV/0! | K87: =($B$54*K69)/100 -> #DIV/0! | L87: =($B$54*L69)/100 -> #DIV/0! | M87: =($B$54*M69)/100 -> #DIV/0! | N87: Use D. antillarum 81-100
A88: Sub-totals | B88: =SUM(B82:B87) -> #DIV/0! | C88: =SUM(C82:C87) -> #DIV/0! | D88: =SUM(D82:D87) -> #DIV/0! | E88: =SUM(E82:E87) -> #DIV/0! | F88: =SUM(F82:F87) -> #DIV/0! | G88: =SUM(G82:G87) -> #DIV/0! | H88: =SUM(H82:H87) -> #DIV/0! | I88: =SUM(I82:I87) -> #DIV/0! | ... M88: =SUM(M82:M87) -> #DIV/0!
A90: Echinometra lucunter
A91: 0-20 mm | B91: =($B$55*B69)/100 -> #DIV/0! | C91: =($B$55*C69)/100 -> #DIV/0! | D91: =($B$55*D69)/100 -> #DIV/0! | E91: =($B$55*E69)/100 -> #DIV/0! | F91: =($B$55*F69)/100 -> #DIV/0! | G91: =($B$55*G69)/100 -> #DIV/0! | H91: =($B$55*H69)/100 -> #DIV/0! | I91: =($B$55*I69)/100 -> #DIV/0! | ... M91: =($B$55*M69)/100 -> #DIV/0!
A92: 21-40 mm | B92: =($C$55*B70)/100 -> #DIV/0! | C92: =($C$55*C70)/100 -> #DIV/0! | D92: =($C$55*D70)/100 -> #DIV/0! | E92: =($C$55*E70)/100 -> #DIV/0! | F92: =($C$55*F70)/100 -> #DIV/0! | G92: =($C$55*G70)/100 -> #DIV/0! | H92: =($C$55*H70)/100 -> #DIV/0! | I92: =($C$55*I70)/100 -> #DIV/0! | J92: =($C$55*J70)/100 -> #DIV/0! | K92: =($B$55*K70)/100 -> #DIV/0! | L92: =($B$55*L70)/100 -> #DIV/0! | M92: =($B$55*M70)/100 -> #DIV/0!
A93: 41-60 mm | B93: =($D$55*B71)/100 -> #DIV/0! | C93: =($D$55*C71)/100 -> #DIV/0! | D93: =($D$55*D71)/100 -> #DIV/0! | E93: =($D$55*E71)/100 -> #DIV/0! | F93: =($D$55*F71)/100 -> #DIV/0! | G93: =($D$55*G71)/100 -> #DIV/0! | H93: =($D$55*H71)/100 -> #DIV/0! | I93: =($D$55*I71)/100 -> #DIV/0! | J93: =($D$55*J71)/100 -> #DIV/0! | K93: =($B$55*K71)/100 -> #DIV/0! | L93: =($B$55*L71)/100 -> #DIV/0! | M93: =($B$55*M71)/100 -> #DIV/0!
A94: >60 mm | B94: =($E$55*B71)/100 -> #DIV/0! | C94: =($E$55*C71)/100 -> #DIV/0! | D94: =($E$55*D71)/100 -> #DIV/0! | E94: =($E$55*E71)/100 -> #DIV/0! | F94: =($E$55*F71)/100 -> #DIV/0! | G94: =($E$55*G71)/100 -> #DIV/0! | H94: =($E$55*H71)/100 -> #DIV/0! | I94: =($E$55*I71)/100 -> #DIV/0! | J94: =($E$55*J71)/100 -> #DIV/0! | K94: =($B$55*K72)/100 -> #DIV/0! | L94: =($B$55*L72)/100 -> #DIV/0! | M94: =($B$55*M72)/100 -> #DIV/0!
A95: Sub-totals | B95: =SUM(B91:B94) -> #DIV/0! | C95: =SUM(C91:C94) -> #DIV/0! | D95: =SUM(D91:D94) -> #DIV/0! | E95: =SUM(E91:E94) -> #DIV/0! | F95: =SUM(F91:F94) -> #DIV/0! | G95: =SUM(G91:G94) -> #DIV/0! | H95: =SUM(H91:H94) -> #DIV/0! | I95: =SUM(I91:I94) -> #DIV/0! | ... M95: =SUM(M91:M94) -> #DIV/0!
A97: Echinometra viridis
A98: 0-20 mm | B98: =($B$56*B69)/100 -> #DIV/0! | C98: =($B$56*C69)/100 -> #DIV/0! | D98: =($B$56*D69)/100 -> #DIV/0! | E98: =($B$56*E69)/100 -> #DIV/0! | F98: =($B$56*F69)/100 -> #DIV/0! | G98: =($B$56*G69)/100 -> #DIV/0! | H98: =($B$56*H69)/100 -> #DIV/0! | I98: =($B$56*I69)/100 -> #DIV/0! | ... M98: =($B$56*M69)/100 -> #DIV/0!
A99: 21-40 mm | B99: =($C$56*B70)/100 -> #DIV/0! | C99: =($C$56*C70)/100 -> #DIV/0! | D99: =($C$56*D70)/100 -> #DIV/0! | E99: =($C$56*E70)/100 -> #DIV/0! | F99: =($C$56*F70)/100 -> #DIV/0! | G99: =($C$56*G70)/100 -> #DIV/0! | H99: =($C$56*H70)/100 -> #DIV/0! | I99: =($C$56*I70)/100 -> #DIV/0! | ... M99: =($C$56*M70)/100 -> #DIV/0!
A100: 41-60 mm | B100: =($D$56*B71)/100 -> #DIV/0! | C100: =($D$56*C71)/100 -> #DIV/0! | D100: =($D$56*D71)/100 -> #DIV/0! | E100: =($D$56*E71)/100 -> #DIV/0! | F100: =($D$56*F71)/100 -> #DIV/0! | G100: =($D$56*G71)/100 -> #DIV/0! | H100: =($D$56*H71)/100 -> #DIV/0! | I100: =($D$56*I71)/100 -> #DIV/0! | ... M100: =($D$56*M71)/100 -> #DIV/0!
A101: >60 mm | B101: =($E$56*B71)/100 -> #DIV/0! | C101: =($E$56*C71)/100 -> #DIV/0! | D101: =($E$56*D71)/100 -> #DIV/0! | E101: =($E$56*E71)/100 -> #DIV/0! | F101: =($E$56*F71)/100 -> #DIV/0! | G101: =($E$56*G71)/100 -> #DIV/0! | H101: =($E$56*H71)/100 -> #DIV/0! | I101: =($E$56*I71)/100 -> #DIV/0! | ... M101: =($E$56*M71)/100 -> #DIV/0!
A102: Sub-totals | B102: =SUM(B98:B101) -> #DIV/0! | C102: =SUM(C98:C101) -> #DIV/0! | D102: =SUM(D98:D101) -> #DIV/0! | E102: =SUM(E98:E101) -> #DIV/0! | F102: =SUM(F98:F101) -> #DIV/0! | G102: =SUM(G98:G101) -> #DIV/0! | H102: =SUM(H98:H101) -> #DIV/0! | I102: =SUM(I98:I101) -> #DIV/0! | ... M102: =SUM(M98:M101) -> #DIV/0!
A104: Eucidaris tribuloides
A105: 0-20 mm | B105: =($B$57*B72)/100 -> #DIV/0! | C105: =($B$57*C72)/100 -> #DIV/0! | D105: =($B$57*D72)/100 -> #DIV/0! | E105: =($B$57*E72)/100 -> #DIV/0! | F105: =($B$57*F72)/100 -> #DIV/0! | G105: =($B$57*G72)/100 -> #DIV/0! | H105: =($B$57*H72)/100 -> #DIV/0! | I105: =($B$57*I72)/100 -> #DIV/0! | ... M105: =($B$57*M72)/100 -> #DIV/0!
A106: 21-40 mm | B106: =($C$57*B73)/100 -> #DIV/0! | C106: =($C$57*C73)/100 -> #DIV/0! | D106: =($C$57*D73)/100 -> #DIV/0! | E106: =($C$57*E73)/100 -> #DIV/0! | F106: =($C$57*F73)/100 -> #DIV/0! | G106: =($C$57*G73)/100 -> #DIV/0! | H106: =($C$57*H73)/100 -> #DIV/0! | I106: =($C$57*I73)/100 -> #DIV/0! | ... M106: =($C$57*M73)/100 -> #DIV/0!
A107: 41-60 mm | B107: =($D$57*B74)/100 -> #DIV/0! | C107: =($D$57*C74)/100 -> #DIV/0! | D107: =($D$57*D74)/100 -> #DIV/0! | E107: =($D$57*E74)/100 -> #DIV/0! | F107: =($D$57*F74)/100 -> #DIV/0! | G107: =($D$57*G74)/100 -> #DIV/0! | H107: =($D$57*H74)/100 -> #DIV/0! | I107: =($D$57*I74)/100 -> #DIV/0! | ... M107: =($D$57*M74)/100 -> #DIV/0!
A108: >60 mm | B108: =($E$57*B74)/100 -> #DIV/0! | C108: =($E$57*C74)/100 -> #DIV/0! | D108: =($E$57*D74)/100 -> #DIV/0! | E108: =($E$57*E74)/100 -> #DIV/0! | F108: =($E$57*F74)/100 -> #DIV/0! | G108: =($E$57*G74)/100 -> #DIV/0! | H108: =($E$57*H74)/100 -> #DIV/0! | I108: =($E$57*I74)/100 -> #DIV/0! | ... M108: =($E$57*M74)/100 -> #DIV/0!
A109: Sub-totals | B109: =SUM(B105:B108) -> #DIV/0! | C109: =SUM(C105:C108) -> #DIV/0! | D109: =SUM(D105:D108) -> #DIV/0! | E109: =SUM(E105:E108) -> #DIV/0! | F109: =SUM(F105:F108) -> #DIV/0! | G109: =SUM(G105:G108) -> #DIV/0! | H109: =SUM(H105:H108) -> #DIV/0! | I109: =SUM(I105:I108) -> #DIV/0! | ... M109: =SUM(M105:M108) -> #DIV/0!
A111: Other species
A112: 0-20 mm | B112: =($B$58*B75)/100 -> #DIV/0! | C112: =($B$58*C75)/100 -> #DIV/0! | D112: =($B$58*D75)/100 -> #DIV/0! | E112: =($B$58*E75)/100 -> #DIV/0! | F112: =($B$58*F75)/100 -> #DIV/0! | G112: =($B$58*G75)/100 -> #DIV/0! | H112: =($B$58*H75)/100 -> #DIV/0! | I112: =($B$58*I75)/100 -> #DIV/0! | ... M112: =($B$58*M75)/100 -> #DIV/0! | N112: Use overall average data
A113: 21-40 mm | B113: =($C$58*B75)/100 -> #DIV/0! | C113: =($C$58*C75)/100 -> #DIV/0! | D113: =($C$58*D75)/100 -> #DIV/0! | E113: =($C$58*E75)/100 -> #DIV/0! | F113: =($C$58*F75)/100 -> #DIV/0! | G113: =($C$58*G75)/100 -> #DIV/0! | H113: =($C$58*H75)/100 -> #DIV/0! | I113: =($C$58*I75)/100 -> #DIV/0! | ... M113: =($C$58*M75)/100 -> #DIV/0! | N113: Use overall average data
A114: 41-60 mm | B114: =($D$58*B75)/100 -> #DIV/0! | C114: =($D$58*C75)/100 -> #DIV/0! | D114: =($D$58*D75)/100 -> #DIV/0! | E114: =($D$58*E75)/100 -> #DIV/0! | F114: =($D$58*F75)/100 -> #DIV/0! | G114: =($D$58*G75)/100 -> #DIV/0! | H114: =($D$58*H75)/100 -> #DIV/0! | I114: =($D$58*I75)/100 -> #DIV/0! | ... M114: =($D$58*M75)/100 -> #DIV/0! | N114: Use overall average data
A115: 61-80 mm | B115: =($E$58*B75)/100 -> #DIV/0! | C115: =($E$58*C75)/100 -> #DIV/0! | D115: =($E$58*D75)/100 -> #DIV/0! | E115: =($E$58*E75)/100 -> #DIV/0! | F115: =($E$58*F75)/100 -> #DIV/0! | G115: =($E$58*G75)/100 -> #DIV/0! | H115: =($E$58*H75)/100 -> #DIV/0! | I115: =($E$58*I75)/100 -> #DIV/0! | ... M115: =($E$58*M75)/100 -> #DIV/0! | N115: Use overall average data
A116: 81-100 mm | B116: =($F$58*B75)/100 -> #DIV/0! | C116: =($F$58*C75)/100 -> #DIV/0! | D116: =($F$58*D75)/100 -> #DIV/0! | E116: =($F$58*E75)/100 -> #DIV/0! | F116: =($F$58*F75)/100 -> #DIV/0! | G116: =($F$58*G75)/100 -> #DIV/0! | H116: =($F$58*H75)/100 -> #DIV/0! | I116: =($F$58*I75)/100 -> #DIV/0! | ... M116: =($F$58*M75)/100 -> #DIV/0! | N116: Use overall average data
A117: >100 mm | B117: =($G$58*B75)/100 -> #DIV/0! | C117: =($G$58*C75)/100 -> #DIV/0! | D117: =($G$58*D75)/100 -> #DIV/0! | E117: =($G$58*E75)/100 -> #DIV/0! | F117: =($G$58*F75)/100 -> #DIV/0! | G117: =($G$58*G75)/100 -> #DIV/0! | H117: =($G$58*H75)/100 -> #DIV/0! | I117: =($G$58*I75)/100 -> #DIV/0! | ... M117: =($G$58*M75)/100 -> #DIV/0! | N117: Use overall average data
A118: Sub-totals | B118: =SUM(B112:B117) -> #DIV/0! | C118: =SUM(C112:C117) -> #DIV/0! | D118: =SUM(D112:D117) -> #DIV/0! | E118: =SUM(E112:E117) -> #DIV/0! | F118: =SUM(F112:F117) -> #DIV/0! | G118: =SUM(G112:G117) -> #DIV/0! | H118: =SUM(H112:H117) -> #DIV/0! | I118: =SUM(I112:I117) -> #DIV/0! | ... M118: =SUM(M112:M117) -> #DIV/0!
A121: 8. Sediment production rates (kg/ m2 /yr) for each species by grain size fractions
B122: >4mm | C122: 2-4 mm | D122: 1-2 mm | E122: 0.5-1 mm | F122: 0.25-0.5 mm | G122: 0.125-0.25 mm | H122: 63 to 125 um | I122: 31-63 um | J122: <32 um | K122: 8-16 um | L122: 4-8 um | M122: <4 um
A123: Species | B123: Pebble | C123: Gravel | D123: V coarse sand | E123: Coarse sand | F123: Med sand | G123: Fine sand | H123: V fine sand | I123: Coarse silt | J123: Med silt | K123: Fine silt | L123: V fine silt | M123: Clay
...

Sheet Endolithic Sponges
A1: ENDOLITHIC SPONGES | B1: Enter data into pale blue boxes only
A3: Transect number
A4: Number of quadrats
A5: Quadrat size (m2) | C5: e.g . 50 x 50 cm = 0.25m²
A8: 1. Census data - sponge tissue cover (total cm2) per quadrat
B9: Q1 | C9: Q2 | D9: Q3 | E9: Q4 | F9: Q5 | G9: Q6 | H9: Q7 | I9: Q8 | J9: Q9 | K9: Q10
A10: Planar survey area (cm2) | B10: =$B$5*10000 -> 0 | C10: =$B$5*10000 -> 0 | D10: =$B$5*10000 -> 0 | E10: =$B$5*10000 -> 0 | F10: =$B$5*10000 -> 0 | G10: =$B$5*10000 -> 0 | H10: =$B$5*10000 -> 0 | I10: =$B$5*10000 -> 0 | ... K10: =$B$5*10000 -> 0 | L10: Mean/m2
A11: Measured tissue cover (cm2) | B11: cm2 | C11: cm2 | D11: cm2 | E11: cm2 | F11: cm2 | G11: cm2 | H11: cm2 | I11: cm2 | J11: cm2 | K11: cm2
A12: C. aprica | L12: =((((SUM(B12:K12)/$B$4))/10000)/$B$5) -> #DIV/0!
A13: C. caribbaea | L13: =((((SUM(B13:K13)/$B$4))/10000)/$B$5) -> #DIV/0!
A14: C. tenuis | L14: =((((SUM(B14:K14)/$B$4))/10000)/$B$5) -> #DIV/0!
A15: C. varians | L15: =((((SUM(B15:K15)/$B$4))/10000)/$B$5) -> #DIV/0!
A16: C. delitrix | L16: =((((SUM(B16:K16)/$B$4))/10000)/$B$5) -> #DIV/0!
A17: C. amplicavata | L17: =((((SUM(B17:K17)/$B$4))/10000)/$B$5) -> #DIV/0!
A18: Siphonodictyon spp. | L18: =((((SUM(B18:K18)/$B$4))/10000)/$B$5) -> #DIV/0!
A19: S. flavolivescens | L19: =((((SUM(B19:K19)/$B$4))/10000)/$B$5) -> #DIV/0!
A22: 2. Measured rate of endolithic bioerosion/m2 (from literature)
A24: Sponge species where known | B24: Sediment production rate (kg CaCO3 m-2yr-1) | C24: Source (nb. can be user changed if desired)
A25: C. aprica | B25: 1.4 | C25: Based on rates in de Bakker et al. 2018; 2024 | F25: Mean for substrates: A. palmata (1.7); O. faveolata (1.0)
A26: C. caribbaea | B26: 4.6 | C26: Based on rates in de Bakker et al. 2018; 2024 | F26: Mean for substrates A. palmata (4.9); O. faveolata (4.2)
A27: C. tenuis | B27: 4.2 | C27: Based on rates in de Bakker et al. 2018; 2024 | F27: Mean for substrates A. palmata (4.5); O. faveolata (3.9)
A28: C. varians | B28: 2.9 | C28: Based on rates in de Bakker et al. 2018; 2024 | F28: Reef framework
A29: C. delitrix | B29: 5.4 | C29: Based on rates in de Bakker et al. 2018; 2024 | F29: Mean for substrates A. palmata (6.1); S. siderea (5.2); O. faveolata (4.9)
A30: C. amplicavata | B30: 2.8 | C30: Based on rates in de Bakker et al. 2018; 2024 | F30: In A. palmata
A31: Siphonodictyon spp. | B31: 6.3 | C31: Based on rates in de Bakker et al. 2018; 2024 | F31: in O. faveolata
A32: S. flavolivescens | B32: 1 | C32: Based on rates in de Bakker et al. 2018; 2024 | F32: in O. faveolata
A35: 3. Resultant mean sediment generation rates by species (kg CaCO3 /m2/ yr)
A37: Caribbean species
A38: C. aprica | B38: =B25*L12 -> #DIV/0!
A39: C. caribbaea | B39: =B26*L13 -> #DIV/0!
A40: C. tenuis | B40: =B27*L14 -> #DIV/0!
A41: C. varians | B41: =B28*L15 -> #DIV/0!
A42: C. delitrix | B42: =B29*L16 -> #DIV/0!
A43: C. amplicavata | B43: =B30*L17 -> #DIV/0!
A44: Siphonodictyon spp. | B44: =B31*L18 -> #DIV/0!
A45: S. flavolivescens | B45: =B32*L19 -> #DIV/0!
A46: TOTAL | B46: =SUM(B38:B45) -> #DIV/0!
A48: 4. Proportions of sediment grain size fractions produced
B49: >4 mm | C49: 2-4 mm | D49: 1-2 mm | E49: 0.5-1 mm | F49: 0.25-0.5 mm | G49: 0.125-0.25 mm | H49: 63 to 125 um | I49: 31-63 um | J49: 16-31 um | K49: 8-16 um | L49: 4-8 um | M49: <4 um
A50: Udden/Wentworth | B50: Pebble | C50: Gravel | D50: V coarse sand | E50: Coarse sand | F50: Med sand | G50: Fine sand | H50: V fine sand | I50: Coarse silt | J50: Med silt | K50: Fine silt | L50: V fine silt | M50: Clay
A51: Sponge growth form/species
A52: Cliona aprica | B52: 0 | C52: 0 | D52: 0 | E52: 0 | F52: 0 | G52: 0 | H52: 0.11 | I52: 0.8 | J52: 0.09 | K52: 0 | L52: 0 | M52: 0 | N52: Based on rates in de Bakker et al. 2024
A53: C. caribbaea | B53: 0 | C53: 0 | D53: 0 | E53: 0 | F53: 0 | G53: 0 | H53: 0.06 | I53: 0.81 | J53: =AVERAGE(0.194,0.069) -> 0.1315 | K53: 0 | L53: 0 | M53: 0 | N53: Based on rates in de Bakker et al. 2024
A54: C. tenuis | B54: 0 | C54: 0 | D54: 0 | E54: 0 | F54: 0 | G54: 0 | H54: 0.02 | I54: 0.87 | J54: 0.11 | K54: 0 | L54: 0 | M54: 0 | N54: Based on rates in de Bakker et al. 2024
A55: C. varians | B55: 0 | C55: 0 | D55: 0 | E55: 0 | F55: 0 | G55: 0 | H55: 0.088 | I55: 0.87 | J55: 0.04 | K55: 0 | L55: 0 | M55: 0 | N55: Based on rates in de Bakker et al. 2024
A56: C. delitrix | B56: 0 | C56: 0 | D56: 0 | E56: 0 | F56: 0 | G56: 0 | H56: 0.104 | I56: 0.78266667 | J56: 0.11333333 | K56: 0 | L56: 0 | M56: 0 | N56: Based on rates in de Bakker et al. 2024
A57: C. amplicavata | B57: 0 | C57: 0 | D57: 0 | E57: 0 | F57: 0 | G57: 0 | H57: 0.27 | I57: 0.6 | J57: 0.13 | K57: 0 | L57: 0 | M57: 0 | N57: Based on rates in de Bakker et al. 2024
A58: Siphonodictyon spp. | B58: 0 | C58: 0 | D58: 0 | E58: 0 | F58: 0 | G58: 0 | H58: 0.15 | I58: 0.68 | J58: 0.17 | K58: 0 | L58: 0 | M58: 0 | N58: Based on rates in de Bakker et al. 2024
A59: S. flavolivescens | B59: 0 | C59: 0 | D59: 0 | E59: 0 | F59: 0 | G59: 0 | H59: 0.18 | I59: 0.658 | J59: 0.162 | K59: 0 | L59: 0 | M59: 0 | N59: Based on rates in de Bakker et al. 2024
A60: Mean of above | B60: =AVERAGE(B52:B59) -> 0 | C60: =AVERAGE(C52:C59) -> 0 | D60: =AVERAGE(D52:D59) -> 0 | E60: =AVERAGE(E52:E59) -> 0 | F60: =AVERAGE(F52:F59) -> 0 | G60: =AVERAGE(G52:G59) -> 0 | H60: =AVERAGE(H52:H59) -> 0.12275 | I60: =AVERAGE(I52:I59) -> 0.75883333 | ... M60: =AVERAGE(M52:M59) -> 0 | N60: Mean of above
A63: 5. Sediment production rates (kg m-2 yr-1) by grain size fractions
B65: >4mm | C65: 2-4 mm | D65: 1-2 mm | E65: 0.5-1 mm | F65: 0.25-0.5 mm | G65: 0.125-0.25 mm | H65: 63 to 125 um | I65: 31-63 um | J65: 16-31 um | K65: 8-16 um | L65: 4-8 um | M65: <4 um
A66: Sponge growth form/species | B66: Pebble | C66: Gravel | D66: Vc sand | E66: C. sand | F66: Med sand | G66: Fine sand | H66: V fine sand | I66: Coarse silt | J66: Med silt | K66: Fine silt | L66: V fine silt | M66: Clay
A67: C. aprica | B67: =$B$38*B52 -> #DIV/0! | C67: =$B$38*C52 -> #DIV/0! | D67: =$B$38*D52 -> #DIV/0! | E67: =$B$38*E52 -> #DIV/0! | F67: =$B$38*F52 -> #DIV/0! | G67: =$B$38*G52 -> #DIV/0! | H67: =$B$38*H52 -> #DIV/0! | I67: =$B$38*I52 -> #DIV/0! | ... M67: =$B$38*M52 -> #DIV/0!
A68: C. caribbaea | B68: =$B$39*B53 -> #DIV/0! | C68: =$B$39*C53 -> #DIV/0! | D68: =$B$39*D53 -> #DIV/0! | E68: =$B$39*E53 -> #DIV/0! | F68: =$B$39*F53 -> #DIV/0! | G68: =$B$39*G53 -> #DIV/0! | H68: =$B$39*H53 -> #DIV/0! | I68: =$B$39*I53 -> #DIV/0! | ... M68: =$B$39*M53 -> #DIV/0!
A69: C. tenuis | B69: =$B$40*B54 -> #DIV/0! | C69: =$B$40*C54 -> #DIV/0! | D69: =$B$40*D54 -> #DIV/0! | E69: =$B$40*E54 -> #DIV/0! | F69: =$B$40*F54 -> #DIV/0! | G69: =$B$40*G54 -> #DIV/0! | H69: =$B$40*H54 -> #DIV/0! | I69: =$B$40*I54 -> #DIV/0! | ... M69: =$B$40*M54 -> #DIV/0!
A70: C. varians | B70: =$B$41*B55 -> #DIV/0! | C70: =$B$41*C55 -> #DIV/0! | D70: =$B$41*D55 -> #DIV/0! | E70: =$B$41*E55 -> #DIV/0! | F70: =$B$41*F55 -> #DIV/0! | G70: =$B$41*G55 -> #DIV/0! | H70: =$B$41*H55 -> #DIV/0! | I70: =$B$41*I55 -> #DIV/0! | ... M70: =$B$41*M55 -> #DIV/0!
A71: C. delitrix | B71: =$B$42*B56 -> #DIV/0! | C71: =$B$42*C56 -> #DIV/0! | D71: =$B$42*D56 -> #DIV/0! | E71: =$B$42*E56 -> #DIV/0! | F71: =$B$42*F56 -> #DIV/0! | G71: =$B$42*G56 -> #DIV/0! | H71: =$B$42*H56 -> #DIV/0! | I71: =$B$42*I56 -> #DIV/0! | ... M71: =$B$42*M56 -> #DIV/0!
A72: C. amplicavata | B72: =$B$43*B57 -> #DIV/0! | C72: =$B$43*C57 -> #DIV/0! | D72: =$B$43*D57 -> #DIV/0! | E72: =$B$43*E57 -> #DIV/0! | F72: =$B$43*F57 -> #DIV/0! | G72: =$B$43*G57 -> #DIV/0! | H72: =$B$43*H57 -> #DIV/0! | I72: =$B$43*I57 -> #DIV/0! | ... M72: =$B$43*M57 -> #DIV/0!
A73: Siphonodictyon spp. | B73: =$B$44*B58 -> #DIV/0! | C73: =$B$44*C58 -> #DIV/0! | D73: =$B$44*D58 -> #DIV/0! | E73: =$B$44*E58 -> #DIV/0! | F73: =$B$44*F58 -> #DIV/0! | G73: =$B$44*G58 -> #DIV/0! | H73: =$B$44*H58 -> #DIV/0! | I73: =$B$44*I58 -> #DIV/0! | ... M73: =$B$44*M58 -> #DIV/0!
A74: S. flavolivescens | B74: =$B$45*B59 -> #DIV/0! | C74: =$B$45*C59 -> #DIV/0! | D74: =$B$45*D59 -> #DIV/0! | E74: =$B$45*E59 -> #DIV/0! | F74: =$B$45*F59 -> #DIV/0! | G74: =$B$45*G59 -> #DIV/0! | H74: =$B$45*H59 -> #DIV/0! | I74: =$B$45*I59 -> #DIV/0! | ... M74: =$B$45*M59 -> #DIV/0!
A76: 6. Total sediment production rates (kg/ m2/ yr) for all species by grain size fractions | N76: TOTAL
A77: TOTAL (kg /m2 /yr) | B77: =IF($B$3 = "", "", SUM(B67:B74)) | C77: =IF($B$3 = "", "", SUM(C67:C74)) | D77: =IF($B$3 = "", "", SUM(D67:D74)) | E77: =IF($B$3 = "", "", SUM(E67:E74)) | F77: =IF($B$3 = "", "", SUM(F67:F74)) | G77: =IF($B$3 = "", "", SUM(G67:G74)) | H77: =IF($B$3 = "", "", SUM(H67:H74)) | I77: =IF($B$3 = "", "", SUM(I67:I74)) | ... M77: =IF($B$3 = "", "", SUM(M67:M74)) | N77: =SUM(C77:M77) -> 0

Sheet Articulated Coralline Alage
A1: ACA | B1: Enter species and relevant metrics into grey boxes
B2: Enter data into pale blue boxes only
A4: Transect number
A5: Number of quadrats
A6: Quadrat size (m2) | C6: e.g . 50 x 50 cm = 0.25m²
A8: A: Thallus volume and carbonate metrics | G8: COPY IN RELEVANT METRICS FROM "AMPHIROA METRICS" SHEET
A9: Species | C9: Species code | H9: Source/notes
D10: Growth rate (mm per day) | E10: Source/notes | G10: CaCO3 per cm3
A11: Ampriroa fragilissima | C11: 1 | D11: 0.287725 | E11: from Hale et al. (in prep) - Mexico data | G11: 0.0691176 | H11: from Hale et al. (in prep) - Mexico data
A12: Amphiroa tribulus | C12: 2 | D12: 0.16539 | E12: from Hale et al. (in prep) - Mexico data | G12: 0.04785565 | H12: from Hale et al. (in prep) - Mexico data
A13: Tricleocarpa fragilis | C13: 3 | D13: 0.1709 | E13: from Hale et al. (in prep) - Mexico data | G13: 0.02443417 | H13: from Hale et al. (in prep) - Mexico data
C14: 4
C15: 5
C16: 6
C17: 7
C18: 8
A20: B: Proportions of sediment grain size fractions produced | G20: COPY IN RELEVANT PROPORTIONAL BREAKDOWN DATA FROM "AMPHIROA METRICS" SHEET
A21: Species | B21: Species code | C21: >4mm | D21: 2-4 mm | E21: 1-2 mm | F21: 0.5-1 mm | G21: 0.25-0.5 mm | H21: 0.125-0.25 mm | I21: 63 to 125 um | J21: 32-63 um | K21: 16-31 um | L21: 8-16 um | M21: 4-8 um | N21: <4 um
C22: Pebble | D22: Gravel | E22: V coarse sand | F22: Coarse sand | G22: Med sand | H22: Fine sand | I22: V fine sand | J22: Coarse silt | K22: Med silt | L22: Fine silt | M22: V fine silt | N22: Clay | O22: Source/notes
A23: =IF($A$11="","",($A$11)) -> Ampriroa fragilissima | B23: 1 | C23: 0.0059220624 | D23: 0.19570826 | E23: 0.27859412 | F23: 0.1930409 | G23: 0.047359823 | H23: 0.0080911908 | I23: 0.0018444575 | J23: 0.000583515 | K23: 0.26885568 | L23: 0 | M23: 0 | N23: 0 | O23: from Hale et al. (in prep)
A24: =IF($A$12="","",($A$12)) -> Amphiroa tribulus | B24: 2 | C24: 0.25524514 | D24: 0.39285908 | E24: 0.16242662 | F24: 0.036257699 | G24: 0.0065441281 | H24: 0.0018690935 | I24: 0.0006857764 | J24: 0.0002643255 | K24: 0.14384814 | L24: 0 | M24: 0 | N24: 0 | O24: from Hale et al. (in prep)
A25: =IF($A$13="","",($A$13)) -> Tricleocarpa fragilis | B25: 3 | C25: 0 | D25: 0.0009931554 | E25: 0.015816536 | F25: 0.035953699 | G25: 0.059783699 | H25: 0.048355659 | I25: 0.058617233 | J25: 0.049910253 | K25: 0.73056977 | L25: 0 | M25: 0 | N25: 0 | O25: from Hale et al. (in prep)
A26: =IF($A$14="","",($A$14)) | B26: 4
A27: =IF($A$15="","",($A$15)) | B27: 5
A28: =IF($A$16="","",($A$16)) | B28: 6
A29: =IF($A$17="","",($A$17)) | B29: 7
A30: =IF($A$18="","",($A$18)) | B30: 8
A32: 1. DATA ENTRY - Measurements of individual thalli per quadrat
D33: THALLUS DIMENSIONS | K33: PRODUCTION/THALLUS | R33: Production rates per species
A34: Quadrat # | B34: Species / morphology code (select from above) | C34: width (mm) | D34: depth (mm) | E34: height h (mm) | F34: Total thallus volume (cm3) | G34: Growth rate (mm/day) | H34: Volume Increase in 1 day (cm3) | I34: CaCO3 per cm3 | J34: CaCO3 prod (g) /thallus/yr | K34: g CaCO3/m2/yr | L34: kg CaCO3/m2/yr | M34: . | N34: Species 1 | O34: Species 2 | P34: Species 3 | Q34: Species 4 | R34: Species 5 | S34: Species 6 | T34: Species 7 | U34: Species 8
A35: =1 -> 1 | F35: =(0.5*(4/3*(PI()*((C35*0.5)*(D35*0.5)*E35)))/1000) -> 0 | G35: =IF(B35=1,$D$11,IF(B35=2,$D$12,IF(B35=3,$D$13,IF(B35=4,$D$14,IF(B35=5,$D$15,IF(B35=6,$D$16,IF(B35=7,$D$17,IF(B35=8,$D$18,)))))))) -> 0 | H35: =IF(F35>0,(((0.5*(4/3*(PI()*(((0.5*C35)+G35))*(((0.5*D35)+G35))*(E35+G35))))/1000-F35)), 0) -> 0 | I35: =IF(B35=1,$G$11,IF(B35=2,$G$12,IF(B35=3,$G$13,IF(B35=4,$G$14,IF(B35=5,$G$15,IF(B35=6,$G$16,IF(B35=7,$G$17,IF(B35=8,$G$18,"")))))))) | J35: =IFERROR((H35*I35)*365, "") | K35: =IFERROR(J35*(1/$B$6), "") | L35: =IFERROR(K35/1000, "") | N35: =IF(B35=1, L35,"") | O35: =IF(B35=2, L35,"") | P35: =IF(B35=3, L35,"") | Q35: =IF(B35=4, L35,"") | R35: =IF(B35=5, L35,"") | S35: =IF(B35=6, L35,"") | T35: =IF(B35=7, L35,"") | U35: =IF(B35=8, L35,"")
A36: =1 -> 1 | F36: =(0.5*(4/3*(PI()*((C36*0.5)*(D36*0.5)*E36)))/1000) -> 0 | G36: =IF(B36=1,$D$11,IF(B36=2,$D$12,IF(B36=3,$D$13,IF(B36=4,$D$14,IF(B36=5,$D$15,IF(B36=6,$D$16,IF(B36=7,$D$17,IF(B36=8,$D$18,)))))))) -> 0 | H36: =IF(F36>0,(((0.5*(4/3*(PI()*(((0.5*C36)+G36))*(((0.5*D36)+G36))*(E36+G36))))/1000-F36)), 0) -> 0 | I36: =IF(B36=1,$G$11,IF(B36=2,$G$12,IF(B36=3,$G$13,IF(B36=4,$G$14,IF(B36=5,$G$15,IF(B36=6,$G$16,IF(B36=7,$G$17,IF(B36=8,$G$18,"")))))))) | J36: =IFERROR((H36*I36)*365, "") | K36: =IFERROR(J36*(1/$B$6), "") | L36: =IFERROR(K36/1000, "") | N36: =IF(B36=1, L36,"") | O36: =IF(B36=2, L36,"") | P36: =IF(B36=3, L36,"") | Q36: =IF(B36=4, L36,"") | R36: =IF(B36=5, L36,"") | S36: =IF(B36=6, L36,"") | T36: =IF(B36=7, L36,"") | U36: =IF(B36=8, L36,"")
A37: =1 -> 1 | F37: =(0.5*(4/3*(PI()*((C37*0.5)*(D37*0.5)*E37)))/1000) -> 0 | G37: =IF(B37=1,$D$11,IF(B37=2,$D$12,IF(B37=3,$D$13,IF(B37=4,$D$14,IF(B37=5,$D$15,IF(B37=6,$D$16,IF(B37=7,$D$17,IF(B37=8,$D$18,)))))))) -> 0 | H37: =IF(F37>0,(((0.5*(4/3*(PI()*(((0.5*C37)+G37))*(((0.5*D37)+G37))*(E37+G37))))/1000-F37)), 0) -> 0 | I37: =IF(B37=1,$G$11,IF(B37=2,$G$12,IF(B37=3,$G$13,IF(B37=4,$G$14,IF(B37=5,$G$15,IF(B37=6,$G$16,IF(B37=7,$G$17,IF(B37=8,$G$18,"")))))))) | J37: =IFERROR((H37*I37)*365, "") | K37: =IFERROR(J37*(1/$B$6), "") | L37: =IFERROR(K37/1000, "") | N37: =IF(B37=1, L37,"") | O37: =IF(B37=2, L37,"") | P37: =IF(B37=3, L37,"") | Q37: =IF(B37=4, L37,"") | R37: =IF(B37=5, L37,"") | S37: =IF(B37=6, L37,"") | T37: =IF(B37=7, L37,"") | U37: =IF(B37=8, L37,"")
A38: =1 -> 1 | F38: =(0.5*(4/3*(PI()*((C38*0.5)*(D38*0.5)*E38)))/1000) -> 0 | G38: =IF(B38=1,$D$11,IF(B38=2,$D$12,IF(B38=3,$D$13,IF(B38=4,$D$14,IF(B38=5,$D$15,IF(B38=6,$D$16,IF(B38=7,$D$17,IF(B38=8,$D$18,)))))))) -> 0 | H38: =IF(F38>0,(((0.5*(4/3*(PI()*(((0.5*C38)+G38))*(((0.5*D38)+G38))*(E38+G38))))/1000-F38)), 0) -> 0 | I38: =IF(B38=1,$G$11,IF(B38=2,$G$12,IF(B38=3,$G$13,IF(B38=4,$G$14,IF(B38=5,$G$15,IF(B38=6,$G$16,IF(B38=7,$G$17,IF(B38=8,$G$18,"")))))))) | J38: =IFERROR((H38*I38)*365, "") | K38: =IFERROR(J38*(1/$B$6), "") | L38: =IFERROR(K38/1000, "") | N38: =IF(B38=1, L38,"") | O38: =IF(B38=2, L38,"") | P38: =IF(B38=3, L38,"") | Q38: =IF(B38=4, L38,"") | R38: =IF(B38=5, L38,"") | S38: =IF(B38=6, L38,"") | T38: =IF(B38=7, L38,"") | U38: =IF(B38=8, L38,"")
A39: =1 -> 1 | F39: =(0.5*(4/3*(PI()*((C39*0.5)*(D39*0.5)*E39)))/1000) -> 0 | G39: =IF(B39=1,$D$11,IF(B39=2,$D$12,IF(B39=3,$D$13,IF(B39=4,$D$14,IF(B39=5,$D$15,IF(B39=6,$D$16,IF(B39=7,$D$17,IF(B39=8,$D$18,)))))))) -> 0 | H39: =IF(F39>0,(((0.5*(4/3*(PI()*(((0.5*C39)+G39))*(((0.5*D39)+G39))*(E39+G39))))/1000-F39)), 0) -> 0 | I39: =IF(B39=1,$G$11,IF(B39=2,$G$12,IF(B39=3,$G$13,IF(B39=4,$G$14,IF(B39=5,$G$15,IF(B39=6,$G$16,IF(B39=7,$G$17,IF(B39=8,$G$18,"")))))))) | J39: =IFERROR((H39*I39)*365, "") | K39: =IFERROR(J39*(1/$B$6), "") | L39: =IFERROR(K39/1000, "") | N39: =IF(B39=1, L39,"") | O39: =IF(B39=2, L39,"") | P39: =IF(B39=3, L39,"") | Q39: =IF(B39=4, L39,"") | R39: =IF(B39=5, L39,"") | S39: =IF(B39=6, L39,"") | T39: =IF(B39=7, L39,"") | U39: =IF(B39=8, L39,"")
A40: =1 -> 1 | F40: =(0.5*(4/3*(PI()*((C40*0.5)*(D40*0.5)*E40)))/1000) -> 0 | G40: =IF(B40=1,$D$11,IF(B40=2,$D$12,IF(B40=3,$D$13,IF(B40=4,$D$14,IF(B40=5,$D$15,IF(B40=6,$D$16,IF(B40=7,$D$17,IF(B40=8,$D$18,)))))))) -> 0 | H40: =IF(F40>0,(((0.5*(4/3*(PI()*(((0.5*C40)+G40))*(((0.5*D40)+G40))*(E40+G40))))/1000-F40)), 0) -> 0 | I40: =IF(B40=1,$G$11,IF(B40=2,$G$12,IF(B40=3,$G$13,IF(B40=4,$G$14,IF(B40=5,$G$15,IF(B40=6,$G$16,IF(B40=7,$G$17,IF(B40=8,$G$18,"")))))))) | J40: =IFERROR((H40*I40)*365, "") | K40: =IFERROR(J40*(1/$B$6), "") | L40: =IFERROR(K40/1000, "") | N40: =IF(B40=1, L40,"") | O40: =IF(B40=2, L40,"") | P40: =IF(B40=3, L40,"") | Q40: =IF(B40=4, L40,"") | R40: =IF(B40=5, L40,"") | S40: =IF(B40=6, L40,"") | T40: =IF(B40=7, L40,"") | U40: =IF(B40=8, L40,"")
A41: =1 -> 1 | F41: =(0.5*(4/3*(PI()*((C41*0.5)*(D41*0.5)*E41)))/1000) -> 0 | G41: =IF(B41=1,$D$11,IF(B41=2,$D$12,IF(B41=3,$D$13,IF(B41=4,$D$14,IF(B41=5,$D$15,IF(B41=6,$D$16,IF(B41=7,$D$17,IF(B41=8,$D$18,)))))))) -> 0 | H41: =IF(F41>0,(((0.5*(4/3*(PI()*(((0.5*C41)+G41))*(((0.5*D41)+G41))*(E41+G41))))/1000-F41)), 0) -> 0 | I41: =IF(B41=1,$G$11,IF(B41=2,$G$12,IF(B41=3,$G$13,IF(B41=4,$G$14,IF(B41=5,$G$15,IF(B41=6,$G$16,IF(B41=7,$G$17,IF(B41=8,$G$18,"")))))))) | J41: =IFERROR((H41*I41)*365, "") | K41: =IFERROR(J41*(1/$B$6), "") | L41: =IFERROR(K41/1000, "") | N41: =IF(B41=1, L41,"") | O41: =IF(B41=2, L41,"") | P41: =IF(B41=3, L41,"") | Q41: =IF(B41=4, L41,"") | R41: =IF(B41=5, L41,"") | S41: =IF(B41=6, L41,"") | T41: =IF(B41=7, L41,"") | U41: =IF(B41=8, L41,"")
A42: =1 -> 1 | F42: =(0.5*(4/3*(PI()*((C42*0.5)*(D42*0.5)*E42)))/1000) -> 0 | G42: =IF(B42=1,$D$11,IF(B42=2,$D$12,IF(B42=3,$D$13,IF(B42=4,$D$14,IF(B42=5,$D$15,IF(B42=6,$D$16,IF(B42=7,$D$17,IF(B42=8,$D$18,)))))))) -> 0 | H42: =IF(F42>0,(((0.5*(4/3*(PI()*(((0.5*C42)+G42))*(((0.5*D42)+G42))*(E42+G42))))/1000-F42)), 0) -> 0 | I42: =IF(B42=1,$G$11,IF(B42=2,$G$12,IF(B42=3,$G$13,IF(B42=4,$G$14,IF(B42=5,$G$15,IF(B42=6,$G$16,IF(B42=7,$G$17,IF(B42=8,$G$18,"")))))))) | J42: =IFERROR((H42*I42)*365, "") | K42: =IFERROR(J42*(1/$B$6), "") | L42: =IFERROR(K42/1000, "") | N42: =IF(B42=1, L42,"") | O42: =IF(B42=2, L42,"") | P42: =IF(B42=3, L42,"") | Q42: =IF(B42=4, L42,"") | R42: =IF(B42=5, L42,"") | S42: =IF(B42=6, L42,"") | T42: =IF(B42=7, L42,"") | U42: =IF(B42=8, L42,"")
A43: =1 -> 1 | F43: =(0.5*(4/3*(PI()*((C43*0.5)*(D43*0.5)*E43)))/1000) -> 0 | G43: =IF(B43=1,$D$11,IF(B43=2,$D$12,IF(B43=3,$D$13,IF(B43=4,$D$14,IF(B43=5,$D$15,IF(B43=6,$D$16,IF(B43=7,$D$17,IF(B43=8,$D$18,)))))))) -> 0 | H43: =IF(F43>0,(((0.5*(4/3*(PI()*(((0.5*C43)+G43))*(((0.5*D43)+G43))*(E43+G43))))/1000-F43)), 0) -> 0 | I43: =IF(B43=1,$G$11,IF(B43=2,$G$12,IF(B43=3,$G$13,IF(B43=4,$G$14,IF(B43=5,$G$15,IF(B43=6,$G$16,IF(B43=7,$G$17,IF(B43=8,$G$18,"")))))))) | J43: =IFERROR((H43*I43)*365, "") | K43: =IFERROR(J43*(1/$B$6), "") | L43: =IFERROR(K43/1000, "") | N43: =IF(B43=1, L43,"") | O43: =IF(B43=2, L43,"") | P43: =IF(B43=3, L43,"") | Q43: =IF(B43=4, L43,"") | R43: =IF(B43=5, L43,"") | S43: =IF(B43=6, L43,"") | T43: =IF(B43=7, L43,"") | U43: =IF(B43=8, L43,"")
A44: =1 -> 1 | F44: =(0.5*(4/3*(PI()*((C44*0.5)*(D44*0.5)*E44)))/1000) -> 0 | G44: =IF(B44=1,$D$11,IF(B44=2,$D$12,IF(B44=3,$D$13,IF(B44=4,$D$14,IF(B44=5,$D$15,IF(B44=6,$D$16,IF(B44=7,$D$17,IF(B44=8,$D$18,)))))))) -> 0 | H44: =IF(F44>0,(((0.5*(4/3*(PI()*(((0.5*C44)+G44))*(((0.5*D44)+G44))*(E44+G44))))/1000-F44)), 0) -> 0 | I44: =IF(B44=1,$G$11,IF(B44=2,$G$12,IF(B44=3,$G$13,IF(B44=4,$G$14,IF(B44=5,$G$15,IF(B44=6,$G$16,IF(B44=7,$G$17,IF(B44=8,$G$18,"")))))))) | J44: =IFERROR((H44*I44)*365, "") | K44: =IFERROR(J44*(1/$B$6), "") | L44: =IFERROR(K44/1000, "") | N44: =IF(B44=1, L44,"") | O44: =IF(B44=2, L44,"") | P44: =IF(B44=3, L44,"") | Q44: =IF(B44=4, L44,"") | R44: =IF(B44=5, L44,"") | S44: =IF(B44=6, L44,"") | T44: =IF(B44=7, L44,"") | U44: =IF(B44=8, L44,"")
B45: # per quadrat | C45: =COUNT(B35:B44) -> 0 | J45: TOTAL | K45: =IF($A35<=$B$5,SUM(K35:K44),"") | L45: =IF($A35<=$B$5,SUM(L35:L44),"") | N45: =SUM(N35:N44) -> 0 | O45: =SUM(O35:O44) -> 0 | P45: =SUM(P35:P44) -> 0 | Q45: =SUM(Q35:Q44) -> 0 | R45: =SUM(R35:R44) -> 0 | S45: =SUM(S35:S44) -> 0 | T45: =SUM(T35:T44) -> 0 | U45: =SUM(U35:U44) -> 0
D50: THALLUS DIMENSIONS | K50: PRODUCTION/THALLUS | R50: Production rates per species
A51: Quadrat # | B51: Species / morphology code (select from above) | C51: width (mm) | D51: depth (mm) | E51: height h (mm) | F51: Total thallus volume (cm3) | G51: Growth rate (mm/day) | H51: Volume Increase in 1 day (cm3) | I51: CaCO3 per cm3 | J51: CaCO3 prod (g) /thallus/yr | K51: g CaCO3/m2/yr | L51: kg CaCO3/m2/yr | M51: 0.000 | N51: Species 1 | O51: Species 2 | P51: Species 3 | Q51: Species 4 | R51: Species 5 | S51: Species 6 | T51: Species 7 | U51: Species 8
A52: =2 -> 2 | F52: =(0.5*(4/3*(PI()*((C52*0.5)*(D52*0.5)*E52)))/1000) -> 0 | G52: =IF(B52=1,$D$11,IF(B52=2,$D$12,IF(B52=3,$D$13,IF(B52=4,$D$14,IF(B52=5,$D$15,IF(B52=6,$D$16,IF(B52=7,$D$17,IF(B52=8,$D$18,)))))))) -> 0 | H52: =IF(F52>0,(((0.5*(4/3*(PI()*(((0.5*C52)+G52))*(((0.5*D52)+G52))*(E52+G52))))/1000-F52)), 0) -> 0 | I52: =IF(B52=1,$G$11,IF(B52=2,$G$12,IF(B52=3,$G$13,IF(B52=4,$G$14,IF(B52=5,$G$15,IF(B52=6,$G$16,IF(B52=7,$G$17,IF(B52=8,$G$18,"")))))))) | J52: =IFERROR((H52*I52)*365, "") | K52: =IFERROR(J52*(1/$B$6), "") | L52: =IFERROR(K52/1000, "") | N52: =IF(B52=1, L52,"") | O52: =IF(B52=2, L52,"") | P52: =IF(B52=3, L52,"") | Q52: =IF(B52=4, L52,"") | R52: =IF(B52=5, L52,"") | S52: =IF(B52=6, L52,"") | T52: =IF(B52=7, L52,"") | U52: =IF(B52=8, L52,"")
A53: =2 -> 2 | F53: =(0.5*(4/3*(PI()*((C53*0.5)*(D53*0.5)*E53)))/1000) -> 0 | G53: =IF(B53=1,$D$11,IF(B53=2,$D$12,IF(B53=3,$D$13,IF(B53=4,$D$14,IF(B53=5,$D$15,IF(B53=6,$D$16,IF(B53=7,$D$17,IF(B53=8,$D$18,)))))))) -> 0 | H53: =IF(F53>0,(((0.5*(4/3*(PI()*(((0.5*C53)+G53))*(((0.5*D53)+G53))*(E53+G53))))/1000-F53)), 0) -> 0 | I53: =IF(B53=1,$G$11,IF(B53=2,$G$12,IF(B53=3,$G$13,IF(B53=4,$G$14,IF(B53=5,$G$15,IF(B53=6,$G$16,IF(B53=7,$G$17,IF(B53=8,$G$18,"")))))))) | J53: =IFERROR((H53*I53)*365, "") | K53: =IFERROR(J53*(1/$B$6), "") | L53: =IFERROR(K53/1000, "") | N53: =IF(B53=1, L53,"") | O53: =IF(B53=2, L53,"") | P53: =IF(B53=3, L53,"") | Q53: =IF(B53=4, L53,"") | R53: =IF(B53=5, L53,"") | S53: =IF(B53=6, L53,"") | T53: =IF(B53=7, L53,"") | U53: =IF(B53=8, L53,"")
A54: =2 -> 2 | F54: =(0.5*(4/3*(PI()*((C54*0.5)*(D54*0.5)*E54)))/1000) -> 0 | G54: =IF(B54=1,$D$11,IF(B54=2,$D$12,IF(B54=3,$D$13,IF(B54=4,$D$14,IF(B54=5,$D$15,IF(B54=6,$D$16,IF(B54=7,$D$17,IF(B54=8,$D$18,)))))))) -> 0 | H54: =IF(F54>0,(((0.5*(4/3*(PI()*(((0.5*C54)+G54))*(((0.5*D54)+G54))*(E54+G54))))/1000-F54)), 0) -> 0 | I54: =IF(B54=1,$G$11,IF(B54=2,$G$12,IF(B54=3,$G$13,IF(B54=4,$G$14,IF(B54=5,$G$15,IF(B54=6,$G$16,IF(B54=7,$G$17,IF(B54=8,$G$18,"")))))))) | J54: =IFERROR((H54*I54)*365, "") | K54: =IFERROR(J54*(1/$B$6), "") | L54: =IFERROR(K54/1000, "") | N54: =IF(B54=1, L54,"") | O54: =IF(B54=2, L54,"") | P54: =IF(B54=3, L54,"") | Q54: =IF(B54=4, L54,"") | R54: =IF(B54=5, L54,"") | S54: =IF(B54=6, L54,"") | T54: =IF(B54=7, L54,"") | U54: =IF(B54=8, L54,"")
A55: =2 -> 2 | F55: =(0.5*(4/3*(PI()*((C55*0.5)*(D55*0.5)*E55)))/1000) -> 0 | G55: =IF(B55=1,$D$11,IF(B55=2,$D$12,IF(B55=3,$D$13,IF(B55=4,$D$14,IF(B55=5,$D$15,IF(B55=6,$D$16,IF(B55=7,$D$17,IF(B55=8,$D$18,)))))))) -> 0 | H55: =IF(F55>0,(((0.5*(4/3*(PI()*(((0.5*C55)+G55))*(((0.5*D55)+G55))*(E55+G55))))/1000-F55)), 0) -> 0 | I55: =IF(B55=1,$G$11,IF(B55=2,$G$12,IF(B55=3,$G$13,IF(B55=4,$G$14,IF(B55=5,$G$15,IF(B55=6,$G$16,IF(B55=7,$G$17,IF(B55=8,$G$18,"")))))))) | J55: =IFERROR((H55*I55)*365, "") | K55: =IFERROR(J55*(1/$B$6), "") | L55: =IFERROR(K55/1000, "") | N55: =IF(B55=1, L55,"") | O55: =IF(B55=2, L55,"") | P55: =IF(B55=3, L55,"") | Q55: =IF(B55=4, L55,"") | R55: =IF(B55=5, L55,"") | S55: =IF(B55=6, L55,"") | T55: =IF(B55=7, L55,"") | U55: =IF(B55=8, L55,"")
A56: =2 -> 2 | F56: =(0.5*(4/3*(PI()*((C56*0.5)*(D56*0.5)*E56)))/1000) -> 0 | G56: =IF(B56=1,$D$11,IF(B56=2,$D$12,IF(B56=3,$D$13,IF(B56=4,$D$14,IF(B56=5,$D$15,IF(B56=6,$D$16,IF(B56=7,$D$17,IF(B56=8,$D$18,)))))))) -> 0 | H56: =IF(F56>0,(((0.5*(4/3*(PI()*(((0.5*C56)+G56))*(((0.5*D56)+G56))*(E56+G56))))/1000-F56)), 0) -> 0 | I56: =IF(B56=1,$G$11,IF(B56=2,$G$12,IF(B56=3,$G$13,IF(B56=4,$G$14,IF(B56=5,$G$15,IF(B56=6,$G$16,IF(B56=7,$G$17,IF(B56=8,$G$18,"")))))))) | J56: =IFERROR((H56*I56)*365, "") | K56: =IFERROR(J56*(1/$B$6), "") | L56: =IFERROR(K56/1000, "") | N56: =IF(B56=1, L56,"") | O56: =IF(B56=2, L56,"") | P56: =IF(B56=3, L56,"") | Q56: =IF(B56=4, L56,"") | R56: =IF(B56=5, L56,"") | S56: =IF(B56=6, L56,"") | T56: =IF(B56=7, L56,"") | U56: =IF(B56=8, L56,"")
A57: =2 -> 2 | F57: =(0.5*(4/3*(PI()*((C57*0.5)*(D57*0.5)*E57)))/1000) -> 0 | G57: =IF(B57=1,$D$11,IF(B57=2,$D$12,IF(B57=3,$D$13,IF(B57=4,$D$14,IF(B57=5,$D$15,IF(B57=6,$D$16,IF(B57=7,$D$17,IF(B57=8,$D$18,)))))))) -> 0 | H57: =IF(F57>0,(((0.5*(4/3*(PI()*(((0.5*C57)+G57))*(((0.5*D57)+G57))*(E57+G57))))/1000-F57)), 0) -> 0 | I57: =IF(B57=1,$G$11,IF(B57=2,$G$12,IF(B57=3,$G$13,IF(B57=4,$G$14,IF(B57=5,$G$15,IF(B57=6,$G$16,IF(B57=7,$G$17,IF(B57=8,$G$18,"")))))))) | J57: =IFERROR((H57*I57)*365, "") | K57: =IFERROR(J57*(1/$B$6), "") | L57: =IFERROR(K57/1000, "") | N57: =IF(B57=1, L57,"") | O57: =IF(B57=2, L57,"") | P57: =IF(B57=3, L57,"") | Q57: =IF(B57=4, L57,"") | R57: =IF(B57=5, L57,"") | S57: =IF(B57=6, L57,"") | T57: =IF(B57=7, L57,"") | U57: =IF(B57=8, L57,"")
A58: =2 -> 2 | F58: =(0.5*(4/3*(PI()*((C58*0.5)*(D58*0.5)*E58)))/1000) -> 0 | G58: =IF(B58=1,$D$11,IF(B58=2,$D$12,IF(B58=3,$D$13,IF(B58=4,$D$14,IF(B58=5,$D$15,IF(B58=6,$D$16,IF(B58=7,$D$17,IF(B58=8,$D$18,)))))))) -> 0 | H58: =IF(F58>0,(((0.5*(4/3*(PI()*(((0.5*C58)+G58))*(((0.5*D58)+G58))*(E58+G58))))/1000-F58)), 0) -> 0 | I58: =IF(B58=1,$G$11,IF(B58=2,$G$12,IF(B58=3,$G$13,IF(B58=4,$G$14,IF(B58=5,$G$15,IF(B58=6,$G$16,IF(B58=7,$G$17,IF(B58=8,$G$18,"")))))))) | J58: =IFERROR((H58*I58)*365, "") | K58: =IFERROR(J58*(1/$B$6), "") | L58: =IFERROR(K58/1000, "") | N58: =IF(B58=1, L58,"") | O58: =IF(B58=2, L58,"") | P58: =IF(B58=3, L58,"") | Q58: =IF(B58=4, L58,"") | R58: =IF(B58=5, L58,"") | S58: =IF(B58=6, L58,"") | T58: =IF(B58=7, L58,"") | U58: =IF(B58=8, L58,"")
A59: =2 -> 2 | F59: =(0.5*(4/3*(PI()*((C59*0.5)*(D59*0.5)*E59)))/1000) -> 0 | G59: =IF(B59=1,$D$11,IF(B59=2,$D$12,IF(B59=3,$D$13,IF(B59=4,$D$14,IF(B59=5,$D$15,IF(B59=6,$D$16,IF(B59=7,$D$17,IF(B59=8,$D$18,)))))))) -> 0 | H59: =IF(F59>0,(((0.5*(4/3*(PI()*(((0.5*C59)+G59))*(((0.5*D59)+G59))*(E59+G59))))/1000-F59)), 0) -> 0 | I59: =IF(B59=1,$G$11,IF(B59=2,$G$12,IF(B59=3,$G$13,IF(B59=4,$G$14,IF(B59=5,$G$15,IF(B59=6,$G$16,IF(B59=7,$G$17,IF(B59=8,$G$18,"")))))))) | J59: =IFERROR((H59*I59)*365, "") | K59: =IFERROR(J59*(1/$B$6), "") | L59: =IFERROR(K59/1000, "") | N59: =IF(B59=1, L59,"") | O59: =IF(B59=2, L59,"") | P59: =IF(B59=3, L59,"") | Q59: =IF(B59=4, L59,"") | R59: =IF(B59=5, L59,"") | S59: =IF(B59=6, L59,"") | T59: =IF(B59=7, L59,"") | U59: =IF(B59=8, L59,"")
A60: =2 -> 2 | F60: =(0.5*(4/3*(PI()*((C60*0.5)*(D60*0.5)*E60)))/1000) -> 0 | G60: =IF(B60=1,$D$11,IF(B60=2,$D$12,IF(B60=3,$D$13,IF(B60=4,$D$14,IF(B60=5,$D$15,IF(B60=6,$D$16,IF(B60=7,$D$17,IF(B60=8,$D$18,)))))))) -> 0 | H60: =IF(F60>0,(((0.5*(4/3*(PI()*(((0.5*C60)+G60))*(((0.5*D60)+G60))*(E60+G60))))/1000-F60)), 0) -> 0 | I60: =IF(B60=1,$G$11,IF(B60=2,$G$12,IF(B60=3,$G$13,IF(B60=4,$G$14,IF(B60=5,$G$15,IF(B60=6,$G$16,IF(B60=7,$G$17,IF(B60=8,$G$18,"")))))))) | J60: =IFERROR((H60*I60)*365, "") | K60: =IFERROR(J60*(1/$B$6), "") | L60: =IFERROR(K60/1000, "") | N60: =IF(B60=1, L60,"") | O60: =IF(B60=2, L60,"") | P60: =IF(B60=3, L60,"") | Q60: =IF(B60=4, L60,"") | R60: =IF(B60=5, L60,"") | S60: =IF(B60=6, L60,"") | T60: =IF(B60=7, L60,"") | U60: =IF(B60=8, L60,"")
A61: =2 -> 2 | F61: =(0.5*(4/3*(PI()*((C61*0.5)*(D61*0.5)*E61)))/1000) -> 0 | G61: =IF(B61=1,$D$11,IF(B61=2,$D$12,IF(B61=3,$D$13,IF(B61=4,$D$14,IF(B61=5,$D$15,IF(B61=6,$D$16,IF(B61=7,$D$17,IF(B61=8,$D$18,)))))))) -> 0 | H61: =IF(F61>0,(((0.5*(4/3*(PI()*(((0.5*C61)+G61))*(((0.5*D61)+G61))*(E61+G61))))/1000-F61)), 0) -> 0 | I61: =IF(B61=1,$G$11,IF(B61=2,$G$12,IF(B61=3,$G$13,IF(B61=4,$G$14,IF(B61=5,$G$15,IF(B61=6,$G$16,IF(B61=7,$G$17,IF(B61=8,$G$18,"")))))))) | J61: =IFERROR((H61*I61)*365, "") | K61: =IFERROR(J61*(1/$B$6), "") | L61: =IFERROR(K61/1000, "") | N61: =IF(B61=1, L61,"") | O61: =IF(B61=2, L61,"") | P61: =IF(B61=3, L61,"") | Q61: =IF(B61=4, L61,"") | R61: =IF(B61=5, L61,"") | S61: =IF(B61=6, L61,"") | T61: =IF(B61=7, L61,"") | U61: =IF(B61=8, L61,"")
B62: # per quadrat | C62: =COUNT(B52:B61) -> 0 | J62: TOTAL | K62: =IF($A52<=$B$5,SUM(K52:K61),"") | L62: =IF($A52<=$B$5,SUM(L52:L61),"") | N62: =SUM(N52:N61) -> 0 | O62: =SUM(O52:O61) -> 0 | P62: =SUM(P52:P61) -> 0 | Q62: =SUM(Q52:Q61) -> 0 | R62: =SUM(R52:R61) -> 0 | S62: =SUM(S52:S61) -> 0 | T62: =SUM(T52:T61) -> 0 | U62: =SUM(U52:U61) -> 0
D67: THALLUS DIMENSIONS | K67: PRODUCTION/THALLUS | R67: Production rates per species
A68: Quadrat # | B68: Species / morphology code (select from above) | C68: width (mm) | D68: depth (mm) | E68: height h (mm) | F68: Total thallus volume (cm3) | G68: Growth rate (mm/day) | H68: Volume Increase in 1 day (cm3) | I68: CaCO3 per cm3 | J68: CaCO3 prod (g) /thallus/yr | K68: g CaCO3/m2/yr | L68: kg CaCO3/m2/yr | M68: . | N68: Species 1 | O68: Species 2 | P68: Species 3 | Q68: Species 4 | R68: Species 5 | S68: Species 6 | T68: Species 7 | U68: Species 8
A69: =3 -> 3 | F69: =(0.5*(4/3*(PI()*((C69*0.5)*(D69*0.5)*E69)))/1000) -> 0 | G69: =IF(B69=1,$D$11,IF(B69=2,$D$12,IF(B69=3,$D$13,IF(B69=4,$D$14,IF(B69=5,$D$15,IF(B69=6,$D$16,IF(B69=7,$D$17,IF(B69=8,$D$18,)))))))) -> 0 | H69: =IF(F69>0,(((0.5*(4/3*(PI()*(((0.5*C69)+G69))*(((0.5*D69)+G69))*(E69+G69))))/1000-F69)), 0) -> 0 | I69: =IF(B69=1,$G$11,IF(B69=2,$G$12,IF(B69=3,$G$13,IF(B69=4,$G$14,IF(B69=5,$G$15,IF(B69=6,$G$16,IF(B69=7,$G$17,IF(B69=8,$G$18,"")))))))) | J69: =IFERROR((H69*I69)*365, "") | K69: =IFERROR(J69*(1/$B$6), "") | L69: =IFERROR(K69/1000, "") | N69: =IF(B69=1, L69,"") | O69: =IF(B69=2, L69,"") | P69: =IF(B69=3, L69,"") | Q69: =IF(B69=4, L69,"") | R69: =IF(B69=5, L69,"") | S69: =IF(B69=6, L69,"") | T69: =IF(B69=7, L69,"") | U69: =IF(B69=8, L69,"")
A70: =3 -> 3 | F70: =(0.5*(4/3*(PI()*((C70*0.5)*(D70*0.5)*E70)))/1000) -> 0 | G70: =IF(B70=1,$D$11,IF(B70=2,$D$12,IF(B70=3,$D$13,IF(B70=4,$D$14,IF(B70=5,$D$15,IF(B70=6,$D$16,IF(B70=7,$D$17,IF(B70=8,$D$18,)))))))) -> 0 | H70: =IF(F70>0,(((0.5*(4/3*(PI()*(((0.5*C70)+G70))*(((0.5*D70)+G70))*(E70+G70))))/1000-F70)), 0) -> 0 | I70: =IF(B70=1,$G$11,IF(B70=2,$G$12,IF(B70=3,$G$13,IF(B70=4,$G$14,IF(B70=5,$G$15,IF(B70=6,$G$16,IF(B70=7,$G$17,IF(B70=8,$G$18,"")))))))) | J70: =IFERROR((H70*I70)*365, "") | K70: =IFERROR(J70*(1/$B$6), "") | L70: =IFERROR(K70/1000, "") | N70: =IF(B70=1, L70,"") | O70: =IF(B70=2, L70,"") | P70: =IF(B70=3, L70,"") | Q70: =IF(B70=4, L70,"") | R70: =IF(B70=5, L70,"") | S70: =IF(B70=6, L70,"") | T70: =IF(B70=7, L70,"") | U70: =IF(B70=8, L70,"")
A71: =3 -> 3 | F71: =(0.5*(4/3*(PI()*((C71*0.5)*(D71*0.5)*E71)))/1000) -> 0 | G71: =IF(B71=1,$D$11,IF(B71=2,$D$12,IF(B71=3,$D$13,IF(B71=4,$D$14,IF(B71=5,$D$15,IF(B71=6,$D$16,IF(B71=7,$D$17,IF(B71=8,$D$18,)))))))) -> 0 | H71: =IF(F71>0,(((0.5*(4/3*(PI()*(((0.5*C71)+G71))*(((0.5*D71)+G71))*(E71+G71))))/1000-F71)), 0) -> 0 | I71: =IF(B71=1,$G$11,IF(B71=2,$G$12,IF(B71=3,$G$13,IF(B71=4,$G$14,IF(B71=5,$G$15,IF(B71=6,$G$16,IF(B71=7,$G$17,IF(B71=8,$G$18,"")))))))) | J71: =IFERROR((H71*I71)*365, "") | K71: =IFERROR(J71*(1/$B$6), "") | L71: =IFERROR(K71/1000, "") | N71: =IF(B71=1, L71,"") | O71: =IF(B71=2, L71,"") | P71: =IF(B71=3, L71,"") | Q71: =IF(B71=4, L71,"") | R71: =IF(B71=5, L71,"") | S71: =IF(B71=6, L71,"") | T71: =IF(B71=7, L71,"") | U71: =IF(B71=8, L71,"")
A72: =3 -> 3 | F72: =(0.5*(4/3*(PI()*((C72*0.5)*(D72*0.5)*E72)))/1000) -> 0 | G72: =IF(B72=1,$D$11,IF(B72=2,$D$12,IF(B72=3,$D$13,IF(B72=4,$D$14,IF(B72=5,$D$15,IF(B72=6,$D$16,IF(B72=7,$D$17,IF(B72=8,$D$18,)))))))) -> 0 | H72: =IF(F72>0,(((0.5*(4/3*(PI()*(((0.5*C72)+G72))*(((0.5*D72)+G72))*(E72+G72))))/1000-F72)), 0) -> 0 | I72: =IF(B72=1,$G$11,IF(B72=2,$G$12,IF(B72=3,$G$13,IF(B72=4,$G$14,IF(B72=5,$G$15,IF(B72=6,$G$16,IF(B72=7,$G$17,IF(B72=8,$G$18,"")))))))) | J72: =IFERROR((H72*I72)*365, "") | K72: =IFERROR(J72*(1/$B$6), "") | L72: =IFERROR(K72/1000, "") | N72: =IF(B72=1, L72,"") | O72: =IF(B72=2, L72,"") | P72: =IF(B72=3, L72,"") | Q72: =IF(B72=4, L72,"") | R72: =IF(B72=5, L72,"") | S72: =IF(B72=6, L72,"") | T72: =IF(B72=7, L72,"") | U72: =IF(B72=8, L72,"")
A73: =3 -> 3 | F73: =(0.5*(4/3*(PI()*((C73*0.5)*(D73*0.5)*E73)))/1000) -> 0 | G73: =IF(B73=1,$D$11,IF(B73=2,$D$12,IF(B73=3,$D$13,IF(B73=4,$D$14,IF(B73=5,$D$15,IF(B73=6,$D$16,IF(B73=7,$D$17,IF(B73=8,$D$18,)))))))) -> 0 | H73: =IF(F73>0,(((0.5*(4/3*(PI()*(((0.5*C73)+G73))*(((0.5*D73)+G73))*(E73+G73))))/1000-F73)), 0) -> 0 | I73: =IF(B73=1,$G$11,IF(B73=2,$G$12,IF(B73=3,$G$13,IF(B73=4,$G$14,IF(B73=5,$G$15,IF(B73=6,$G$16,IF(B73=7,$G$17,IF(B73=8,$G$18,"")))))))) | J73: =IFERROR((H73*I73)*365, "") | K73: =IFERROR(J73*(1/$B$6), "") | L73: =IFERROR(K73/1000, "") | N73: =IF(B73=1, L73,"") | O73: =IF(B73=2, L73,"") | P73: =IF(B73=3, L73,"") | Q73: =IF(B73=4, L73,"") | R73: =IF(B73=5, L73,"") | S73: =IF(B73=6, L73,"") | T73: =IF(B73=7, L73,"") | U73: =IF(B73=8, L73,"")
A74: =3 -> 3 | F74: =(0.5*(4/3*(PI()*((C74*0.5)*(D74*0.5)*E74)))/1000) -> 0 | G74: =IF(B74=1,$D$11,IF(B74=2,$D$12,IF(B74=3,$D$13,IF(B74=4,$D$14,IF(B74=5,$D$15,IF(B74=6,$D$16,IF(B74=7,$D$17,IF(B74=8,$D$18,)))))))) -> 0 | H74: =IF(F74>0,(((0.5*(4/3*(PI()*(((0.5*C74)+G74))*(((0.5*D74)+G74))*(E74+G74))))/1000-F74)), 0) -> 0 | I74: =IF(B74=1,$G$11,IF(B74=2,$G$12,IF(B74=3,$G$13,IF(B74=4,$G$14,IF(B74=5,$G$15,IF(B74=6,$G$16,IF(B74=7,$G$17,IF(B74=8,$G$18,"")))))))) | J74: =IFERROR((H74*I74)*365, "") | K74: =IFERROR(J74*(1/$B$6), "") | L74: =IFERROR(K74/1000, "") | N74: =IF(B74=1, L74,"") | O74: =IF(B74=2, L74,"") | P74: =IF(B74=3, L74,"") | Q74: =IF(B74=4, L74,"") | R74: =IF(B74=5, L74,"") | S74: =IF(B74=6, L74,"") | T74: =IF(B74=7, L74,"") | U74: =IF(B74=8, L74,"")
A75: =3 -> 3 | F75: =(0.5*(4/3*(PI()*((C75*0.5)*(D75*0.5)*E75)))/1000) -> 0 | G75: =IF(B75=1,$D$11,IF(B75=2,$D$12,IF(B75=3,$D$13,IF(B75=4,$D$14,IF(B75=5,$D$15,IF(B75=6,$D$16,IF(B75=7,$D$17,IF(B75=8,$D$18,)))))))) -> 0 | H75: =IF(F75>0,(((0.5*(4/3*(PI()*(((0.5*C75)+G75))*(((0.5*D75)+G75))*(E75+G75))))/1000-F75)), 0) -> 0 | I75: =IF(B75=1,$G$11,IF(B75=2,$G$12,IF(B75=3,$G$13,IF(B75=4,$G$14,IF(B75=5,$G$15,IF(B75=6,$G$16,IF(B75=7,$G$17,IF(B75=8,$G$18,"")))))))) | J75: =IFERROR((H75*I75)*365, "") | K75: =IFERROR(J75*(1/$B$6), "") | L75: =IFERROR(K75/1000, "") | N75: =IF(B75=1, L75,"") | O75: =IF(B75=2, L75,"") | P75: =IF(B75=3, L75,"") | Q75: =IF(B75=4, L75,"") | R75: =IF(B75=5, L75,"") | S75: =IF(B75=6, L75,"") | T75: =IF(B75=7, L75,"") | U75: =IF(B75=8, L75,"")
A76: =3 -> 3 | F76: =(0.5*(4/3*(PI()*((C76*0.5)*(D76*0.5)*E76)))/1000) -> 0 | G76: =IF(B76=1,$D$11,IF(B76=2,$D$12,IF(B76=3,$D$13,IF(B76=4,$D$14,IF(B76=5,$D$15,IF(B76=6,$D$16,IF(B76=7,$D$17,IF(B76=8,$D$18,)))))))) -> 0 | H76: =IF(F76>0,(((0.5*(4/3*(PI()*(((0.5*C76)+G76))*(((0.5*D76)+G76))*(E76+G76))))/1000-F76)), 0) -> 0 | I76: =IF(B76=1,$G$11,IF(B76=2,$G$12,IF(B76=3,$G$13,IF(B76=4,$G$14,IF(B76=5,$G$15,IF(B76=6,$G$16,IF(B76=7,$G$17,IF(B76=8,$G$18,"")))))))) | J76: =IFERROR((H76*I76)*365, "") | K76: =IFERROR(J76*(1/$B$6), "") | L76: =IFERROR(K76/1000, "") | N76: =IF(B76=1, L76,"") | O76: =IF(B76=2, L76,"") | P76: =IF(B76=3, L76,"") | Q76: =IF(B76=4, L76,"") | R76: =IF(B76=5, L76,"") | S76: =IF(B76=6, L76,"") | T76: =IF(B76=7, L76,"") | U76: =IF(B76=8, L76,"")
A77: =3 -> 3 | F77: =(0.5*(4/3*(PI()*((C77*0.5)*(D77*0.5)*E77)))/1000) -> 0 | G77: =IF(B77=1,$D$11,IF(B77=2,$D$12,IF(B77=3,$D$13,IF(B77=4,$D$14,IF(B77=5,$D$15,IF(B77=6,$D$16,IF(B77=7,$D$17,IF(B77=8,$D$18,)))))))) -> 0 | H77: =IF(F77>0,(((0.5*(4/3*(PI()*(((0.5*C77)+G77))*(((0.5*D77)+G77))*(E77+G77))))/1000-F77)), 0) -> 0 | I77: =IF(B77=1,$G$11,IF(B77=2,$G$12,IF(B77=3,$G$13,IF(B77=4,$G$14,IF(B77=5,$G$15,IF(B77=6,$G$16,IF(B77=7,$G$17,IF(B77=8,$G$18,"")))))))) | J77: =IFERROR((H77*I77)*365, "") | K77: =IFERROR(J77*(1/$B$6), "") | L77: =IFERROR(K77/1000, "") | N77: =IF(B77=1, L77,"") | O77: =IF(B77=2, L77,"") | P77: =IF(B77=3, L77,"") | Q77: =IF(B77=4, L77,"") | R77: =IF(B77=5, L77,"") | S77: =IF(B77=6, L77,"") | T77: =IF(B77=7, L77,"") | U77: =IF(B77=8, L77,"")
A78: =3 -> 3 | F78: =(0.5*(4/3*(PI()*((C78*0.5)*(D78*0.5)*E78)))/1000) -> 0 | G78: =IF(B78=1,$D$11,IF(B78=2,$D$12,IF(B78=3,$D$13,IF(B78=4,$D$14,IF(B78=5,$D$15,IF(B78=6,$D$16,IF(B78=7,$D$17,IF(B78=8,$D$18,)))))))) -> 0 | H78: =IF(F78>0,(((0.5*(4/3*(PI()*(((0.5*C78)+G78))*(((0.5*D78)+G78))*(E78+G78))))/1000-F78)), 0) -> 0 | I78: =IF(B78=1,$G$11,IF(B78=2,$G$12,IF(B78=3,$G$13,IF(B78=4,$G$14,IF(B78=5,$G$15,IF(B78=6,$G$16,IF(B78=7,$G$17,IF(B78=8,$G$18,"")))))))) | J78: =IFERROR((H78*I78)*365, "") | K78: =IFERROR(J78*(1/$B$6), "") | L78: =IFERROR(K78/1000, "") | N78: =IF(B78=1, L78,"") | O78: =IF(B78=2, L78,"") | P78: =IF(B78=3, L78,"") | Q78: =IF(B78=4, L78,"") | R78: =IF(B78=5, L78,"") | S78: =IF(B78=6, L78,"") | T78: =IF(B78=7, L78,"") | U78: =IF(B78=8, L78,"")
B79: # per quadrat | C79: =COUNT(B69:B78) -> 0 | J79: TOTAL | K79: =IF($A69<=$B$5,SUM(K69:K78),"") | L79: =IF($A69<=$B$5,SUM(L69:L78),"") | N79: =SUM(N69:N69) -> 0 | O79: =SUM(O69:O69) -> 0 | P79: =SUM(P69:P69) -> 0 | Q79: =SUM(Q69:Q69) -> 0 | R79: =SUM(R69:R69) -> 0 | S79: =SUM(S69:S69) -> 0 | T79: =SUM(T69:T69) -> 0 | U79: =SUM(U69:U69) -> 0
D84: THALLUS DIMENSIONS | K84: PRODUCTION/THALLUS | R84: Production rates per species
A85: Quadrat # | B85: Species / morphology code (select from above) | C85: width (mm) | D85: depth (mm) | E85: height h (mm) | F85: Total thallus volume (cm3) | G85: Growth rate (mm/day) | H85: Volume Increase in 1 day (cm3) | I85: CaCO3 per cm3 | J85: CaCO3 prod (g) /thallus/yr | K85: g CaCO3/m2/yr | L85: kg CaCO3/m2/yr | M85: . | N85: Species 1 | O85: Species 2 | P85: Species 3 | Q85: Species 4 | R85: Species 5 | S85: Species 6 | T85: Species 7 | U85: Species 8
A86: =4 -> 4 | F86: =(0.5*(4/3*(PI()*((C86*0.5)*(D86*0.5)*E86)))/1000) -> 0 | G86: =IF(B86=1,$D$11,IF(B86=2,$D$12,IF(B86=3,$D$13,IF(B86=4,$D$14,IF(B86=5,$D$15,IF(B86=6,$D$16,IF(B86=7,$D$17,IF(B86=8,$D$18,)))))))) -> 0 | H86: =IF(F86>0,(((0.5*(4/3*(PI()*(((0.5*C86)+G86))*(((0.5*D86)+G86))*(E86+G86))))/1000-F86)), 0) -> 0 | I86: =IF(B86=1,$G$11,IF(B86=2,$G$12,IF(B86=3,$G$13,IF(B86=4,$G$14,IF(B86=5,$G$15,IF(B86=6,$G$16,IF(B86=7,$G$17,IF(B86=8,$G$18,"")))))))) | J86: =IFERROR((H86*I86)*365, "") | K86: =IFERROR(J86*(1/$B$6), "") | L86: =IFERROR(K86/1000, "") | N86: =IF(B86=1, L86,"") | O86: =IF(B86=2, L86,"") | P86: =IF(B86=3, L86,"") | Q86: =IF(B86=4, L86,"") | R86: =IF(B86=5, L86,"") | S86: =IF(B86=6, L86,"") | T86: =IF(B86=7, L86,"") | U86: =IF(B86=8, L86,"")
A87: =4 -> 4 | F87: =(0.5*(4/3*(PI()*((C87*0.5)*(D87*0.5)*E87)))/1000) -> 0 | G87: =IF(B87=1,$D$11,IF(B87=2,$D$12,IF(B87=3,$D$13,IF(B87=4,$D$14,IF(B87=5,$D$15,IF(B87=6,$D$16,IF(B87=7,$D$17,IF(B87=8,$D$18,)))))))) -> 0 | H87: =IF(F87>0,(((0.5*(4/3*(PI()*(((0.5*C87)+G87))*(((0.5*D87)+G87))*(E87+G87))))/1000-F87)), 0) -> 0 | I87: =IF(B87=1,$G$11,IF(B87=2,$G$12,IF(B87=3,$G$13,IF(B87=4,$G$14,IF(B87=5,$G$15,IF(B87=6,$G$16,IF(B87=7,$G$17,IF(B87=8,$G$18,"")))))))) | J87: =IFERROR((H87*I87)*365, "") | K87: =IFERROR(J87*(1/$B$6), "") | L87: =IFERROR(K87/1000, "") | N87: =IF(B87=1, L87,"") | O87: =IF(B87=2, L87,"") | P87: =IF(B87=3, L87,"") | Q87: =IF(B87=4, L87,"") | R87: =IF(B87=5, L87,"") | S87: =IF(B87=6, L87,"") | T87: =IF(B87=7, L87,"") | U87: =IF(B87=8, L87,"")
A88: =4 -> 4 | F88: =(0.5*(4/3*(PI()*((C88*0.5)*(D88*0.5)*E88)))/1000) -> 0 | G88: =IF(B88=1,$D$11,IF(B88=2,$D$12,IF(B88=3,$D$13,IF(B88=4,$D$14,IF(B88=5,$D$15,IF(B88=6,$D$16,IF(B88=7,$D$17,IF(B88=8,$D$18,)))))))) -> 0 | H88: =IF(F88>0,(((0.5*(4/3*(PI()*(((0.5*C88)+G88))*(((0.5*D88)+G88))*(E88+G88))))/1000-F88)), 0) -> 0 | I88: =IF(B88=1,$G$11,IF(B88=2,$G$12,IF(B88=3,$G$13,IF(B88=4,$G$14,IF(B88=5,$G$15,IF(B88=6,$G$16,IF(B88=7,$G$17,IF(B88=8,$G$18,"")))))))) | J88: =IFERROR((H88*I88)*365, "") | K88: =IFERROR(J88*(1/$B$6), "") | L88: =IFERROR(K88/1000, "") | N88: =IF(B88=1, L88,"") | O88: =IF(B88=2, L88,"") | P88: =IF(B88=3, L88,"") | Q88: =IF(B88=4, L88,"") | R88: =IF(B88=5, L88,"") | S88: =IF(B88=6, L88,"") | T88: =IF(B88=7, L88,"") | U88: =IF(B88=8, L88,"")
A89: =4 -> 4 | F89: =(0.5*(4/3*(PI()*((C89*0.5)*(D89*0.5)*E89)))/1000) -> 0 | G89: =IF(B89=1,$D$11,IF(B89=2,$D$12,IF(B89=3,$D$13,IF(B89=4,$D$14,IF(B89=5,$D$15,IF(B89=6,$D$16,IF(B89=7,$D$17,IF(B89=8,$D$18,)))))))) -> 0 | H89: =IF(F89>0,(((0.5*(4/3*(PI()*(((0.5*C89)+G89))*(((0.5*D89)+G89))*(E89+G89))))/1000-F89)), 0) -> 0 | I89: =IF(B89=1,$G$11,IF(B89=2,$G$12,IF(B89=3,$G$13,IF(B89=4,$G$14,IF(B89=5,$G$15,IF(B89=6,$G$16,IF(B89=7,$G$17,IF(B89=8,$G$18,"")))))))) | J89: =IFERROR((H89*I89)*365, "") | K89: =IFERROR(J89*(1/$B$6), "") | L89: =IFERROR(K89/1000, "") | N89: =IF(B89=1, L89,"") | O89: =IF(B89=2, L89,"") | P89: =IF(B89=3, L89,"") | Q89: =IF(B89=4, L89,"") | R89: =IF(B89=5, L89,"") | S89: =IF(B89=6, L89,"") | T89: =IF(B89=7, L89,"") | U89: =IF(B89=8, L89,"")
A90: =4 -> 4 | F90: =(0.5*(4/3*(PI()*((C90*0.5)*(D90*0.5)*E90)))/1000) -> 0 | G90: =IF(B90=1,$D$11,IF(B90=2,$D$12,IF(B90=3,$D$13,IF(B90=4,$D$14,IF(B90=5,$D$15,IF(B90=6,$D$16,IF(B90=7,$D$17,IF(B90=8,$D$18,)))))))) -> 0 | H90: =IF(F90>0,(((0.5*(4/3*(PI()*(((0.5*C90)+G90))*(((0.5*D90)+G90))*(E90+G90))))/1000-F90)), 0) -> 0 | I90: =IF(B90=1,$G$11,IF(B90=2,$G$12,IF(B90=3,$G$13,IF(B90=4,$G$14,IF(B90=5,$G$15,IF(B90=6,$G$16,IF(B90=7,$G$17,IF(B90=8,$G$18,"")))))))) | J90: =IFERROR((H90*I90)*365, "") | K90: =IFERROR(J90*(1/$B$6), "") | L90: =IFERROR(K90/1000, "") | N90: =IF(B90=1, L90,"") | O90: =IF(B90=2, L90,"") | P90: =IF(B90=3, L90,"") | Q90: =IF(B90=4, L90,"") | R90: =IF(B90=5, L90,"") | S90: =IF(B90=6, L90,"") | T90: =IF(B90=7, L90,"") | U90: =IF(B90=8, L90,"")
A91: =4 -> 4 | F91: =(0.5*(4/3*(PI()*((C91*0.5)*(D91*0.5)*E91)))/1000) -> 0 | G91: =IF(B91=1,$D$11,IF(B91=2,$D$12,IF(B91=3,$D$13,IF(B91=4,$D$14,IF(B91=5,$D$15,IF(B91=6,$D$16,IF(B91=7,$D$17,IF(B91=8,$D$18,)))))))) -> 0 | H91: =IF(F91>0,(((0.5*(4/3*(PI()*(((0.5*C91)+G91))*(((0.5*D91)+G91))*(E91+G91))))/1000-F91)), 0) -> 0 | I91: =IF(B91=1,$G$11,IF(B91=2,$G$12,IF(B91=3,$G$13,IF(B91=4,$G$14,IF(B91=5,$G$15,IF(B91=6,$G$16,IF(B91=7,$G$17,IF(B91=8,$G$18,"")))))))) | J91: =IFERROR((H91*I91)*365, "") | K91: =IFERROR(J91*(1/$B$6), "") | L91: =IFERROR(K91/1000, "") | N91: =IF(B91=1, L91,"") | O91: =IF(B91=2, L91,"") | P91: =IF(B91=3, L91,"") | Q91: =IF(B91=4, L91,"") | R91: =IF(B91=5, L91,"") | S91: =IF(B91=6, L91,"") | T91: =IF(B91=7, L91,"") | U91: =IF(B91=8, L91,"")
A92: =4 -> 4 | F92: =(0.5*(4/3*(PI()*((C92*0.5)*(D92*0.5)*E92)))/1000) -> 0 | G92: =IF(B92=1,$D$11,IF(B92=2,$D$12,IF(B92=3,$D$13,IF(B92=4,$D$14,IF(B92=5,$D$15,IF(B92=6,$D$16,IF(B92=7,$D$17,IF(B92=8,$D$18,)))))))) -> 0 | H92: =IF(F92>0,(((0.5*(4/3*(PI()*(((0.5*C92)+G92))*(((0.5*D92)+G92))*(E92+G92))))/1000-F92)), 0) -> 0 | I92: =IF(B92=1,$G$11,IF(B92=2,$G$12,IF(B92=3,$G$13,IF(B92=4,$G$14,IF(B92=5,$G$15,IF(B92=6,$G$16,IF(B92=7,$G$17,IF(B92=8,$G$18,"")))))))) | J92: =IFERROR((H92*I92)*365, "") | K92: =IFERROR(J92*(1/$B$6), "") | L92: =IFERROR(K92/1000, "") | N92: =IF(B92=1, L92,"") | O92: =IF(B92=2, L92,"") | P92: =IF(B92=3, L92,"") | Q92: =IF(B92=4, L92,"") | R92: =IF(B92=5, L92,"") | S92: =IF(B92=6, L92,"") | T92: =IF(B92=7, L92,"") | U92: =IF(B92=8, L92,"")
A93: =4 -> 4 | F93: =(0.5*(4/3*(PI()*((C93*0.5)*(D93*0.5)*E93)))/1000) -> 0 | G93: =IF(B93=1,$D$11,IF(B93=2,$D$12,IF(B93=3,$D$13,IF(B93=4,$D$14,IF(B93=5,$D$15,IF(B93=6,$D$16,IF(B93=7,$D$17,IF(B93=8,$D$18,)))))))) -> 0 | H93: =IF(F93>0,(((0.5*(4/3*(PI()*(((0.5*C93)+G93))*(((0.5*D93)+G93))*(E93+G93))))/1000-F93)), 0) -> 0 | I93: =IF(B93=1,$G$11,IF(B93=2,$G$12,IF(B93=3,$G$13,IF(B93=4,$G$14,IF(B93=5,$G$15,IF(B93=6,$G$16,IF(B93=7,$G$17,IF(B93=8,$G$18,"")))))))) | J93: =IFERROR((H93*I93)*365, "") | K93: =IFERROR(J93*(1/$B$6), "") | L93: =IFERROR(K93/1000, "") | N93: =IF(B93=1, L93,"") | O93: =IF(B93=2, L93,"") | P93: =IF(B93=3, L93,"") | Q93: =IF(B93=4, L93,"") | R93: =IF(B93=5, L93,"") | S93: =IF(B93=6, L93,"") | T93: =IF(B93=7, L93,"") | U93: =IF(B93=8, L93,"")
A94: =4 -> 4 | F94: =(0.5*(4/3*(PI()*((C94*0.5)*(D94*0.5)*E94)))/1000) -> 0 | G94: =IF(B94=1,$D$11,IF(B94=2,$D$12,IF(B94=3,$D$13,IF(B94=4,$D$14,IF(B94=5,$D$15,IF(B94=6,$D$16,IF(B94=7,$D$17,IF(B94=8,$D$18,)))))))) -> 0 | H94: =IF(F94>0,(((0.5*(4/3*(PI()*(((0.5*C94)+G94))*(((0.5*D94)+G94))*(E94+G94))))/1000-F94)), 0) -> 0 | I94: =IF(B94=1,$G$11,IF(B94=2,$G$12,IF(B94=3,$G$13,IF(B94=4,$G$14,IF(B94=5,$G$15,IF(B94=6,$G$16,IF(B94=7,$G$17,IF(B94=8,$G$18,"")))))))) | J94: =IFERROR((H94*I94)*365, "") | K94: =IFERROR(J94*(1/$B$6), "") | L94: =IFERROR(K94/1000, "") | N94: =IF(B94=1, L94,"") | O94: =IF(B94=2, L94,"") | P94: =IF(B94=3, L94,"") | Q94: =IF(B94=4, L94,"") | R94: =IF(B94=5, L94,"") | S94: =IF(B94=6, L94,"") | T94: =IF(B94=7, L94,"") | U94: =IF(B94=8, L94,"")
A95: =4 -> 4 | F95: =(0.5*(4/3*(PI()*((C95*0.5)*(D95*0.5)*E95)))/1000) -> 0 | G95: =IF(B95=1,$D$11,IF(B95=2,$D$12,IF(B95=3,$D$13,IF(B95=4,$D$14,IF(B95=5,$D$15,IF(B95=6,$D$16,IF(B95=7,$D$17,IF(B95=8,$D$18,)))))))) -> 0 | H95: =IF(F95>0,(((0.5*(4/3*(PI()*(((0.5*C95)+G95))*(((0.5*D95)+G95))*(E95+G95))))/1000-F95)), 0) -> 0 | I95: =IF(B95=1,$G$11,IF(B95=2,$G$12,IF(B95=3,$G$13,IF(B95=4,$G$14,IF(B95=5,$G$15,IF(B95=6,$G$16,IF(B95=7,$G$17,IF(B95=8,$G$18,"")))))))) | J95: =IFERROR((H95*I95)*365, "") | K95: =IFERROR(J95*(1/$B$6), "") | L95: =IFERROR(K95/1000, "") | N95: =IF(B95=1, L95,"") | O95: =IF(B95=2, L95,"") | P95: =IF(B95=3, L95,"") | Q95: =IF(B95=4, L95,"") | R95: =IF(B95=5, L95,"") | S95: =IF(B95=6, L95,"") | T95: =IF(B95=7, L95,"") | U95: =IF(B95=8, L95,"")
B96: # per quadrat | C96: =COUNT(B86:B95) -> 0 | J96: TOTAL | K96: =IF($A86<=$B$5,SUM(K86:K95),"") | L96: =IF($A86<=$B$5,SUM(L86:L95),"") | N96: =SUM(N86:N95) -> 0 | O96: =SUM(O86:O95) -> 0 | P96: =SUM(P86:P95) -> 0 | Q96: =SUM(Q86:Q95) -> 0 | R96: =SUM(R86:R95) -> 0 | S96: =SUM(S86:S95) -> 0 | T96: =SUM(T86:T95) -> 0 | U96: =SUM(U86:U95) -> 0
D102: THALLUS DIMENSIONS | K102: PRODUCTION/THALLUS | R102: Production rates per species
A103: Quadrat # | B103: Species / morphology code (select from above) | C103: width (mm) | D103: depth (mm) | E103: height h (mm) | F103: Total thallus volume (cm3) | G103: Growth rate (mm/day) | H103: Volume Increase in 1 day (cm3) | I103: CaCO3 per cm3 | J103: CaCO3 prod (g) /thallus/yr | K103: g CaCO3/m2/yr | L103: kg CaCO3/m2/yr | M103: . | N103: Species 1 | O103: Species 2 | P103: Species 3 | Q103: Species 4 | R103: Species 5 | S103: Species 6 | T103: Species 7 | U103: Species 8
A104: =5 -> 5 | F104: =(0.5*(4/3*(PI()*((C104*0.5)*(D104*0.5)*E104)))/1000) -> 0 | G104: =IF(B104=1,$D$11,IF(B104=2,$D$12,IF(B104=3,$D$13,IF(B104=4,$D$14,IF(B104=5,$D$15,IF(B104=6,$D$16,IF(B104=7,$D$17,IF(B104=8,$D$18,)))))))) -> 0 | H104: =IF(F104>0,(((0.5*(4/3*(PI()*(((0.5*C104)+G104))*(((0.5*D104)+G104))*(E104+G104))))/1000-F104)), 0) -> 0 | I104: =IF(B104=1,$G$11,IF(B104=2,$G$12,IF(B104=3,$G$13,IF(B104=4,$G$14,IF(B104=5,$G$15,IF(B104=6,$G$16,IF(B104=7,$G$17,IF(B104=8,$G$18,"")))))))) | J104: =IFERROR((H104*I104)*365, "") | K104: =IFERROR(J104*(1/$B$6), "") | L104: =IFERROR(K104/1000, "") | N104: =IF(B104=1, L104,"") | O104: =IF(B104=2, L104,"") | P104: =IF(B104=3, L104,"") | Q104: =IF(B104=4, L104,"") | R104: =IF(B104=5, L104,"") | S104: =IF(B104=6, L104,"") | T104: =IF(B104=7, L104,"") | U104: =IF(B104=8, L104,"")
A105: =5 -> 5 | F105: =(0.5*(4/3*(PI()*((C105*0.5)*(D105*0.5)*E105)))/1000) -> 0 | G105: =IF(B105=1,$D$11,IF(B105=2,$D$12,IF(B105=3,$D$13,IF(B105=4,$D$14,IF(B105=5,$D$15,IF(B105=6,$D$16,IF(B105=7,$D$17,IF(B105=8,$D$18,)))))))) -> 0 | H105: =IF(F105>0,(((0.5*(4/3*(PI()*(((0.5*C105)+G105))*(((0.5*D105)+G105))*(E105+G105))))/1000-F105)), 0) -> 0 | I105: =IF(B105=1,$G$11,IF(B105=2,$G$12,IF(B105=3,$G$13,IF(B105=4,$G$14,IF(B105=5,$G$15,IF(B105=6,$G$16,IF(B105=7,$G$17,IF(B105=8,$G$18,"")))))))) | J105: =IFERROR((H105*I105)*365, "") | K105: =IFERROR(J105*(1/$B$6), "") | L105: =IFERROR(K105/1000, "") | N105: =IF(B105=1, L105,"") | O105: =IF(B105=2, L105,"") | P105: =IF(B105=3, L105,"") | Q105: =IF(B105=4, L105,"") | R105: =IF(B105=5, L105,"") | S105: =IF(B105=6, L105,"") | T105: =IF(B105=7, L105,"") | U105: =IF(B105=8, L105,"")
A106: =5 -> 5 | F106: =(0.5*(4/3*(PI()*((C106*0.5)*(D106*0.5)*E106)))/1000) -> 0 | G106: =IF(B106=1,$D$11,IF(B106=2,$D$12,IF(B106=3,$D$13,IF(B106=4,$D$14,IF(B106=5,$D$15,IF(B106=6,$D$16,IF(B106=7,$D$17,IF(B106=8,$D$18,)))))))) -> 0 | H106: =IF(F106>0,(((0.5*(4/3*(PI()*(((0.5*C106)+G106))*(((0.5*D106)+G106))*(E106+G106))))/1000-F106)), 0) -> 0 | I106: =IF(B106=1,$G$11,IF(B106=2,$G$12,IF(B106=3,$G$13,IF(B106=4,$G$14,IF(B106=5,$G$15,IF(B106=6,$G$16,IF(B106=7,$G$17,IF(B106=8,$G$18,"")))))))) | J106: =IFERROR((H106*I106)*365, "") | K106: =IFERROR(J106*(1/$B$6), "") | L106: =IFERROR(K106/1000, "") | N106: =IF(B106=1, L106,"") | O106: =IF(B106=2, L106,"") | P106: =IF(B106=3, L106,"") | Q106: =IF(B106=4, L106,"") | R106: =IF(B106=5, L106,"") | S106: =IF(B106=6, L106,"") | T106: =IF(B106=7, L106,"") | U106: =IF(B106=8, L106,"")
A107: =5 -> 5 | F107: =(0.5*(4/3*(PI()*((C107*0.5)*(D107*0.5)*E107)))/1000) -> 0 | G107: =IF(B107=1,$D$11,IF(B107=2,$D$12,IF(B107=3,$D$13,IF(B107=4,$D$14,IF(B107=5,$D$15,IF(B107=6,$D$16,IF(B107=7,$D$17,IF(B107=8,$D$18,)))))))) -> 0 | H107: =IF(F107>0,(((0.5*(4/3*(PI()*(((0.5*C107)+G107))*(((0.5*D107)+G107))*(E107+G107))))/1000-F107)), 0) -> 0 | I107: =IF(B107=1,$G$11,IF(B107=2,$G$12,IF(B107=3,$G$13,IF(B107=4,$G$14,IF(B107=5,$G$15,IF(B107=6,$G$16,IF(B107=7,$G$17,IF(B107=8,$G$18,"")))))))) | J107: =IFERROR((H107*I107)*365, "") | K107: =IFERROR(J107*(1/$B$6), "") | L107: =IFERROR(K107/1000, "") | N107: =IF(B107=1, L107,"") | O107: =IF(B107=2, L107,"") | P107: =IF(B107=3, L107,"") | Q107: =IF(B107=4, L107,"") | R107: =IF(B107=5, L107,"") | S107: =IF(B107=6, L107,"") | T107: =IF(B107=7, L107,"") | U107: =IF(B107=8, L107,"")
A108: =5 -> 5 | F108: =(0.5*(4/3*(PI()*((C108*0.5)*(D108*0.5)*E108)))/1000) -> 0 | G108: =IF(B108=1,$D$11,IF(B108=2,$D$12,IF(B108=3,$D$13,IF(B108=4,$D$14,IF(B108=5,$D$15,IF(B108=6,$D$16,IF(B108=7,$D$17,IF(B108=8,$D$18,)))))))) -> 0 | H108: =IF(F108>0,(((0.5*(4/3*(PI()*(((0.5*C108)+G108))*(((0.5*D108)+G108))*(E108+G108))))/1000-F108)), 0) -> 0 | I108: =IF(B108=1,$G$11,IF(B108=2,$G$12,IF(B108=3,$G$13,IF(B108=4,$G$14,IF(B108=5,$G$15,IF(B108=6,$G$16,IF(B108=7,$G$17,IF(B108=8,$G$18,"")))))))) | J108: =IFERROR((H108*I108)*365, "") | K108: =IFERROR(J108*(1/$B$6), "") | L108: =IFERROR(K108/1000, "") | N108: =IF(B108=1, L108,"") | O108: =IF(B108=2, L108,"") | P108: =IF(B108=3, L108,"") | Q108: =IF(B108=4, L108,"") | R108: =IF(B108=5, L108,"") | S108: =IF(B108=6, L108,"") | T108: =IF(B108=7, L108,"") | U108: =IF(B108=8, L108,"")
A109: =5 -> 5 | F109: =(0.5*(4/3*(PI()*((C109*0.5)*(D109*0.5)*E109)))/1000) -> 0 | G109: =IF(B109=1,$D$11,IF(B109=2,$D$12,IF(B109=3,$D$13,IF(B109=4,$D$14,IF(B109=5,$D$15,IF(B109=6,$D$16,IF(B109=7,$D$17,IF(B109=8,$D$18,)))))))) -> 0 | H109: =IF(F109>0,(((0.5*(4/3*(PI()*(((0.5*C109)+G109))*(((0.5*D109)+G109))*(E109+G109))))/1000-F109)), 0) -> 0 | I109: =IF(B109=1,$G$11,IF(B109=2,$G$12,IF(B109=3,$G$13,IF(B109=4,$G$14,IF(B109=5,$G$15,IF(B109=6,$G$16,IF(B109=7,$G$17,IF(B109=8,$G$18,"")))))))) | J109: =IFERROR((H109*I109)*365, "") | K109: =IFERROR(J109*(1/$B$6), "") | L109: =IFERROR(K109/1000, "") | N109: =IF(B109=1, L109,"") | O109: =IF(B109=2, L109,"") | P109: =IF(B109=3, L109,"") | Q109: =IF(B109=4, L109,"") | R109: =IF(B109=5, L109,"") | S109: =IF(B109=6, L109,"") | T109: =IF(B109=7, L109,"") | U109: =IF(B109=8, L109,"")
A110: =5 -> 5 | F110: =(0.5*(4/3*(PI()*((C110*0.5)*(D110*0.5)*E110)))/1000) -> 0 | G110: =IF(B110=1,$D$11,IF(B110=2,$D$12,IF(B110=3,$D$13,IF(B110=4,$D$14,IF(B110=5,$D$15,IF(B110=6,$D$16,IF(B110=7,$D$17,IF(B110=8,$D$18,)))))))) -> 0 | H110: =IF(F110>0,(((0.5*(4/3*(PI()*(((0.5*C110)+G110))*(((0.5*D110)+G110))*(E110+G110))))/1000-F110)), 0) -> 0 | I110: =IF(B110=1,$G$11,IF(B110=2,$G$12,IF(B110=3,$G$13,IF(B110=4,$G$14,IF(B110=5,$G$15,IF(B110=6,$G$16,IF(B110=7,$G$17,IF(B110=8,$G$18,"")))))))) | J110: =IFERROR((H110*I110)*365, "") | K110: =IFERROR(J110*(1/$B$6), "") | L110: =IFERROR(K110/1000, "") | N110: =IF(B110=1, L110,"") | O110: =IF(B110=2, L110,"") | P110: =IF(B110=3, L110,"") | Q110: =IF(B110=4, L110,"") | R110: =IF(B110=5, L110,"") | S110: =IF(B110=6, L110,"") | T110: =IF(B110=7, L110,"") | U110: =IF(B110=8, L110,"")
A111: =5 -> 5 | F111: =(0.5*(4/3*(PI()*((C111*0.5)*(D111*0.5)*E111)))/1000) -> 0 | G111: =IF(B111=1,$D$11,IF(B111=2,$D$12,IF(B111=3,$D$13,IF(B111=4,$D$14,IF(B111=5,$D$15,IF(B111=6,$D$16,IF(B111=7,$D$17,IF(B111=8,$D$18,)))))))) -> 0 | H111: =IF(F111>0,(((0.5*(4/3*(PI()*(((0.5*C111)+G111))*(((0.5*D111)+G111))*(E111+G111))))/1000-F111)), 0) -> 0 | I111: =IF(B111=1,$G$11,IF(B111=2,$G$12,IF(B111=3,$G$13,IF(B111=4,$G$14,IF(B111=5,$G$15,IF(B111=6,$G$16,IF(B111=7,$G$17,IF(B111=8,$G$18,"")))))))) | J111: =IFERROR((H111*I111)*365, "") | K111: =IFERROR(J111*(1/$B$6), "") | L111: =IFERROR(K111/1000, "") | N111: =IF(B111=1, L111,"") | O111: =IF(B111=2, L111,"") | P111: =IF(B111=3, L111,"") | Q111: =IF(B111=4, L111,"") | R111: =IF(B111=5, L111,"") | S111: =IF(B111=6, L111,"") | T111: =IF(B111=7, L111,"") | U111: =IF(B111=8, L111,"")
A112: =5 -> 5 | F112: =(0.5*(4/3*(PI()*((C112*0.5)*(D112*0.5)*E112)))/1000) -> 0 | G112: =IF(B112=1,$D$11,IF(B112=2,$D$12,IF(B112=3,$D$13,IF(B112=4,$D$14,IF(B112=5,$D$15,IF(B112=6,$D$16,IF(B112=7,$D$17,IF(B112=8,$D$18,)))))))) -> 0 | H112: =IF(F112>0,(((0.5*(4/3*(PI()*(((0.5*C112)+G112))*(((0.5*D112)+G112))*(E112+G112))))/1000-F112)), 0) -> 0 | I112: =IF(B112=1,$G$11,IF(B112=2,$G$12,IF(B112=3,$G$13,IF(B112=4,$G$14,IF(B112=5,$G$15,IF(B112=6,$G$16,IF(B112=7,$G$17,IF(B112=8,$G$18,"")))))))) | J112: =IFERROR((H112*I112)*365, "") | K112: =IFERROR(J112*(1/$B$6), "") | L112: =IFERROR(K112/1000, "") | N112: =IF(B112=1, L112,"") | O112: =IF(B112=2, L112,"") | P112: =IF(B112=3, L112,"") | Q112: =IF(B112=4, L112,"") | R112: =IF(B112=5, L112,"") | S112: =IF(B112=6, L112,"") | T112: =IF(B112=7, L112,"") | U112: =IF(B112=8, L112,"")
A113: =5 -> 5 | F113: =(0.5*(4/3*(PI()*((C113*0.5)*(D113*0.5)*E113)))/1000) -> 0 | G113: =IF(B113=1,$D$11,IF(B113=2,$D$12,IF(B113=3,$D$13,IF(B113=4,$D$14,IF(B113=5,$D$15,IF(B113=6,$D$16,IF(B113=7,$D$17,IF(B113=8,$D$18,)))))))) -> 0 | H113: =IF(F113>0,(((0.5*(4/3*(PI()*(((0.5*C113)+G113))*(((0.5*D113)+G113))*(E113+G113))))/1000-F113)), 0) -> 0 | I113: =IF(B113=1,$G$11,IF(B113=2,$G$12,IF(B113=3,$G$13,IF(B113=4,$G$14,IF(B113=5,$G$15,IF(B113=6,$G$16,IF(B113=7,$G$17,IF(B113=8,$G$18,"")))))))) | J113: =IFERROR((H113*I113)*365, "") | K113: =IFERROR(J113*(1/$B$6), "") | L113: =IFERROR(K113/1000, "") | N113: =IF(B113=1, L113,"") | O113: =IF(B113=2, L113,"") | P113: =IF(B113=3, L113,"") | Q113: =IF(B113=4, L113,"") | R113: =IF(B113=5, L113,"") | S113: =IF(B113=6, L113,"") | T113: =IF(B113=7, L113,"") | U113: =IF(B113=8, L113,"")
B114: # per quadrat | C114: =COUNT(B104:B113) -> 0 | J114: TOTAL | K114: =IF($A104<=$B$5,SUM(K104:K113),"") | L114: =IF($A104<=$B$5,SUM(L104:L113),"") | N114: =SUM(N104:N113) -> 0 | O114: =SUM(O104:O113) -> 0 | P114: =SUM(P104:P113) -> 0 | Q114: =SUM(Q104:Q113) -> 0 | R114: =SUM(R104:R113) -> 0 | S114: =SUM(S104:S113) -> 0 | T114: =SUM(T104:T113) -> 0 | U114: =SUM(U104:U113) -> 0
D120: THALLUS DIMENSIONS | K120: PRODUCTION/THALLUS | R120: Production rates per species
A121: Quadrat # | B121: Species / morphology code (select from above) | C121: width (mm) | D121: depth (mm) | E121: height h (mm) | F121: Total thallus volume (cm3) | G121: Growth rate (mm/day) | H121: Volume Increase in 1 day (cm3) | I121: CaCO3 per cm3 | J121: CaCO3 prod (g) /thallus/yr | K121: g CaCO3/m2/yr | L121: kg CaCO3/m2/yr | M121: . | N121: Species 1 | O121: Species 2 | P121: Species 3 | Q121: Species 4 | R121: Species 5 | S121: Species 6 | T121: Species 7 | U121: Species 8
A122: =6 -> 6 | F122: =(0.5*(4/3*(PI()*((C122*0.5)*(D122*0.5)*E122)))/1000) -> 0 | G122: =IF(B122=1,$D$11,IF(B122=2,$D$12,IF(B122=3,$D$13,IF(B122=4,$D$14,IF(B122=5,$D$15,IF(B122=6,$D$16,IF(B122=7,$D$17,IF(B122=8,$D$18,)))))))) -> 0 | H122: =IF(F122>0,(((0.5*(4/3*(PI()*(((0.5*C122)+G122))*(((0.5*D122)+G122))*(E122+G122))))/1000-F122)), 0) -> 0 | I122: =IF(B122=1,$G$11,IF(B122=2,$G$12,IF(B122=3,$G$13,IF(B122=4,$G$14,IF(B122=5,$G$15,IF(B122=6,$G$16,IF(B122=7,$G$17,IF(B122=8,$G$18,"")))))))) | J122: =IFERROR((H122*I122)*365, "") | K122: =IFERROR(J122*(1/$B$6), "") | L122: =IFERROR(K122/1000, "") | N122: =IF(B122=1, L122,"") | O122: =IF(B122=2, L122,"") | P122: =IF(B122=3, L122,"") | Q122: =IF(B122=4, L122,"") | R122: =IF(B122=5, L122,"") | S122: =IF(B122=6, L122,"") | T122: =IF(B122=7, L122,"") | U122: =IF(B122=8, L122,"")
A123: =6 -> 6 | F123: =(0.5*(4/3*(PI()*((C123*0.5)*(D123*0.5)*E123)))/1000) -> 0 | G123: =IF(B123=1,$D$11,IF(B123=2,$D$12,IF(B123=3,$D$13,IF(B123=4,$D$14,IF(B123=5,$D$15,IF(B123=6,$D$16,IF(B123=7,$D$17,IF(B123=8,$D$18,)))))))) -> 0 | H123: =IF(F123>0,(((0.5*(4/3*(PI()*(((0.5*C123)+G123))*(((0.5*D123)+G123))*(E123+G123))))/1000-F123)), 0) -> 0 | I123: =IF(B123=1,$G$11,IF(B123=2,$G$12,IF(B123=3,$G$13,IF(B123=4,$G$14,IF(B123=5,$G$15,IF(B123=6,$G$16,IF(B123=7,$G$17,IF(B123=8,$G$18,"")))))))) | J123: =IFERROR((H123*I123)*365, "") | K123: =IFERROR(J123*(1/$B$6), "") | L123: =IFERROR(K123/1000, "") | N123: =IF(B123=1, L123,"") | O123: =IF(B123=2, L123,"") | P123: =IF(B123=3, L123,"") | Q123: =IF(B123=4, L123,"") | R123: =IF(B123=5, L123,"") | S123: =IF(B123=6, L123,"") | T123: =IF(B123=7, L123,"") | U123: =IF(B123=8, L123,"")
A124: =6 -> 6 | F124: =(0.5*(4/3*(PI()*((C124*0.5)*(D124*0.5)*E124)))/1000) -> 0 | G124: =IF(B124=1,$D$11,IF(B124=2,$D$12,IF(B124=3,$D$13,IF(B124=4,$D$14,IF(B124=5,$D$15,IF(B124=6,$D$16,IF(B124=7,$D$17,IF(B124=8,$D$18,)))))))) -> 0 | H124: =IF(F124>0,(((0.5*(4/3*(PI()*(((0.5*C124)+G124))*(((0.5*D124)+G124))*(E124+G124))))/1000-F124)), 0) -> 0 | I124: =IF(B124=1,$G$11,IF(B124=2,$G$12,IF(B124=3,$G$13,IF(B124=4,$G$14,IF(B124=5,$G$15,IF(B124=6,$G$16,IF(B124=7,$G$17,IF(B124=8,$G$18,"")))))))) | J124: =IFERROR((H124*I124)*365, "") | K124: =IFERROR(J124*(1/$B$6), "") | L124: =IFERROR(K124/1000, "") | N124: =IF(B124=1, L124,"") | O124: =IF(B124=2, L124,"") | P124: =IF(B124=3, L124,"") | Q124: =IF(B124=4, L124,"") | R124: =IF(B124=5, L124,"") | S124: =IF(B124=6, L124,"") | T124: =IF(B124=7, L124,"") | U124: =IF(B124=8, L124,"")
A125: =6 -> 6 | F125: =(0.5*(4/3*(PI()*((C125*0.5)*(D125*0.5)*E125)))/1000) -> 0 | G125: =IF(B125=1,$D$11,IF(B125=2,$D$12,IF(B125=3,$D$13,IF(B125=4,$D$14,IF(B125=5,$D$15,IF(B125=6,$D$16,IF(B125=7,$D$17,IF(B125=8,$D$18,)))))))) -> 0 | H125: =IF(F125>0,(((0.5*(4/3*(PI()*(((0.5*C125)+G125))*(((0.5*D125)+G125))*(E125+G125))))/1000-F125)), 0) -> 0 | I125: =IF(B125=1,$G$11,IF(B125=2,$G$12,IF(B125=3,$G$13,IF(B125=4,$G$14,IF(B125=5,$G$15,IF(B125=6,$G$16,IF(B125=7,$G$17,IF(B125=8,$G$18,"")))))))) | J125: =IFERROR((H125*I125)*365, "") | K125: =IFERROR(J125*(1/$B$6), "") | L125: =IFERROR(K125/1000, "") | N125: =IF(B125=1, L125,"") | O125: =IF(B125=2, L125,"") | P125: =IF(B125=3, L125,"") | Q125: =IF(B125=4, L125,"") | R125: =IF(B125=5, L125,"") | S125: =IF(B125=6, L125,"") | T125: =IF(B125=7, L125,"") | U125: =IF(B125=8, L125,"")
A126: =6 -> 6 | F126: =(0.5*(4/3*(PI()*((C126*0.5)*(D126*0.5)*E126)))/1000) -> 0 | G126: =IF(B126=1,$D$11,IF(B126=2,$D$12,IF(B126=3,$D$13,IF(B126=4,$D$14,IF(B126=5,$D$15,IF(B126=6,$D$16,IF(B126=7,$D$17,IF(B126=8,$D$18,)))))))) -> 0 | H126: =IF(F126>0,(((0.5*(4/3*(PI()*(((0.5*C126)+G126))*(((0.5*D126)+G126))*(E126+G126))))/1000-F126)), 0) -> 0 | I126: =IF(B126=1,$G$11,IF(B126=2,$G$12,IF(B126=3,$G$13,IF(B126=4,$G$14,IF(B126=5,$G$15,IF(B126=6,$G$16,IF(B126=7,$G$17,IF(B126=8,$G$18,"")))))))) | J126: =IFERROR((H126*I126)*365, "") | K126: =IFERROR(J126*(1/$B$6), "") | L126: =IFERROR(K126/1000, "") | N126: =IF(B126=1, L126,"") | O126: =IF(B126=2, L126,"") | P126: =IF(B126=3, L126,"") | Q126: =IF(B126=4, L126,"") | R126: =IF(B126=5, L126,"") | S126: =IF(B126=6, L126,"") | T126: =IF(B126=7, L126,"") | U126: =IF(B126=8, L126,"")
...

Sheet ACA metrics
C1: NOTE: where specific metrics cannot be collected locally and appropriate data has not yet been published we would recommend using an average of existing data grouped by growth form, or an average of all data for more complex growth forms.
A2: METRICS AND RATES FOR ACA SPREADSHEET | J2: Post-mortem grain size fraction contributions (PROPORTIONS NOT RELATIVE %)
J3: >4mm | K3: 2-4 mm | L3: 1-2 mm | M3: 0.5-1 mm | N3: 0.25-0.5 mm | O3: 0.125-0.25 mm | P3: 63 to 125 um | Q3: 31-63 um | R3: 16-31 um | S3: 8-16 um | T3: 4-8 um | U3: <4 um
A4: Species | B4: Region | D4: Growth Rate (mm/day) | E4: Source/notes | G4: CaCO3 per cm3 (g) | H4: Source/notes | J4: Pebble | K4: Gravel | L4: Vc sand | M4: C. sand | N4: Med sand | O4: Fine sand | P4: V fine sand | Q4: Coarse silt | R4: Med silt | S4: Fine silt | T4: V fine silt | U4: Clay | V4: Source
A5: Ampriroa fragilissima | B5: Caribbean/Atlantic | D5: 0.287725 | E5: from Hale et al. (in prep) - Mexico data | G5: 0.0691176 | H5: from Hale et al. (in prep) - Mexico data | J5: 0.0059220624 | K5: 0.19570826 | L5: 0.27859412 | M5: 0.1930409 | N5: 0.047359823 | O5: 0.0080911908 | P5: 0.0018444575 | Q5: 0.000583515 | R5: 0.26885568 | S5: 0 | T5: 0 | U5: 0 | V5: from Hale et al. (in prep) - Mexico data
A6: Amphiroa tribulus | B6: Caribbean/Atlantic | D6: 0.16539 | E6: from Hale et al. (in prep) - Mexico data | G6: 0.04785565 | H6: from Hale et al. (in prep) - Mexico data | J6: 0.25524514 | K6: 0.39285908 | L6: 0.16242662 | M6: 0.036257699 | N6: 0.0065441281 | O6: 0.0018690935 | P6: 0.0006857764 | Q6: 0.0002643255 | R6: 0.14384814 | S6: 0 | T6: 0 | U6: 0 | V6: from Hale et al. (in prep) - Mexico data
A7: Tricleocarpa fragilis | B7: Caribbean/Atlantic | D7: 0.1709 | E7: from Hale et al. (in prep) - Mexico data | G7: 0.02443417 | H7: from Hale et al. (in prep) - Mexico data | J7: 0 | K7: 0.0009931554 | L7: 0.015816536 | M7: 0.035953699 | N7: 0.059783699 | O7: 0.048355659 | P7: 0.058617233 | Q7: 0.049910253 | R7: 0.73056977 | S7: 0 | T7: 0 | U7: 0 | V7: from Hale et al. (in prep) - Mexico data

Sheet Halimeda
A1: HALIMEDA | B1: Enter species and relevant metrics into grey boxes
B2: Enter data into pale blue boxes only
A4: Transect number
A5: Number of quadrats
A6: Quadrat size (m2) | C6: e.g . 50 x 50 cm = 0.25m²
A8: A: Thallus volume and carbonate metrics | D8: COPY IN RELEVANT METRICS FROM "HALIMEDA METRICS" SHEET
A9: Species | C9: Species code | D9: Volume: segment relationship | G9: Crops per year | H9: Source/notes | J9: CaCO3 per segment (g) | K9: Source/notes | M9: Volume Shape Model (choose from dropdown menu)
D10: Relationship (just enter numeric relationship value) | E10: Source/notes
C11: 1
C12: 2
C13: 3
C14: 4
C15: 5
C16: 6
C17: 7
C18: 8
A20: B: Proportions of sediment grain size fractions produced | D20: COPY IN RELEVANT PROPORTIONAL BREAKDOWN DATA FROM "HALIMEDA METRICS" SHEET
A21: Species | B21: Species code | C21: >4mm | D21: 2-4 mm | E21: 1-2 mm | F21: 0.5-1 mm | G21: 0.25-0.5 mm | H21: 0.125-0.25 mm | I21: 63 to 125 um | J21: 31-63 um | K21: <32 um | L21: 8-16 um | M21: 4-8 um | N21: <4 um
C22: Pebble | D22: Gravel | E22: V coarse sand | F22: Coarse sand | G22: Med sand | H22: Fine sand | I22: V fine sand | J22: Coarse silt | K22: <Med silt | L22: Fine silt | M22: V fine silt | N22: Clay | O22: Notes on source
A23: =IF($A$11="","",(A11)) | B23: 1
A24: =IF($A$12="","",(A12)) | B24: 2
A25: =IF($A$13="","",(A13)) | B25: 3
A26: =IF($A$14="","",(A14)) | B26: 4
A27: =IF($A$15="","",(A15)) | B27: 5
A28: =IF($A$16="","",(A16)) | B28: 6
A29: =IF($A$17="","",(A17)) | B29: 7
A30: =IF($A$18="","",(A18)) | B30: 8
A32: 1. DATA ENTRY - Measurements of individual thalli per quadrat
D33: THALLUS DIMENSIONS | K33: PRODUCTION/THALLUS | Q33: Production rates per species
A34: Quadrat # | B34: Species / morphology code (select from above) | C34: height h (mm) | D34: width w (mm) | E34: depth d (mm) | F34: Total thallus volume (cm3) | G34: Crops per year | H34: Calculated # segments | I34: CaCO3 content/segment | J34: CaCO3 prod (g) /thallus/yr | K34: g CaCO3/m2/yr | L34: kg CaCO3/m2/yr | M34: . | N34: Species 1 | O34: Species 2 | P34: Species 3 | Q34: Species 4 | R34: Species 5 | S34: Species 6 | T34: Species 7 | U34: Species 8
A35: =1 -> 1 | F35: =IF(B35="", "", IFERROR( IF( VLOOKUP(B35,HalimedaInitialMetrics,11,FALSE)="EC", ((PI()*(E35*0.5)*(D35*0.5)*C35)/3)/1000, IF( VLOOKUP(B35,HalimedaInitialMetrics,11,FALSE)="HE", ((PI()*(2/3)*(E35*0.5)*(D35*0.5)*C35))/1000, "" ) ), "" ) ) | G35: =IF(B35=1,$G$11,IF(B35=2,$G$12,IF(B35=3,$G$13,IF(B35=4,$G$14,IF(B35=5,$G$15,IF(B35=6,$G$16,IF(B35=7,$G$17,IF(B35=8,$G$18,"")))))))) | H35: =IF(B35=1,F35*D$11,IF(B35=2,F35*D$12,IF(B35=3,F35*D$13,IF(B35=4,F35*D$14,IF(B35=5,F35*D$15,IF(B35=6,F35*D$16,IF(B35=7,F35*D$17,IF(B35=8,F35*D$18,"")))))))) | I35: =IF(B35=1,$J$11,IF(B35=2,$J$12,IF(B35=3,$J$13,IF(B35=4,$J$14,IF(B35=5,$J$15,IF(B35=6,$J$16,IF(B35=7,$J$17,IF(B35=8,$J$18,"")))))))) | J35: =IFERROR((H35*I35)*G35, "") | K35: =IFERROR(J35*(1/$B$6),"") | L35: =IFERROR(K35/1000,"") | N35: =IF($B35=1, $L35,"") | O35: =IF($B35=2, $L35,"") | P35: =IF($B35=3, $L35,"") | Q35: =IF($B35=4, $L35,"") | R35: =IF($B35=5, $L35,"") | S35: =IF($B35=6, $L35,"") | T35: =IF($B35=7, $L35,"") | U35: =IF($B35=8, $L35,"")
A36: =1 -> 1 | F36: =IF(B36="", "", IFERROR( IF( VLOOKUP(B36,HalimedaInitialMetrics,11,FALSE)="EC", ((PI()*(E36*0.5)*(D36*0.5)*C36)/3)/1000, IF( VLOOKUP(B36,HalimedaInitialMetrics,11,FALSE)="HE", ((PI()*(2/3)*(E36*0.5)*(D36*0.5)*C36))/1000, "" ) ), "" ) ) | G36: =IF(B36=1,$G$11,IF(B36=2,$G$12,IF(B36=3,$G$13,IF(B36=4,$G$14,IF(B36=5,$G$15,IF(B36=6,$G$16,IF(B36=7,$G$17,IF(B36=8,$G$18,"")))))))) | H36: =IF(B36=1,F36*D$11,IF(B36=2,F36*D$12,IF(B36=3,F36*D$13,IF(B36=4,F36*D$14,IF(B36=5,F36*D$15,IF(B36=6,F36*D$16,IF(B36=7,F36*D$17,IF(B36=8,F36*D$18,"")))))))) | I36: =IF(B36=1,$J$11,IF(B36=2,$J$12,IF(B36=3,$J$13,IF(B36=4,$J$14,IF(B36=5,$J$15,IF(B36=6,$J$16,IF(B36=7,$J$17,IF(B36=8,$J$18,"")))))))) | J36: =IFERROR((H36*I36)*G36, "") | K36: =IFERROR(J36*(1/$B$6),"") | L36: =IFERROR(K36/1000,"") | N36: =IF($B36=1, $L36,"") | O36: =IF($B36=2, $L36,"") | P36: =IF($B36=3, $L36,"") | Q36: =IF($B36=4, $L36,"") | R36: =IF($B36=5, $L36,"") | S36: =IF($B36=6, $L36,"") | T36: =IF($B36=7, $L36,"") | U36: =IF($B36=8, $L36,"")
A37: =1 -> 1 | F37: =IF(B37="", "", IFERROR( IF( VLOOKUP(B37,HalimedaInitialMetrics,11,FALSE)="EC", ((PI()*(E37*0.5)*(D37*0.5)*C37)/3)/1000, IF( VLOOKUP(B37,HalimedaInitialMetrics,11,FALSE)="HE", ((PI()*(2/3)*(E37*0.5)*(D37*0.5)*C37))/1000, "" ) ), "" ) ) | G37: =IF(B37=1,$G$11,IF(B37=2,$G$12,IF(B37=3,$G$13,IF(B37=4,$G$14,IF(B37=5,$G$15,IF(B37=6,$G$16,IF(B37=7,$G$17,IF(B37=8,$G$18,"")))))))) | H37: =IF(B37=1,F37*D$11,IF(B37=2,F37*D$12,IF(B37=3,F37*D$13,IF(B37=4,F37*D$14,IF(B37=5,F37*D$15,IF(B37=6,F37*D$16,IF(B37=7,F37*D$17,IF(B37=8,F37*D$18,"")))))))) | I37: =IF(B37=1,$J$11,IF(B37=2,$J$12,IF(B37=3,$J$13,IF(B37=4,$J$14,IF(B37=5,$J$15,IF(B37=6,$J$16,IF(B37=7,$J$17,IF(B37=8,$J$18,"")))))))) | J37: =IFERROR((H37*I37)*G37, "") | K37: =IFERROR(J37*(1/$B$6),"") | L37: =IFERROR(K37/1000,"") | N37: =IF($B37=1, $L37,"") | O37: =IF($B37=2, $L37,"") | P37: =IF($B37=3, $L37,"") | Q37: =IF($B37=4, $L37,"") | R37: =IF($B37=5, $L37,"") | S37: =IF($B37=6, $L37,"") | T37: =IF($B37=7, $L37,"") | U37: =IF($B37=8, $L37,"")
A38: =1 -> 1 | F38: =IF(B38="", "", IFERROR( IF( VLOOKUP(B38,HalimedaInitialMetrics,11,FALSE)="EC", ((PI()*(E38*0.5)*(D38*0.5)*C38)/3)/1000, IF( VLOOKUP(B38,HalimedaInitialMetrics,11,FALSE)="HE", ((PI()*(2/3)*(E38*0.5)*(D38*0.5)*C38))/1000, "" ) ), "" ) ) | G38: =IF(B38=1,$G$11,IF(B38=2,$G$12,IF(B38=3,$G$13,IF(B38=4,$G$14,IF(B38=5,$G$15,IF(B38=6,$G$16,IF(B38=7,$G$17,IF(B38=8,$G$18,"")))))))) | H38: =IF(B38=1,F38*D$11,IF(B38=2,F38*D$12,IF(B38=3,F38*D$13,IF(B38=4,F38*D$14,IF(B38=5,F38*D$15,IF(B38=6,F38*D$16,IF(B38=7,F38*D$17,IF(B38=8,F38*D$18,"")))))))) | I38: =IF(B38=1,$J$11,IF(B38=2,$J$12,IF(B38=3,$J$13,IF(B38=4,$J$14,IF(B38=5,$J$15,IF(B38=6,$J$16,IF(B38=7,$J$17,IF(B38=8,$J$18,"")))))))) | J38: =IFERROR((H38*I38)*G38, "") | K38: =IFERROR(J38*(1/$B$6),"") | L38: =IFERROR(K38/1000,"") | N38: =IF($B38=1, $L38,"") | O38: =IF($B38=2, $L38,"") | P38: =IF($B38=3, $L38,"") | Q38: =IF($B38=4, $L38,"") | R38: =IF($B38=5, $L38,"") | S38: =IF($B38=6, $L38,"") | T38: =IF($B38=7, $L38,"") | U38: =IF($B38=8, $L38,"")
A39: =1 -> 1 | F39: =IF(B39="", "", IFERROR( IF( VLOOKUP(B39,HalimedaInitialMetrics,11,FALSE)="EC", ((PI()*(E39*0.5)*(D39*0.5)*C39)/3)/1000, IF( VLOOKUP(B39,HalimedaInitialMetrics,11,FALSE)="HE", ((PI()*(2/3)*(E39*0.5)*(D39*0.5)*C39))/1000, "" ) ), "" ) ) | G39: =IF(B39=1,$G$11,IF(B39=2,$G$12,IF(B39=3,$G$13,IF(B39=4,$G$14,IF(B39=5,$G$15,IF(B39=6,$G$16,IF(B39=7,$G$17,IF(B39=8,$G$18,"")))))))) | H39: =IF(B39=1,F39*D$11,IF(B39=2,F39*D$12,IF(B39=3,F39*D$13,IF(B39=4,F39*D$14,IF(B39=5,F39*D$15,IF(B39=6,F39*D$16,IF(B39=7,F39*D$17,IF(B39=8,F39*D$18,"")))))))) | I39: =IF(B39=1,$J$11,IF(B39=2,$J$12,IF(B39=3,$J$13,IF(B39=4,$J$14,IF(B39=5,$J$15,IF(B39=6,$J$16,IF(B39=7,$J$17,IF(B39=8,$J$18,"")))))))) | J39: =IFERROR((H39*I39)*G39, "") | K39: =IFERROR(J39*(1/$B$6),"") | L39: =IFERROR(K39/1000,"") | N39: =IF($B39=1, $L39,"") | O39: =IF($B39=2, $L39,"") | P39: =IF($B39=3, $L39,"") | Q39: =IF($B39=4, $L39,"") | R39: =IF($B39=5, $L39,"") | S39: =IF($B39=6, $L39,"") | T39: =IF($B39=7, $L39,"") | U39: =IF($B39=8, $L39,"")
A40: =1 -> 1 | F40: =IF(B40="", "", IFERROR( IF( VLOOKUP(B40,HalimedaInitialMetrics,11,FALSE)="EC", ((PI()*(E40*0.5)*(D40*0.5)*C40)/3)/1000, IF( VLOOKUP(B40,HalimedaInitialMetrics,11,FALSE)="HE", ((PI()*(2/3)*(E40*0.5)*(D40*0.5)*C40))/1000, "" ) ), "" ) ) | G40: =IF(B40=1,$G$11,IF(B40=2,$G$12,IF(B40=3,$G$13,IF(B40=4,$G$14,IF(B40=5,$G$15,IF(B40=6,$G$16,IF(B40=7,$G$17,IF(B40=8,$G$18,"")))))))) | H40: =IF(B40=1,F40*D$11,IF(B40=2,F40*D$12,IF(B40=3,F40*D$13,IF(B40=4,F40*D$14,IF(B40=5,F40*D$15,IF(B40=6,F40*D$16,IF(B40=7,F40*D$17,IF(B40=8,F40*D$18,"")))))))) | I40: =IF(B40=1,$J$11,IF(B40=2,$J$12,IF(B40=3,$J$13,IF(B40=4,$J$14,IF(B40=5,$J$15,IF(B40=6,$J$16,IF(B40=7,$J$17,IF(B40=8,$J$18,"")))))))) | J40: =IFERROR((H40*I40)*G40, "") | K40: =IFERROR(J40*(1/$B$6),"") | L40: =IFERROR(K40/1000,"") | N40: =IF($B40=1, $L40,"") | O40: =IF($B40=2, $L40,"") | P40: =IF($B40=3, $L40,"") | Q40: =IF($B40=4, $L40,"") | R40: =IF($B40=5, $L40,"") | S40: =IF($B40=6, $L40,"") | T40: =IF($B40=7, $L40,"") | U40: =IF($B40=8, $L40,"")
A41: =1 -> 1 | F41: =IF(B41="", "", IFERROR( IF( VLOOKUP(B41,HalimedaInitialMetrics,11,FALSE)="EC", ((PI()*(E41*0.5)*(D41*0.5)*C41)/3)/1000, IF( VLOOKUP(B41,HalimedaInitialMetrics,11,FALSE)="HE", ((PI()*(2/3)*(E41*0.5)*(D41*0.5)*C41))/1000, "" ) ), "" ) ) | G41: =IF(B41=1,$G$11,IF(B41=2,$G$12,IF(B41=3,$G$13,IF(B41=4,$G$14,IF(B41=5,$G$15,IF(B41=6,$G$16,IF(B41=7,$G$17,IF(B41=8,$G$18,"")))))))) | H41: =IF(B41=1,F41*D$11,IF(B41=2,F41*D$12,IF(B41=3,F41*D$13,IF(B41=4,F41*D$14,IF(B41=5,F41*D$15,IF(B41=6,F41*D$16,IF(B41=7,F41*D$17,IF(B41=8,F41*D$18,"")))))))) | I41: =IF(B41=1,$J$11,IF(B41=2,$J$12,IF(B41=3,$J$13,IF(B41=4,$J$14,IF(B41=5,$J$15,IF(B41=6,$J$16,IF(B41=7,$J$17,IF(B41=8,$J$18,"")))))))) | J41: =IFERROR((H41*I41)*G41, "") | K41: =IFERROR(J41*(1/$B$6),"") | L41: =IFERROR(K41/1000,"") | N41: =IF($B41=1, $L41,"") | O41: =IF($B41=2, $L41,"") | P41: =IF($B41=3, $L41,"") | Q41: =IF($B41=4, $L41,"") | R41: =IF($B41=5, $L41,"") | S41: =IF($B41=6, $L41,"") | T41: =IF($B41=7, $L41,"") | U41: =IF($B41=8, $L41,"")
A42: =1 -> 1 | F42: =IF(B42="", "", IFERROR( IF( VLOOKUP(B42,HalimedaInitialMetrics,11,FALSE)="EC", ((PI()*(E42*0.5)*(D42*0.5)*C42)/3)/1000, IF( VLOOKUP(B42,HalimedaInitialMetrics,11,FALSE)="HE", ((PI()*(2/3)*(E42*0.5)*(D42*0.5)*C42))/1000, "" ) ), "" ) ) | G42: =IF(B42=1,$G$11,IF(B42=2,$G$12,IF(B42=3,$G$13,IF(B42=4,$G$14,IF(B42=5,$G$15,IF(B42=6,$G$16,IF(B42=7,$G$17,IF(B42=8,$G$18,"")))))))) | H42: =IF(B42=1,F42*D$11,IF(B42=2,F42*D$12,IF(B42=3,F42*D$13,IF(B42=4,F42*D$14,IF(B42=5,F42*D$15,IF(B42=6,F42*D$16,IF(B42=7,F42*D$17,IF(B42=8,F42*D$18,"")))))))) | I42: =IF(B42=1,$J$11,IF(B42=2,$J$12,IF(B42=3,$J$13,IF(B42=4,$J$14,IF(B42=5,$J$15,IF(B42=6,$J$16,IF(B42=7,$J$17,IF(B42=8,$J$18,"")))))))) | J42: =IFERROR((H42*I42)*G42, "") | K42: =IFERROR(J42*(1/$B$6),"") | L42: =IFERROR(K42/1000,"") | N42: =IF($B42=1, $L42,"") | O42: =IF($B42=2, $L42,"") | P42: =IF($B42=3, $L42,"") | Q42: =IF($B42=4, $L42,"") | R42: =IF($B42=5, $L42,"") | S42: =IF($B42=6, $L42,"") | T42: =IF($B42=7, $L42,"") | U42: =IF($B42=8, $L42,"")
A43: =1 -> 1 | F43: =IF(B43="", "", IFERROR( IF( VLOOKUP(B43,HalimedaInitialMetrics,11,FALSE)="EC", ((PI()*(E43*0.5)*(D43*0.5)*C43)/3)/1000, IF( VLOOKUP(B43,HalimedaInitialMetrics,11,FALSE)="HE", ((PI()*(2/3)*(E43*0.5)*(D43*0.5)*C43))/1000, "" ) ), "" ) ) | G43: =IF(B43=1,$G$11,IF(B43=2,$G$12,IF(B43=3,$G$13,IF(B43=4,$G$14,IF(B43=5,$G$15,IF(B43=6,$G$16,IF(B43=7,$G$17,IF(B43=8,$G$18,"")))))))) | H43: =IF(B43=1,F43*D$11,IF(B43=2,F43*D$12,IF(B43=3,F43*D$13,IF(B43=4,F43*D$14,IF(B43=5,F43*D$15,IF(B43=6,F43*D$16,IF(B43=7,F43*D$17,IF(B43=8,F43*D$18,"")))))))) | I43: =IF(B43=1,$J$11,IF(B43=2,$J$12,IF(B43=3,$J$13,IF(B43=4,$J$14,IF(B43=5,$J$15,IF(B43=6,$J$16,IF(B43=7,$J$17,IF(B43=8,$J$18,"")))))))) | J43: =IFERROR((H43*I43)*G43, "") | K43: =IFERROR(J43*(1/$B$6),"") | L43: =IFERROR(K43/1000,"") | N43: =IF($B43=1, $L43,"") | O43: =IF($B43=2, $L43,"") | P43: =IF($B43=3, $L43,"") | Q43: =IF($B43=4, $L43,"") | R43: =IF($B43=5, $L43,"") | S43: =IF($B43=6, $L43,"") | T43: =IF($B43=7, $L43,"") | U43: =IF($B43=8, $L43,"")
A44: =1 -> 1 | F44: =IF(B44="", "", IFERROR( IF( VLOOKUP(B44,HalimedaInitialMetrics,11,FALSE)="EC", ((PI()*(E44*0.5)*(D44*0.5)*C44)/3)/1000, IF( VLOOKUP(B44,HalimedaInitialMetrics,11,FALSE)="HE", ((PI()*(2/3)*(E44*0.5)*(D44*0.5)*C44))/1000, "" ) ), "" ) ) | G44: =IF(B44=1,$G$11,IF(B44=2,$G$12,IF(B44=3,$G$13,IF(B44=4,$G$14,IF(B44=5,$G$15,IF(B44=6,$G$16,IF(B44=7,$G$17,IF(B44=8,$G$18,"")))))))) | H44: =IF(B44=1,F44*D$11,IF(B44=2,F44*D$12,IF(B44=3,F44*D$13,IF(B44=4,F44*D$14,IF(B44=5,F44*D$15,IF(B44=6,F44*D$16,IF(B44=7,F44*D$17,IF(B44=8,F44*D$18,"")))))))) | I44: =IF(B44=1,$J$11,IF(B44=2,$J$12,IF(B44=3,$J$13,IF(B44=4,$J$14,IF(B44=5,$J$15,IF(B44=6,$J$16,IF(B44=7,$J$17,IF(B44=8,$J$18,"")))))))) | J44: =IFERROR((H44*I44)*G44, "") | K44: =IFERROR(J44*(1/$B$6),"") | L44: =IFERROR(K44/1000,"") | N44: =IF($B44=1, $L44,"") | O44: =IF($B44=2, $L44,"") | P44: =IF($B44=3, $L44,"") | Q44: =IF($B44=4, $L44,"") | R44: =IF($B44=5, $L44,"") | S44: =IF($B44=6, $L44,"") | T44: =IF($B44=7, $L44,"") | U44: =IF($B44=8, $L44,"")
B45: # per quadrat | C45: =COUNT(B35:B44) -> 0 | J45: TOTAL | K45: =IF($A35<=$B$5,SUM(K35:K44),"") | L45: =IF($A35<=$B$5,SUM(L35:L44),"") | N45: =SUM(N35:N44) -> 0 | O45: =SUM(O35:O44) -> 0 | P45: =SUM(P35:P44) -> 0 | Q45: =SUM(Q35:Q44) -> 0 | R45: =SUM(R35:R44) -> 0 | S45: =SUM(S35:S44) -> 0 | T45: =SUM(T35:T44) -> 0 | U45: =SUM(U35:U44) -> 0
D50: THALLUS DIMENSIONS | K50: PRODUCTION/THALLUS | Q50: Production rates per species
A51: Quadrat # | B51: Species / morphology code (select from above) | C51: height h (mm) | D51: width w (mm) | E51: depth d (mm) | F51: Total thallus volume (cm3) | G51: Crops per year | H51: Calculated # segments | I51: CaCO3 content/segment | J51: CaCO3 prod (g) /thallus/yr | K51: g CaCO3/m2/yr | L51: kg CaCO3/m2/yr | M51: . | N51: Species 1 | O51: Species 2 | P51: Species 3 | Q51: Species 4 | R51: Species 5 | S51: Species 6 | T51: Species 7 | U51: Species 8
A52: =2 -> 2 | F52: =IF(B52="", "", IFERROR( IF( VLOOKUP(B52,HalimedaInitialMetrics,11,FALSE)="EC", ((PI()*(E52*0.5)*(D52*0.5)*C52)/3)/1000, IF( VLOOKUP(B52,HalimedaInitialMetrics,11,FALSE)="HE", ((PI()*(2/3)*(E52*0.5)*(D52*0.5)*C52))/1000, "" ) ), "" ) ) | G52: =IF(B52=1,$G$11,IF(B52=2,$G$12,IF(B52=3,$G$13,IF(B52=4,$G$14,IF(B52=5,$G$15,IF(B52=6,$G$16,IF(B52=7,$G$17,IF(B52=8,$G$18,"")))))))) | H52: =IF(B52=1,F52*D$11,IF(B52=2,F52*D$12,IF(B52=3,F52*D$13,IF(B52=4,F52*D$14,IF(B52=5,F52*D$15,IF(B52=6,F52*D$16,IF(B52=7,F52*D$17,IF(B52=8,F52*D$18,"")))))))) | I52: =IF(B52=1,$J$11,IF(B52=2,$J$12,IF(B52=3,$J$13,IF(B52=4,$J$14,IF(B52=5,$J$15,IF(B52=6,$J$16,IF(B52=7,$J$17,IF(B52=8,$J$18,"")))))))) | J52: =IFERROR((H52*I52)*G52, "") | K52: =IFERROR(J52*(1/$B$6),"") | L52: =IFERROR(K52/1000,"") | N52: =IF($B52=1, $L52,"") | O52: =IF($B52=2, $L52,"") | P52: =IF($B52=3, $L52,"") | Q52: =IF($B52=4, $L52,"") | R52: =IF($B52=5, $L52,"") | S52: =IF($B52=6, $L52,"") | T52: =IF($B52=7, $L52,"") | U52: =IF($B52=8, $L52,"")
A53: =2 -> 2 | F53: =IF(B53="", "", IFERROR( IF( VLOOKUP(B53,HalimedaInitialMetrics,11,FALSE)="EC", ((PI()*(E53*0.5)*(D53*0.5)*C53)/3)/1000, IF( VLOOKUP(B53,HalimedaInitialMetrics,11,FALSE)="HE", ((PI()*(2/3)*(E53*0.5)*(D53*0.5)*C53))/1000, "" ) ), "" ) ) | G53: =IF(B53=1,$G$11,IF(B53=2,$G$12,IF(B53=3,$G$13,IF(B53=4,$G$14,IF(B53=5,$G$15,IF(B53=6,$G$16,IF(B53=7,$G$17,IF(B53=8,$G$18,"")))))))) | H53: =IF(B53=1,F53*D$11,IF(B53=2,F53*D$12,IF(B53=3,F53*D$13,IF(B53=4,F53*D$14,IF(B53=5,F53*D$15,IF(B53=6,F53*D$16,IF(B53=7,F53*D$17,IF(B53=8,F53*D$18,"")))))))) | I53: =IF(B53=1,$J$11,IF(B53=2,$J$12,IF(B53=3,$J$13,IF(B53=4,$J$14,IF(B53=5,$J$15,IF(B53=6,$J$16,IF(B53=7,$J$17,IF(B53=8,$J$18,"")))))))) | J53: =IFERROR((H53*I53)*G53, "") | K53: =IFERROR(J53*(1/$B$6),"") | L53: =IFERROR(K53/1000,"") | N53: =IF($B53=1, $L53,"") | O53: =IF($B53=2, $L53,"") | P53: =IF($B53=3, $L53,"") | Q53: =IF($B53=4, $L53,"") | R53: =IF($B53=5, $L53,"") | S53: =IF($B53=6, $L53,"") | T53: =IF($B53=7, $L53,"") | U53: =IF($B53=8, $L53,"")
A54: =2 -> 2 | F54: =IF(B54="", "", IFERROR( IF( VLOOKUP(B54,HalimedaInitialMetrics,11,FALSE)="EC", ((PI()*(E54*0.5)*(D54*0.5)*C54)/3)/1000, IF( VLOOKUP(B54,HalimedaInitialMetrics,11,FALSE)="HE", ((PI()*(2/3)*(E54*0.5)*(D54*0.5)*C54))/1000, "" ) ), "" ) ) | G54: =IF(B54=1,$G$11,IF(B54=2,$G$12,IF(B54=3,$G$13,IF(B54=4,$G$14,IF(B54=5,$G$15,IF(B54=6,$G$16,IF(B54=7,$G$17,IF(B54=8,$G$18,"")))))))) | H54: =IF(B54=1,F54*D$11,IF(B54=2,F54*D$12,IF(B54=3,F54*D$13,IF(B54=4,F54*D$14,IF(B54=5,F54*D$15,IF(B54=6,F54*D$16,IF(B54=7,F54*D$17,IF(B54=8,F54*D$18,"")))))))) | I54: =IF(B54=1,$J$11,IF(B54=2,$J$12,IF(B54=3,$J$13,IF(B54=4,$J$14,IF(B54=5,$J$15,IF(B54=6,$J$16,IF(B54=7,$J$17,IF(B54=8,$J$18,"")))))))) | J54: =IFERROR((H54*I54)*G54, "") | K54: =IFERROR(J54*(1/$B$6),"") | L54: =IFERROR(K54/1000,"") | N54: =IF($B54=1, $L54,"") | O54: =IF($B54=2, $L54,"") | P54: =IF($B54=3, $L54,"") | Q54: =IF($B54=4, $L54,"") | R54: =IF($B54=5, $L54,"") | S54: =IF($B54=6, $L54,"") | T54: =IF($B54=7, $L54,"") | U54: =IF($B54=8, $L54,"")
A55: =2 -> 2 | F55: =IF(B55="", "", IFERROR( IF( VLOOKUP(B55,HalimedaInitialMetrics,11,FALSE)="EC", ((PI()*(E55*0.5)*(D55*0.5)*C55)/3)/1000, IF( VLOOKUP(B55,HalimedaInitialMetrics,11,FALSE)="HE", ((PI()*(2/3)*(E55*0.5)*(D55*0.5)*C55))/1000, "" ) ), "" ) ) | G55: =IF(B55=1,$G$11,IF(B55=2,$G$12,IF(B55=3,$G$13,IF(B55=4,$G$14,IF(B55=5,$G$15,IF(B55=6,$G$16,IF(B55=7,$G$17,IF(B55=8,$G$18,"")))))))) | H55: =IF(B55=1,F55*D$11,IF(B55=2,F55*D$12,IF(B55=3,F55*D$13,IF(B55=4,F55*D$14,IF(B55=5,F55*D$15,IF(B55=6,F55*D$16,IF(B55=7,F55*D$17,IF(B55=8,F55*D$18,"")))))))) | I55: =IF(B55=1,$J$11,IF(B55=2,$J$12,IF(B55=3,$J$13,IF(B55=4,$J$14,IF(B55=5,$J$15,IF(B55=6,$J$16,IF(B55=7,$J$17,IF(B55=8,$J$18,"")))))))) | J55: =IFERROR((H55*I55)*G55, "") | K55: =IFERROR(J55*(1/$B$6),"") | L55: =IFERROR(K55/1000,"") | N55: =IF($B55=1, $L55,"") | O55: =IF($B55=2, $L55,"") | P55: =IF($B55=3, $L55,"") | Q55: =IF($B55=4, $L55,"") | R55: =IF($B55=5, $L55,"") | S55: =IF($B55=6, $L55,"") | T55: =IF($B55=7, $L55,"") | U55: =IF($B55=8, $L55,"")
A56: =2 -> 2 | F56: =IF(B56="", "", IFERROR( IF( VLOOKUP(B56,HalimedaInitialMetrics,11,FALSE)="EC", ((PI()*(E56*0.5)*(D56*0.5)*C56)/3)/1000, IF( VLOOKUP(B56,HalimedaInitialMetrics,11,FALSE)="HE", ((PI()*(2/3)*(E56*0.5)*(D56*0.5)*C56))/1000, "" ) ), "" ) ) | G56: =IF(B56=1,$G$11,IF(B56=2,$G$12,IF(B56=3,$G$13,IF(B56=4,$G$14,IF(B56=5,$G$15,IF(B56=6,$G$16,IF(B56=7,$G$17,IF(B56=8,$G$18,"")))))))) | H56: =IF(B56=1,F56*D$11,IF(B56=2,F56*D$12,IF(B56=3,F56*D$13,IF(B56=4,F56*D$14,IF(B56=5,F56*D$15,IF(B56=6,F56*D$16,IF(B56=7,F56*D$17,IF(B56=8,F56*D$18,"")))))))) | I56: =IF(B56=1,$J$11,IF(B56=2,$J$12,IF(B56=3,$J$13,IF(B56=4,$J$14,IF(B56=5,$J$15,IF(B56=6,$J$16,IF(B56=7,$J$17,IF(B56=8,$J$18,"")))))))) | J56: =IFERROR((H56*I56)*G56, "") | K56: =IFERROR(J56*(1/$B$6),"") | L56: =IFERROR(K56/1000,"") | N56: =IF($B56=1, $L56,"") | O56: =IF($B56=2, $L56,"") | P56: =IF($B56=3, $L56,"") | Q56: =IF($B56=4, $L56,"") | R56: =IF($B56=5, $L56,"") | S56: =IF($B56=6, $L56,"") | T56: =IF($B56=7, $L56,"") | U56: =IF($B56=8, $L56,"")
A57: =2 -> 2 | F57: =IF(B57="", "", IFERROR( IF( VLOOKUP(B57,HalimedaInitialMetrics,11,FALSE)="EC", ((PI()*(E57*0.5)*(D57*0.5)*C57)/3)/1000, IF( VLOOKUP(B57,HalimedaInitialMetrics,11,FALSE)="HE", ((PI()*(2/3)*(E57*0.5)*(D57*0.5)*C57))/1000, "" ) ), "" ) ) | G57: =IF(B57=1,$G$11,IF(B57=2,$G$12,IF(B57=3,$G$13,IF(B57=4,$G$14,IF(B57=5,$G$15,IF(B57=6,$G$16,IF(B57=7,$G$17,IF(B57=8,$G$18,"")))))))) | H57: =IF(B57=1,F57*D$11,IF(B57=2,F57*D$12,IF(B57=3,F57*D$13,IF(B57=4,F57*D$14,IF(B57=5,F57*D$15,IF(B57=6,F57*D$16,IF(B57=7,F57*D$17,IF(B57=8,F57*D$18,"")))))))) | I57: =IF(B57=1,$J$11,IF(B57=2,$J$12,IF(B57=3,$J$13,IF(B57=4,$J$14,IF(B57=5,$J$15,IF(B57=6,$J$16,IF(B57=7,$J$17,IF(B57=8,$J$18,"")))))))) | J57: =IFERROR((H57*I57)*G57, "") | K57: =IFERROR(J57*(1/$B$6),"") | L57: =IFERROR(K57/1000,"") | N57: =IF($B57=1, $L57,"") | O57: =IF($B57=2, $L57,"") | P57: =IF($B57=3, $L57,"") | Q57: =IF($B57=4, $L57,"") | R57: =IF($B57=5, $L57,"") | S57: =IF($B57=6, $L57,"") | T57: =IF($B57=7, $L57,"") | U57: =IF($B57=8, $L57,"")
A58: =2 -> 2 | F58: =IF(B58="", "", IFERROR( IF( VLOOKUP(B58,HalimedaInitialMetrics,11,FALSE)="EC", ((PI()*(E58*0.5)*(D58*0.5)*C58)/3)/1000, IF( VLOOKUP(B58,HalimedaInitialMetrics,11,FALSE)="HE", ((PI()*(2/3)*(E58*0.5)*(D58*0.5)*C58))/1000, "" ) ), "" ) ) | G58: =IF(B58=1,$G$11,IF(B58=2,$G$12,IF(B58=3,$G$13,IF(B58=4,$G$14,IF(B58=5,$G$15,IF(B58=6,$G$16,IF(B58=7,$G$17,IF(B58=8,$G$18,"")))))))) | H58: =IF(B58=1,F58*D$11,IF(B58=2,F58*D$12,IF(B58=3,F58*D$13,IF(B58=4,F58*D$14,IF(B58=5,F58*D$15,IF(B58=6,F58*D$16,IF(B58=7,F58*D$17,IF(B58=8,F58*D$18,"")))))))) | I58: =IF(B58=1,$J$11,IF(B58=2,$J$12,IF(B58=3,$J$13,IF(B58=4,$J$14,IF(B58=5,$J$15,IF(B58=6,$J$16,IF(B58=7,$J$17,IF(B58=8,$J$18,"")))))))) | J58: =IFERROR((H58*I58)*G58, "") | K58: =IFERROR(J58*(1/$B$6),"") | L58: =IFERROR(K58/1000,"") | N58: =IF($B58=1, $L58,"") | O58: =IF($B58=2, $L58,"") | P58: =IF($B58=3, $L58,"") | Q58: =IF($B58=4, $L58,"") | R58: =IF($B58=5, $L58,"") | S58: =IF($B58=6, $L58,"") | T58: =IF($B58=7, $L58,"") | U58: =IF($B58=8, $L58,"")
A59: =2 -> 2 | F59: =IF(B59="", "", IFERROR( IF( VLOOKUP(B59,HalimedaInitialMetrics,11,FALSE)="EC", ((PI()*(E59*0.5)*(D59*0.5)*C59)/3)/1000, IF( VLOOKUP(B59,HalimedaInitialMetrics,11,FALSE)="HE", ((PI()*(2/3)*(E59*0.5)*(D59*0.5)*C59))/1000, "" ) ), "" ) ) | G59: =IF(B59=1,$G$11,IF(B59=2,$G$12,IF(B59=3,$G$13,IF(B59=4,$G$14,IF(B59=5,$G$15,IF(B59=6,$G$16,IF(B59=7,$G$17,IF(B59=8,$G$18,"")))))))) | H59: =IF(B59=1,F59*D$11,IF(B59=2,F59*D$12,IF(B59=3,F59*D$13,IF(B59=4,F59*D$14,IF(B59=5,F59*D$15,IF(B59=6,F59*D$16,IF(B59=7,F59*D$17,IF(B59=8,F59*D$18,"")))))))) | I59: =IF(B59=1,$J$11,IF(B59=2,$J$12,IF(B59=3,$J$13,IF(B59=4,$J$14,IF(B59=5,$J$15,IF(B59=6,$J$16,IF(B59=7,$J$17,IF(B59=8,$J$18,"")))))))) | J59: =IFERROR((H59*I59)*G59, "") | K59: =IFERROR(J59*(1/$B$6),"") | L59: =IFERROR(K59/1000,"") | N59: =IF($B59=1, $L59,"") | O59: =IF($B59=2, $L59,"") | P59: =IF($B59=3, $L59,"") | Q59: =IF($B59=4, $L59,"") | R59: =IF($B59=5, $L59,"") | S59: =IF($B59=6, $L59,"") | T59: =IF($B59=7, $L59,"") | U59: =IF($B59=8, $L59,"")
A60: =2 -> 2 | F60: =IF(B60="", "", IFERROR( IF( VLOOKUP(B60,HalimedaInitialMetrics,11,FALSE)="EC", ((PI()*(E60*0.5)*(D60*0.5)*C60)/3)/1000, IF( VLOOKUP(B60,HalimedaInitialMetrics,11,FALSE)="HE", ((PI()*(2/3)*(E60*0.5)*(D60*0.5)*C60))/1000, "" ) ), "" ) ) | G60: =IF(B60=1,$G$11,IF(B60=2,$G$12,IF(B60=3,$G$13,IF(B60=4,$G$14,IF(B60=5,$G$15,IF(B60=6,$G$16,IF(B60=7,$G$17,IF(B60=8,$G$18,"")))))))) | H60: =IF(B60=1,F60*D$11,IF(B60=2,F60*D$12,IF(B60=3,F60*D$13,IF(B60=4,F60*D$14,IF(B60=5,F60*D$15,IF(B60=6,F60*D$16,IF(B60=7,F60*D$17,IF(B60=8,F60*D$18,"")))))))) | I60: =IF(B60=1,$J$11,IF(B60=2,$J$12,IF(B60=3,$J$13,IF(B60=4,$J$14,IF(B60=5,$J$15,IF(B60=6,$J$16,IF(B60=7,$J$17,IF(B60=8,$J$18,"")))))))) | J60: =IFERROR((H60*I60)*G60, "") | K60: =IFERROR(J60*(1/$B$6),"") | L60: =IFERROR(K60/1000,"") | N60: =IF($B60=1, $L60,"") | O60: =IF($B60=2, $L60,"") | P60: =IF($B60=3, $L60,"") | Q60: =IF($B60=4, $L60,"") | R60: =IF($B60=5, $L60,"") | S60: =IF($B60=6, $L60,"") | T60: =IF($B60=7, $L60,"") | U60: =IF($B60=8, $L60,"")
A61: =2 -> 2 | F61: =IF(B61="", "", IFERROR( IF( VLOOKUP(B61,HalimedaInitialMetrics,11,FALSE)="EC", ((PI()*(E61*0.5)*(D61*0.5)*C61)/3)/1000, IF( VLOOKUP(B61,HalimedaInitialMetrics,11,FALSE)="HE", ((PI()*(2/3)*(E61*0.5)*(D61*0.5)*C61))/1000, "" ) ), "" ) ) | G61: =IF(B61=1,$G$11,IF(B61=2,$G$12,IF(B61=3,$G$13,IF(B61=4,$G$14,IF(B61=5,$G$15,IF(B61=6,$G$16,IF(B61=7,$G$17,IF(B61=8,$G$18,"")))))))) | H61: =IF(B61=1,F61*D$11,IF(B61=2,F61*D$12,IF(B61=3,F61*D$13,IF(B61=4,F61*D$14,IF(B61=5,F61*D$15,IF(B61=6,F61*D$16,IF(B61=7,F61*D$17,IF(B61=8,F61*D$18,"")))))))) | I61: =IF(B61=1,$J$11,IF(B61=2,$J$12,IF(B61=3,$J$13,IF(B61=4,$J$14,IF(B61=5,$J$15,IF(B61=6,$J$16,IF(B61=7,$J$17,IF(B61=8,$J$18,"")))))))) | J61: =IFERROR((H61*I61)*G61, "") | K61: =IFERROR(J61*(1/$B$6),"") | L61: =IFERROR(K61/1000,"") | N61: =IF($B61=1, $L61,"") | O61: =IF($B61=2, $L61,"") | P61: =IF($B61=3, $L61,"") | Q61: =IF($B61=4, $L61,"") | R61: =IF($B61=5, $L61,"") | S61: =IF($B61=6, $L61,"") | T61: =IF($B61=7, $L61,"") | U61: =IF($B61=8, $L61,"")
B62: # per quadrat | C62: =COUNT(B52:B61) -> 0 | J62: TOTAL | K62: =IF($A52<=$B$5,SUM(K52:K61),"") | L62: =IF($A52<=$B$5,SUM(L52:L61),"") | N62: =SUM(N52:N61) -> 0 | O62: =SUM(O52:O61) -> 0 | P62: =SUM(P52:P61) -> 0 | Q62: =SUM(Q52:Q61) -> 0 | R62: =SUM(R52:R61) -> 0 | S62: =SUM(S52:S61) -> 0 | T62: =SUM(T52:T61) -> 0 | U62: =SUM(U52:U61) -> 0
D67: THALLUS DIMENSIONS | K67: PRODUCTION/THALLUS | Q67: Production rates per species
A68: Quadrat # | B68: Species / morphology code (select from above) | C68: height h (mm) | D68: width w (mm) | E68: depth d (mm) | F68: Total thallus volume (cm3) | G68: Crops per year | H68: Calculated # segments | I68: CaCO3 content/segment | J68: CaCO3 prod (g) /thallus/yr | K68: g CaCO3/m2/yr | L68: kg CaCO3/m2/yr | M68: . | N68: Species 1 | O68: Species 2 | P68: Species 3 | Q68: Species 4 | R68: Species 5 | S68: Species 6 | T68: Species 7 | U68: Species 8
A69: =3 -> 3 | F69: =IF(B69="", "", IFERROR( IF( VLOOKUP(B69,HalimedaInitialMetrics,11,FALSE)="EC", ((PI()*(E69*0.5)*(D69*0.5)*C69)/3)/1000, IF( VLOOKUP(B69,HalimedaInitialMetrics,11,FALSE)="HE", ((PI()*(2/3)*(E69*0.5)*(D69*0.5)*C69))/1000, "" ) ), "" ) ) | G69: =IF(B69=1,$G$11,IF(B69=2,$G$12,IF(B69=3,$G$13,IF(B69=4,$G$14,IF(B69=5,$G$15,IF(B69=6,$G$16,IF(B69=7,$G$17,IF(B69=8,$G$18,"")))))))) | H69: =IF(B69=1,F69*D$11,IF(B69=2,F69*D$12,IF(B69=3,F69*D$13,IF(B69=4,F69*D$14,IF(B69=5,F69*D$15,IF(B69=6,F69*D$16,IF(B69=7,F69*D$17,IF(B69=8,F69*D$18,"")))))))) | I69: =IF(B69=1,$J$11,IF(B69=2,$J$12,IF(B69=3,$J$13,IF(B69=4,$J$14,IF(B69=5,$J$15,IF(B69=6,$J$16,IF(B69=7,$J$17,IF(B69=8,$J$18,"")))))))) | J69: =IFERROR((H69*I69)*G69, "") | K69: =IFERROR(J69*(1/$B$6),"") | L69: =IFERROR(K69/1000,"") | N69: =IF($B69=1, $L69,"") | O69: =IF($B69=2, $L69,"") | P69: =IF($B69=3, $L69,"") | Q69: =IF($B69=4, $L69,"") | R69: =IF($B69=5, $L69,"") | S69: =IF($B69=6, $L69,"") | T69: =IF($B69=7, $L69,"") | U69: =IF($B69=8, $L69,"")
A70: =3 -> 3 | F70: =IF(B70="", "", IFERROR( IF( VLOOKUP(B70,HalimedaInitialMetrics,11,FALSE)="EC", ((PI()*(E70*0.5)*(D70*0.5)*C70)/3)/1000, IF( VLOOKUP(B70,HalimedaInitialMetrics,11,FALSE)="HE", ((PI()*(2/3)*(E70*0.5)*(D70*0.5)*C70))/1000, "" ) ), "" ) ) | G70: =IF(B70=1,$G$11,IF(B70=2,$G$12,IF(B70=3,$G$13,IF(B70=4,$G$14,IF(B70=5,$G$15,IF(B70=6,$G$16,IF(B70=7,$G$17,IF(B70=8,$G$18,"")))))))) | H70: =IF(B70=1,F70*D$11,IF(B70=2,F70*D$12,IF(B70=3,F70*D$13,IF(B70=4,F70*D$14,IF(B70=5,F70*D$15,IF(B70=6,F70*D$16,IF(B70=7,F70*D$17,IF(B70=8,F70*D$18,"")))))))) | I70: =IF(B70=1,$J$11,IF(B70=2,$J$12,IF(B70=3,$J$13,IF(B70=4,$J$14,IF(B70=5,$J$15,IF(B70=6,$J$16,IF(B70=7,$J$17,IF(B70=8,$J$18,"")))))))) | J70: =IFERROR((H70*I70)*G70, "") | K70: =IFERROR(J70*(1/$B$6),"") | L70: =IFERROR(K70/1000,"") | N70: =IF($B70=1, $L70,"") | O70: =IF($B70=2, $L70,"") | P70: =IF($B70=3, $L70,"") | Q70: =IF($B70=4, $L70,"") | R70: =IF($B70=5, $L70,"") | S70: =IF($B70=6, $L70,"") | T70: =IF($B70=7, $L70,"") | U70: =IF($B70=8, $L70,"")
A71: =3 -> 3 | F71: =IF(B71="", "", IFERROR( IF( VLOOKUP(B71,HalimedaInitialMetrics,11,FALSE)="EC", ((PI()*(E71*0.5)*(D71*0.5)*C71)/3)/1000, IF( VLOOKUP(B71,HalimedaInitialMetrics,11,FALSE)="HE", ((PI()*(2/3)*(E71*0.5)*(D71*0.5)*C71))/1000, "" ) ), "" ) ) | G71: =IF(B71=1,$G$11,IF(B71=2,$G$12,IF(B71=3,$G$13,IF(B71=4,$G$14,IF(B71=5,$G$15,IF(B71=6,$G$16,IF(B71=7,$G$17,IF(B71=8,$G$18,"")))))))) | H71: =IF(B71=1,F71*D$11,IF(B71=2,F71*D$12,IF(B71=3,F71*D$13,IF(B71=4,F71*D$14,IF(B71=5,F71*D$15,IF(B71=6,F71*D$16,IF(B71=7,F71*D$17,IF(B71=8,F71*D$18,"")))))))) | I71: =IF(B71=1,$J$11,IF(B71=2,$J$12,IF(B71=3,$J$13,IF(B71=4,$J$14,IF(B71=5,$J$15,IF(B71=6,$J$16,IF(B71=7,$J$17,IF(B71=8,$J$18,"")))))))) | J71: =IFERROR((H71*I71)*G71, "") | K71: =IFERROR(J71*(1/$B$6),"") | L71: =IFERROR(K71/1000,"") | N71: =IF($B71=1, $L71,"") | O71: =IF($B71=2, $L71,"") | P71: =IF($B71=3, $L71,"") | Q71: =IF($B71=4, $L71,"") | R71: =IF($B71=5, $L71,"") | S71: =IF($B71=6, $L71,"") | T71: =IF($B71=7, $L71,"") | U71: =IF($B71=8, $L71,"")
A72: =3 -> 3 | F72: =IF(B72="", "", IFERROR( IF( VLOOKUP(B72,HalimedaInitialMetrics,11,FALSE)="EC", ((PI()*(E72*0.5)*(D72*0.5)*C72)/3)/1000, IF( VLOOKUP(B72,HalimedaInitialMetrics,11,FALSE)="HE", ((PI()*(2/3)*(E72*0.5)*(D72*0.5)*C72))/1000, "" ) ), "" ) ) | G72: =IF(B72=1,$G$11,IF(B72=2,$G$12,IF(B72=3,$G$13,IF(B72=4,$G$14,IF(B72=5,$G$15,IF(B72=6,$G$16,IF(B72=7,$G$17,IF(B72=8,$G$18,"")))))))) | H72: =IF(B72=1,F72*D$11,IF(B72=2,F72*D$12,IF(B72=3,F72*D$13,IF(B72=4,F72*D$14,IF(B72=5,F72*D$15,IF(B72=6,F72*D$16,IF(B72=7,F72*D$17,IF(B72=8,F72*D$18,"")))))))) | I72: =IF(B72=1,$J$11,IF(B72=2,$J$12,IF(B72=3,$J$13,IF(B72=4,$J$14,IF(B72=5,$J$15,IF(B72=6,$J$16,IF(B72=7,$J$17,IF(B72=8,$J$18,"")))))))) | J72: =IFERROR((H72*I72)*G72, "") | K72: =IFERROR(J72*(1/$B$6),"") | L72: =IFERROR(K72/1000,"") | N72: =IF($B72=1, $L72,"") | O72: =IF($B72=2, $L72,"") | P72: =IF($B72=3, $L72,"") | Q72: =IF($B72=4, $L72,"") | R72: =IF($B72=5, $L72,"") | S72: =IF($B72=6, $L72,"") | T72: =IF($B72=7, $L72,"") | U72: =IF($B72=8, $L72,"")
A73: =3 -> 3 | F73: =IF(B73="", "", IFERROR( IF( VLOOKUP(B73,HalimedaInitialMetrics,11,FALSE)="EC", ((PI()*(E73*0.5)*(D73*0.5)*C73)/3)/1000, IF( VLOOKUP(B73,HalimedaInitialMetrics,11,FALSE)="HE", ((PI()*(2/3)*(E73*0.5)*(D73*0.5)*C73))/1000, "" ) ), "" ) ) | G73: =IF(B73=1,$G$11,IF(B73=2,$G$12,IF(B73=3,$G$13,IF(B73=4,$G$14,IF(B73=5,$G$15,IF(B73=6,$G$16,IF(B73=7,$G$17,IF(B73=8,$G$18,"")))))))) | H73: =IF(B73=1,F73*D$11,IF(B73=2,F73*D$12,IF(B73=3,F73*D$13,IF(B73=4,F73*D$14,IF(B73=5,F73*D$15,IF(B73=6,F73*D$16,IF(B73=7,F73*D$17,IF(B73=8,F73*D$18,"")))))))) | I73: =IF(B73=1,$J$11,IF(B73=2,$J$12,IF(B73=3,$J$13,IF(B73=4,$J$14,IF(B73=5,$J$15,IF(B73=6,$J$16,IF(B73=7,$J$17,IF(B73=8,$J$18,"")))))))) | J73: =IFERROR((H73*I73)*G73, "") | K73: =IFERROR(J73*(1/$B$6),"") | L73: =IFERROR(K73/1000,"") | N73: =IF($B73=1, $L73,"") | O73: =IF($B73=2, $L73,"") | P73: =IF($B73=3, $L73,"") | Q73: =IF($B73=4, $L73,"") | R73: =IF($B73=5, $L73,"") | S73: =IF($B73=6, $L73,"") | T73: =IF($B73=7, $L73,"") | U73: =IF($B73=8, $L73,"")
A74: =3 -> 3 | F74: =IF(B74="", "", IFERROR( IF( VLOOKUP(B74,HalimedaInitialMetrics,11,FALSE)="EC", ((PI()*(E74*0.5)*(D74*0.5)*C74)/3)/1000, IF( VLOOKUP(B74,HalimedaInitialMetrics,11,FALSE)="HE", ((PI()*(2/3)*(E74*0.5)*(D74*0.5)*C74))/1000, "" ) ), "" ) ) | G74: =IF(B74=1,$G$11,IF(B74=2,$G$12,IF(B74=3,$G$13,IF(B74=4,$G$14,IF(B74=5,$G$15,IF(B74=6,$G$16,IF(B74=7,$G$17,IF(B74=8,$G$18,"")))))))) | H74: =IF(B74=1,F74*D$11,IF(B74=2,F74*D$12,IF(B74=3,F74*D$13,IF(B74=4,F74*D$14,IF(B74=5,F74*D$15,IF(B74=6,F74*D$16,IF(B74=7,F74*D$17,IF(B74=8,F74*D$18,"")))))))) | I74: =IF(B74=1,$J$11,IF(B74=2,$J$12,IF(B74=3,$J$13,IF(B74=4,$J$14,IF(B74=5,$J$15,IF(B74=6,$J$16,IF(B74=7,$J$17,IF(B74=8,$J$18,"")))))))) | J74: =IFERROR((H74*I74)*G74, "") | K74: =IFERROR(J74*(1/$B$6),"") | L74: =IFERROR(K74/1000,"") | N74: =IF($B74=1, $L74,"") | O74: =IF($B74=2, $L74,"") | P74: =IF($B74=3, $L74,"") | Q74: =IF($B74=4, $L74,"") | R74: =IF($B74=5, $L74,"") | S74: =IF($B74=6, $L74,"") | T74: =IF($B74=7, $L74,"") | U74: =IF($B74=8, $L74,"")
A75: =3 -> 3 | F75: =IF(B75="", "", IFERROR( IF( VLOOKUP(B75,HalimedaInitialMetrics,11,FALSE)="EC", ((PI()*(E75*0.5)*(D75*0.5)*C75)/3)/1000, IF( VLOOKUP(B75,HalimedaInitialMetrics,11,FALSE)="HE", ((PI()*(2/3)*(E75*0.5)*(D75*0.5)*C75))/1000, "" ) ), "" ) ) | G75: =IF(B75=1,$G$11,IF(B75=2,$G$12,IF(B75=3,$G$13,IF(B75=4,$G$14,IF(B75=5,$G$15,IF(B75=6,$G$16,IF(B75=7,$G$17,IF(B75=8,$G$18,"")))))))) | H75: =IF(B75=1,F75*D$11,IF(B75=2,F75*D$12,IF(B75=3,F75*D$13,IF(B75=4,F75*D$14,IF(B75=5,F75*D$15,IF(B75=6,F75*D$16,IF(B75=7,F75*D$17,IF(B75=8,F75*D$18,"")))))))) | I75: =IF(B75=1,$J$11,IF(B75=2,$J$12,IF(B75=3,$J$13,IF(B75=4,$J$14,IF(B75=5,$J$15,IF(B75=6,$J$16,IF(B75=7,$J$17,IF(B75=8,$J$18,"")))))))) | J75: =IFERROR((H75*I75)*G75, "") | K75: =IFERROR(J75*(1/$B$6),"") | L75: =IFERROR(K75/1000,"") | N75: =IF($B75=1, $L75,"") | O75: =IF($B75=2, $L75,"") | P75: =IF($B75=3, $L75,"") | Q75: =IF($B75=4, $L75,"") | R75: =IF($B75=5, $L75,"") | S75: =IF($B75=6, $L75,"") | T75: =IF($B75=7, $L75,"") | U75: =IF($B75=8, $L75,"")
A76: =3 -> 3 | F76: =IF(B76="", "", IFERROR( IF( VLOOKUP(B76,HalimedaInitialMetrics,11,FALSE)="EC", ((PI()*(E76*0.5)*(D76*0.5)*C76)/3)/1000, IF( VLOOKUP(B76,HalimedaInitialMetrics,11,FALSE)="HE", ((PI()*(2/3)*(E76*0.5)*(D76*0.5)*C76))/1000, "" ) ), "" ) ) | G76: =IF(B76=1,$G$11,IF(B76=2,$G$12,IF(B76=3,$G$13,IF(B76=4,$G$14,IF(B76=5,$G$15,IF(B76=6,$G$16,IF(B76=7,$G$17,IF(B76=8,$G$18,"")))))))) | H76: =IF(B76=1,F76*D$11,IF(B76=2,F76*D$12,IF(B76=3,F76*D$13,IF(B76=4,F76*D$14,IF(B76=5,F76*D$15,IF(B76=6,F76*D$16,IF(B76=7,F76*D$17,IF(B76=8,F76*D$18,"")))))))) | I76: =IF(B76=1,$J$11,IF(B76=2,$J$12,IF(B76=3,$J$13,IF(B76=4,$J$14,IF(B76=5,$J$15,IF(B76=6,$J$16,IF(B76=7,$J$17,IF(B76=8,$J$18,"")))))))) | J76: =IFERROR((H76*I76)*G76, "") | K76: =IFERROR(J76*(1/$B$6),"") | L76: =IFERROR(K76/1000,"") | N76: =IF($B76=1, $L76,"") | O76: =IF($B76=2, $L76,"") | P76: =IF($B76=3, $L76,"") | Q76: =IF($B76=4, $L76,"") | R76: =IF($B76=5, $L76,"") | S76: =IF($B76=6, $L76,"") | T76: =IF($B76=7, $L76,"") | U76: =IF($B76=8, $L76,"")
A77: =3 -> 3 | F77: =IF(B77="", "", IFERROR( IF( VLOOKUP(B77,HalimedaInitialMetrics,11,FALSE)="EC", ((PI()*(E77*0.5)*(D77*0.5)*C77)/3)/1000, IF( VLOOKUP(B77,HalimedaInitialMetrics,11,FALSE)="HE", ((PI()*(2/3)*(E77*0.5)*(D77*0.5)*C77))/1000, "" ) ), "" ) ) | G77: =IF(B77=1,$G$11,IF(B77=2,$G$12,IF(B77=3,$G$13,IF(B77=4,$G$14,IF(B77=5,$G$15,IF(B77=6,$G$16,IF(B77=7,$G$17,IF(B77=8,$G$18,"")))))))) | H77: =IF(B77=1,F77*D$11,IF(B77=2,F77*D$12,IF(B77=3,F77*D$13,IF(B77=4,F77*D$14,IF(B77=5,F77*D$15,IF(B77=6,F77*D$16,IF(B77=7,F77*D$17,IF(B77=8,F77*D$18,"")))))))) | I77: =IF(B77=1,$J$11,IF(B77=2,$J$12,IF(B77=3,$J$13,IF(B77=4,$J$14,IF(B77=5,$J$15,IF(B77=6,$J$16,IF(B77=7,$J$17,IF(B77=8,$J$18,"")))))))) | J77: =IFERROR((H77*I77)*G77, "") | K77: =IFERROR(J77*(1/$B$6),"") | L77: =IFERROR(K77/1000,"") | N77: =IF($B77=1, $L77,"") | O77: =IF($B77=2, $L77,"") | P77: =IF($B77=3, $L77,"") | Q77: =IF($B77=4, $L77,"") | R77: =IF($B77=5, $L77,"") | S77: =IF($B77=6, $L77,"") | T77: =IF($B77=7, $L77,"") | U77: =IF($B77=8, $L77,"")
A78: =3 -> 3 | F78: =IF(B78="", "", IFERROR( IF( VLOOKUP(B78,HalimedaInitialMetrics,11,FALSE)="EC", ((PI()*(E78*0.5)*(D78*0.5)*C78)/3)/1000, IF( VLOOKUP(B78,HalimedaInitialMetrics,11,FALSE)="HE", ((PI()*(2/3)*(E78*0.5)*(D78*0.5)*C78))/1000, "" ) ), "" ) ) | G78: =IF(B78=1,$G$11,IF(B78=2,$G$12,IF(B78=3,$G$13,IF(B78=4,$G$14,IF(B78=5,$G$15,IF(B78=6,$G$16,IF(B78=7,$G$17,IF(B78=8,$G$18,"")))))))) | H78: =IF(B78=1,F78*D$11,IF(B78=2,F78*D$12,IF(B78=3,F78*D$13,IF(B78=4,F78*D$14,IF(B78=5,F78*D$15,IF(B78=6,F78*D$16,IF(B78=7,F78*D$17,IF(B78=8,F78*D$18,"")))))))) | I78: =IF(B78=1,$J$11,IF(B78=2,$J$12,IF(B78=3,$J$13,IF(B78=4,$J$14,IF(B78=5,$J$15,IF(B78=6,$J$16,IF(B78=7,$J$17,IF(B78=8,$J$18,"")))))))) | J78: =IFERROR((H78*I78)*G78, "") | K78: =IFERROR(J78*(1/$B$6),"") | L78: =IFERROR(K78/1000,"") | N78: =IF($B78=1, $L78,"") | O78: =IF($B78=2, $L78,"") | P78: =IF($B78=3, $L78,"") | Q78: =IF($B78=4, $L78,"") | R78: =IF($B78=5, $L78,"") | S78: =IF($B78=6, $L78,"") | T78: =IF($B78=7, $L78,"") | U78: =IF($B78=8, $L78,"")
B79: # per quadrat | C79: =COUNT(B69:B78) -> 0 | J79: TOTAL | K79: =IF($A69<=$B$5,SUM(K69:K78),"") | L79: =IF($A69<=$B$5,SUM(L69:L78),"") | N79: =SUM(N69:N78) -> 0 | O79: =SUM(O69:O78) -> 0 | P79: =SUM(P69:P78) -> 0 | Q79: =SUM(Q69:Q78) -> 0 | R79: =SUM(R69:R78) -> 0 | S79: =SUM(S69:S78) -> 0 | T79: =SUM(T69:T78) -> 0 | U79: =SUM(U69:U78) -> 0
D84: THALLUS DIMENSIONS | K84: PRODUCTION/THALLUS | Q84: Production rates per species
A85: Quadrat # | B85: Species / morphology code (select from above) | C85: height h (mm) | D85: width w (mm) | E85: depth d (mm) | F85: Total thallus volume (cm3) | G85: Crops per year | H85: Calculated # segments | I85: CaCO3 content/segment | J85: CaCO3 prod (g) /thallus/yr | K85: g CaCO3/m2/yr | L85: kg CaCO3/m2/yr | M85: . | N85: Species 1 | O85: Species 2 | P85: Species 3 | Q85: Species 4 | R85: Species 5 | S85: Species 6 | T85: Species 7 | U85: Species 8
A86: =4 -> 4 | F86: =IF(B86="", "", IFERROR( IF( VLOOKUP(B86,HalimedaInitialMetrics,11,FALSE)="EC", ((PI()*(E86*0.5)*(D86*0.5)*C86)/3)/1000, IF( VLOOKUP(B86,HalimedaInitialMetrics,11,FALSE)="HE", ((PI()*(2/3)*(E86*0.5)*(D86*0.5)*C86))/1000, "" ) ), "" ) ) | G86: =IF(B86=1,$G$11,IF(B86=2,$G$12,IF(B86=3,$G$13,IF(B86=4,$G$14,IF(B86=5,$G$15,IF(B86=6,$G$16,IF(B86=7,$G$17,IF(B86=8,$G$18,"")))))))) | H86: =IF(B86=1,F86*D$11,IF(B86=2,F86*D$12,IF(B86=3,F86*D$13,IF(B86=4,F86*D$14,IF(B86=5,F86*D$15,IF(B86=6,F86*D$16,IF(B86=7,F86*D$17,IF(B86=8,F86*D$18,"")))))))) | I86: =IF(B86=1,$J$11,IF(B86=2,$J$12,IF(B86=3,$J$13,IF(B86=4,$J$14,IF(B86=5,$J$15,IF(B86=6,$J$16,IF(B86=7,$J$17,IF(B86=8,$J$18,"")))))))) | J86: =IFERROR((H86*I86)*G86, "") | K86: =IFERROR(J86*(1/$B$6),"") | L86: =IFERROR(K86/1000,"") | N86: =IF($B86=1, $L86,"") | O86: =IF($B86=2, $L86,"") | P86: =IF($B86=3, $L86,"") | Q86: =IF($B86=4, $L86,"") | R86: =IF($B86=5, $L86,"") | S86: =IF($B86=6, $L86,"") | T86: =IF($B86=7, $L86,"") | U86: =IF($B86=8, $L86,"")
A87: =4 -> 4 | F87: =IF(B87="", "", IFERROR( IF( VLOOKUP(B87,HalimedaInitialMetrics,11,FALSE)="EC", ((PI()*(E87*0.5)*(D87*0.5)*C87)/3)/1000, IF( VLOOKUP(B87,HalimedaInitialMetrics,11,FALSE)="HE", ((PI()*(2/3)*(E87*0.5)*(D87*0.5)*C87))/1000, "" ) ), "" ) ) | G87: =IF(B87=1,$G$11,IF(B87=2,$G$12,IF(B87=3,$G$13,IF(B87=4,$G$14,IF(B87=5,$G$15,IF(B87=6,$G$16,IF(B87=7,$G$17,IF(B87=8,$G$18,"")))))))) | H87: =IF(B87=1,F87*D$11,IF(B87=2,F87*D$12,IF(B87=3,F87*D$13,IF(B87=4,F87*D$14,IF(B87=5,F87*D$15,IF(B87=6,F87*D$16,IF(B87=7,F87*D$17,IF(B87=8,F87*D$18,"")))))))) | I87: =IF(B87=1,$J$11,IF(B87=2,$J$12,IF(B87=3,$J$13,IF(B87=4,$J$14,IF(B87=5,$J$15,IF(B87=6,$J$16,IF(B87=7,$J$17,IF(B87=8,$J$18,"")))))))) | J87: =IFERROR((H87*I87)*G87, "") | K87: =IFERROR(J87*(1/$B$6),"") | L87: =IFERROR(K87/1000,"") | N87: =IF($B87=1, $L87,"") | O87: =IF($B87=2, $L87,"") | P87: =IF($B87=3, $L87,"") | Q87: =IF($B87=4, $L87,"") | R87: =IF($B87=5, $L87,"") | S87: =IF($B87=6, $L87,"") | T87: =IF($B87=7, $L87,"") | U87: =IF($B87=8, $L87,"")
A88: =4 -> 4 | F88: =IF(B88="", "", IFERROR( IF( VLOOKUP(B88,HalimedaInitialMetrics,11,FALSE)="EC", ((PI()*(E88*0.5)*(D88*0.5)*C88)/3)/1000, IF( VLOOKUP(B88,HalimedaInitialMetrics,11,FALSE)="HE", ((PI()*(2/3)*(E88*0.5)*(D88*0.5)*C88))/1000, "" ) ), "" ) ) | G88: =IF(B88=1,$G$11,IF(B88=2,$G$12,IF(B88=3,$G$13,IF(B88=4,$G$14,IF(B88=5,$G$15,IF(B88=6,$G$16,IF(B88=7,$G$17,IF(B88=8,$G$18,"")))))))) | H88: =IF(B88=1,F88*D$11,IF(B88=2,F88*D$12,IF(B88=3,F88*D$13,IF(B88=4,F88*D$14,IF(B88=5,F88*D$15,IF(B88=6,F88*D$16,IF(B88=7,F88*D$17,IF(B88=8,F88*D$18,"")))))))) | I88: =IF(B88=1,$J$11,IF(B88=2,$J$12,IF(B88=3,$J$13,IF(B88=4,$J$14,IF(B88=5,$J$15,IF(B88=6,$J$16,IF(B88=7,$J$17,IF(B88=8,$J$18,"")))))))) | J88: =IFERROR((H88*I88)*G88, "") | K88: =IFERROR(J88*(1/$B$6),"") | L88: =IFERROR(K88/1000,"") | N88: =IF($B88=1, $L88,"") | O88: =IF($B88=2, $L88,"") | P88: =IF($B88=3, $L88,"") | Q88: =IF($B88=4, $L88,"") | R88: =IF($B88=5, $L88,"") | S88: =IF($B88=6, $L88,"") | T88: =IF($B88=7, $L88,"") | U88: =IF($B88=8, $L88,"")
A89: =4 -> 4 | F89: =IF(B89="", "", IFERROR( IF( VLOOKUP(B89,HalimedaInitialMetrics,11,FALSE)="EC", ((PI()*(E89*0.5)*(D89*0.5)*C89)/3)/1000, IF( VLOOKUP(B89,HalimedaInitialMetrics,11,FALSE)="HE", ((PI()*(2/3)*(E89*0.5)*(D89*0.5)*C89))/1000, "" ) ), "" ) ) | G89: =IF(B89=1,$G$11,IF(B89=2,$G$12,IF(B89=3,$G$13,IF(B89=4,$G$14,IF(B89=5,$G$15,IF(B89=6,$G$16,IF(B89=7,$G$17,IF(B89=8,$G$18,"")))))))) | H89: =IF(B89=1,F89*D$11,IF(B89=2,F89*D$12,IF(B89=3,F89*D$13,IF(B89=4,F89*D$14,IF(B89=5,F89*D$15,IF(B89=6,F89*D$16,IF(B89=7,F89*D$17,IF(B89=8,F89*D$18,"")))))))) | I89: =IF(B89=1,$J$11,IF(B89=2,$J$12,IF(B89=3,$J$13,IF(B89=4,$J$14,IF(B89=5,$J$15,IF(B89=6,$J$16,IF(B89=7,$J$17,IF(B89=8,$J$18,"")))))))) | J89: =IFERROR((H89*I89)*G89, "") | K89: =IFERROR(J89*(1/$B$6),"") | L89: =IFERROR(K89/1000,"") | N89: =IF($B89=1, $L89,"") | O89: =IF($B89=2, $L89,"") | P89: =IF($B89=3, $L89,"") | Q89: =IF($B89=4, $L89,"") | R89: =IF($B89=5, $L89,"") | S89: =IF($B89=6, $L89,"") | T89: =IF($B89=7, $L89,"") | U89: =IF($B89=8, $L89,"")
A90: =4 -> 4 | F90: =IF(B90="", "", IFERROR( IF( VLOOKUP(B90,HalimedaInitialMetrics,11,FALSE)="EC", ((PI()*(E90*0.5)*(D90*0.5)*C90)/3)/1000, IF( VLOOKUP(B90,HalimedaInitialMetrics,11,FALSE)="HE", ((PI()*(2/3)*(E90*0.5)*(D90*0.5)*C90))/1000, "" ) ), "" ) ) | G90: =IF(B90=1,$G$11,IF(B90=2,$G$12,IF(B90=3,$G$13,IF(B90=4,$G$14,IF(B90=5,$G$15,IF(B90=6,$G$16,IF(B90=7,$G$17,IF(B90=8,$G$18,"")))))))) | H90: =IF(B90=1,F90*D$11,IF(B90=2,F90*D$12,IF(B90=3,F90*D$13,IF(B90=4,F90*D$14,IF(B90=5,F90*D$15,IF(B90=6,F90*D$16,IF(B90=7,F90*D$17,IF(B90=8,F90*D$18,"")))))))) | I90: =IF(B90=1,$J$11,IF(B90=2,$J$12,IF(B90=3,$J$13,IF(B90=4,$J$14,IF(B90=5,$J$15,IF(B90=6,$J$16,IF(B90=7,$J$17,IF(B90=8,$J$18,"")))))))) | J90: =IFERROR((H90*I90)*G90, "") | K90: =IFERROR(J90*(1/$B$6),"") | L90: =IFERROR(K90/1000,"") | N90: =IF($B90=1, $L90,"") | O90: =IF($B90=2, $L90,"") | P90: =IF($B90=3, $L90,"") | Q90: =IF($B90=4, $L90,"") | R90: =IF($B90=5, $L90,"") | S90: =IF($B90=6, $L90,"") | T90: =IF($B90=7, $L90,"") | U90: =IF($B90=8, $L90,"")
A91: =4 -> 4 | F91: =IF(B91="", "", IFERROR( IF( VLOOKUP(B91,HalimedaInitialMetrics,11,FALSE)="EC", ((PI()*(E91*0.5)*(D91*0.5)*C91)/3)/1000, IF( VLOOKUP(B91,HalimedaInitialMetrics,11,FALSE)="HE", ((PI()*(2/3)*(E91*0.5)*(D91*0.5)*C91))/1000, "" ) ), "" ) ) | G91: =IF(B91=1,$G$11,IF(B91=2,$G$12,IF(B91=3,$G$13,IF(B91=4,$G$14,IF(B91=5,$G$15,IF(B91=6,$G$16,IF(B91=7,$G$17,IF(B91=8,$G$18,"")))))))) | H91: =IF(B91=1,F91*D$11,IF(B91=2,F91*D$12,IF(B91=3,F91*D$13,IF(B91=4,F91*D$14,IF(B91=5,F91*D$15,IF(B91=6,F91*D$16,IF(B91=7,F91*D$17,IF(B91=8,F91*D$18,"")))))))) | I91: =IF(B91=1,$J$11,IF(B91=2,$J$12,IF(B91=3,$J$13,IF(B91=4,$J$14,IF(B91=5,$J$15,IF(B91=6,$J$16,IF(B91=7,$J$17,IF(B91=8,$J$18,"")))))))) | J91: =IFERROR((H91*I91)*G91, "") | K91: =IFERROR(J91*(1/$B$6),"") | L91: =IFERROR(K91/1000,"") | N91: =IF($B91=1, $L91,"") | O91: =IF($B91=2, $L91,"") | P91: =IF($B91=3, $L91,"") | Q91: =IF($B91=4, $L91,"") | R91: =IF($B91=5, $L91,"") | S91: =IF($B91=6, $L91,"") | T91: =IF($B91=7, $L91,"") | U91: =IF($B91=8, $L91,"")
A92: =4 -> 4 | F92: =IF(B92="", "", IFERROR( IF( VLOOKUP(B92,HalimedaInitialMetrics,11,FALSE)="EC", ((PI()*(E92*0.5)*(D92*0.5)*C92)/3)/1000, IF( VLOOKUP(B92,HalimedaInitialMetrics,11,FALSE)="HE", ((PI()*(2/3)*(E92*0.5)*(D92*0.5)*C92))/1000, "" ) ), "" ) ) | G92: =IF(B92=1,$G$11,IF(B92=2,$G$12,IF(B92=3,$G$13,IF(B92=4,$G$14,IF(B92=5,$G$15,IF(B92=6,$G$16,IF(B92=7,$G$17,IF(B92=8,$G$18,"")))))))) | H92: =IF(B92=1,F92*D$11,IF(B92=2,F92*D$12,IF(B92=3,F92*D$13,IF(B92=4,F92*D$14,IF(B92=5,F92*D$15,IF(B92=6,F92*D$16,IF(B92=7,F92*D$17,IF(B92=8,F92*D$18,"")))))))) | I92: =IF(B92=1,$J$11,IF(B92=2,$J$12,IF(B92=3,$J$13,IF(B92=4,$J$14,IF(B92=5,$J$15,IF(B92=6,$J$16,IF(B92=7,$J$17,IF(B92=8,$J$18,"")))))))) | J92: =IFERROR((H92*I92)*G92, "") | K92: =IFERROR(J92*(1/$B$6),"") | L92: =IFERROR(K92/1000,"") | N92: =IF($B92=1, $L92,"") | O92: =IF($B92=2, $L92,"") | P92: =IF($B92=3, $L92,"") | Q92: =IF($B92=4, $L92,"") | R92: =IF($B92=5, $L92,"") | S92: =IF($B92=6, $L92,"") | T92: =IF($B92=7, $L92,"") | U92: =IF($B92=8, $L92,"")
A93: =4 -> 4 | F93: =IF(B93="", "", IFERROR( IF( VLOOKUP(B93,HalimedaInitialMetrics,11,FALSE)="EC", ((PI()*(E93*0.5)*(D93*0.5)*C93)/3)/1000, IF( VLOOKUP(B93,HalimedaInitialMetrics,11,FALSE)="HE", ((PI()*(2/3)*(E93*0.5)*(D93*0.5)*C93))/1000, "" ) ), "" ) ) | G93: =IF(B93=1,$G$11,IF(B93=2,$G$12,IF(B93=3,$G$13,IF(B93=4,$G$14,IF(B93=5,$G$15,IF(B93=6,$G$16,IF(B93=7,$G$17,IF(B93=8,$G$18,"")))))))) | H93: =IF(B93=1,F93*D$11,IF(B93=2,F93*D$12,IF(B93=3,F93*D$13,IF(B93=4,F93*D$14,IF(B93=5,F93*D$15,IF(B93=6,F93*D$16,IF(B93=7,F93*D$17,IF(B93=8,F93*D$18,"")))))))) | I93: =IF(B93=1,$J$11,IF(B93=2,$J$12,IF(B93=3,$J$13,IF(B93=4,$J$14,IF(B93=5,$J$15,IF(B93=6,$J$16,IF(B93=7,$J$17,IF(B93=8,$J$18,"")))))))) | J93: =IFERROR((H93*I93)*G93, "") | K93: =IFERROR(J93*(1/$B$6),"") | L93: =IFERROR(K93/1000,"") | N93: =IF($B93=1, $L93,"") | O93: =IF($B93=2, $L93,"") | P93: =IF($B93=3, $L93,"") | Q93: =IF($B93=4, $L93,"") | R93: =IF($B93=5, $L93,"") | S93: =IF($B93=6, $L93,"") | T93: =IF($B93=7, $L93,"") | U93: =IF($B93=8, $L93,"")
A94: =4 -> 4 | F94: =IF(B94="", "", IFERROR( IF( VLOOKUP(B94,HalimedaInitialMetrics,11,FALSE)="EC", ((PI()*(E94*0.5)*(D94*0.5)*C94)/3)/1000, IF( VLOOKUP(B94,HalimedaInitialMetrics,11,FALSE)="HE", ((PI()*(2/3)*(E94*0.5)*(D94*0.5)*C94))/1000, "" ) ), "" ) ) | G94: =IF(B94=1,$G$11,IF(B94=2,$G$12,IF(B94=3,$G$13,IF(B94=4,$G$14,IF(B94=5,$G$15,IF(B94=6,$G$16,IF(B94=7,$G$17,IF(B94=8,$G$18,"")))))))) | H94: =IF(B94=1,F94*D$11,IF(B94=2,F94*D$12,IF(B94=3,F94*D$13,IF(B94=4,F94*D$14,IF(B94=5,F94*D$15,IF(B94=6,F94*D$16,IF(B94=7,F94*D$17,IF(B94=8,F94*D$18,"")))))))) | I94: =IF(B94=1,$J$11,IF(B94=2,$J$12,IF(B94=3,$J$13,IF(B94=4,$J$14,IF(B94=5,$J$15,IF(B94=6,$J$16,IF(B94=7,$J$17,IF(B94=8,$J$18,"")))))))) | J94: =IFERROR((H94*I94)*G94, "") | K94: =IFERROR(J94*(1/$B$6),"") | L94: =IFERROR(K94/1000,"") | N94: =IF($B94=1, $L94,"") | O94: =IF($B94=2, $L94,"") | P94: =IF($B94=3, $L94,"") | Q94: =IF($B94=4, $L94,"") | R94: =IF($B94=5, $L94,"") | S94: =IF($B94=6, $L94,"") | T94: =IF($B94=7, $L94,"") | U94: =IF($B94=8, $L94,"")
A95: =4 -> 4 | F95: =IF(B95="", "", IFERROR( IF( VLOOKUP(B95,HalimedaInitialMetrics,11,FALSE)="EC", ((PI()*(E95*0.5)*(D95*0.5)*C95)/3)/1000, IF( VLOOKUP(B95,HalimedaInitialMetrics,11,FALSE)="HE", ((PI()*(2/3)*(E95*0.5)*(D95*0.5)*C95))/1000, "" ) ), "" ) ) | G95: =IF(B95=1,$G$11,IF(B95=2,$G$12,IF(B95=3,$G$13,IF(B95=4,$G$14,IF(B95=5,$G$15,IF(B95=6,$G$16,IF(B95=7,$G$17,IF(B95=8,$G$18,"")))))))) | H95: =IF(B95=1,F95*D$11,IF(B95=2,F95*D$12,IF(B95=3,F95*D$13,IF(B95=4,F95*D$14,IF(B95=5,F95*D$15,IF(B95=6,F95*D$16,IF(B95=7,F95*D$17,IF(B95=8,F95*D$18,"")))))))) | I95: =IF(B95=1,$J$11,IF(B95=2,$J$12,IF(B95=3,$J$13,IF(B95=4,$J$14,IF(B95=5,$J$15,IF(B95=6,$J$16,IF(B95=7,$J$17,IF(B95=8,$J$18,"")))))))) | J95: =IFERROR((H95*I95)*G95, "") | K95: =IFERROR(J95*(1/$B$6),"") | L95: =IFERROR(K95/1000,"") | N95: =IF($B95=1, $L95,"") | O95: =IF($B95=2, $L95,"") | P95: =IF($B95=3, $L95,"") | Q95: =IF($B95=4, $L95,"") | R95: =IF($B95=5, $L95,"") | S95: =IF($B95=6, $L95,"") | T95: =IF($B95=7, $L95,"") | U95: =IF($B95=8, $L95,"")
B96: # per quadrat | C96: =COUNT(B86:B95) -> 0 | J96: TOTAL | K96: =IF($A86<=$B$5,SUM(K86:K95),"") | L96: =IF($A86<=$B$5,SUM(L86:L95),"") | N96: =SUM(N86:N95) -> 0 | O96: =SUM(O86:O95) -> 0 | P96: =SUM(P86:P95) -> 0 | Q96: =SUM(Q86:Q95) -> 0 | R96: =SUM(R86:R95) -> 0 | S96: =SUM(S86:S95) -> 0 | T96: =SUM(T86:T95) -> 0 | U96: =SUM(U86:U95) -> 0
D101: THALLUS DIMENSIONS | K101: PRODUCTION/THALLUS | Q101: Production rates per species
A102: Quadrat # | B102: Species / morphology code (select from above) | C102: height h (mm) | D102: width w (mm) | E102: depth d (mm) | F102: Total thallus volume (cm3) | G102: Crops per year | H102: Calculated # segments | I102: CaCO3 content/segment | J102: CaCO3 prod (g) /thallus/yr | K102: g CaCO3/m2/yr | L102: kg CaCO3/m2/yr | M102: . | N102: Species 1 | O102: Species 2 | P102: Species 3 | Q102: Species 4 | R102: Species 5 | S102: Species 6 | T102: Species 7 | U102: Species 8
A103: =5 -> 5 | F103: =IF(B103="", "", IFERROR( IF( VLOOKUP(B103,HalimedaInitialMetrics,11,FALSE)="EC", ((PI()*(E103*0.5)*(D103*0.5)*C103)/3)/1000, IF( VLOOKUP(B103,HalimedaInitialMetrics,11,FALSE)="HE", ((PI()*(2/3)*(E103*0.5)*(D103*0.5)*C103))/1000, "" ) ), "" ) ) | G103: =IF(B103=1,$G$11,IF(B103=2,$G$12,IF(B103=3,$G$13,IF(B103=4,$G$14,IF(B103=5,$G$15,IF(B103=6,$G$16,IF(B103=7,$G$17,IF(B103=8,$G$18,"")))))))) | H103: =IF(B103=1,F103*D$11,IF(B103=2,F103*D$12,IF(B103=3,F103*D$13,IF(B103=4,F103*D$14,IF(B103=5,F103*D$15,IF(B103=6,F103*D$16,IF(B103=7,F103*D$17,IF(B103=8,F103*D$18,"")))))))) | I103: =IF(B103=1,$J$11,IF(B103=2,$J$12,IF(B103=3,$J$13,IF(B103=4,$J$14,IF(B103=5,$J$15,IF(B103=6,$J$16,IF(B103=7,$J$17,IF(B103=8,$J$18,"")))))))) | J103: =IFERROR((H103*I103)*G103, "") | K103: =IFERROR(J103*(1/$B$6),"") | L103: =IFERROR(K103/1000,"") | N103: =IF($B103=1, $L103,"") | O103: =IF($B103=2, $L103,"") | P103: =IF($B103=3, $L103,"") | Q103: =IF($B103=4, $L103,"") | R103: =IF($B103=5, $L103,"") | S103: =IF($B103=6, $L103,"") | T103: =IF($B103=7, $L103,"") | U103: =IF($B103=8, $L103,"")
A104: =5 -> 5 | F104: =IF(B104="", "", IFERROR( IF( VLOOKUP(B104,HalimedaInitialMetrics,11,FALSE)="EC", ((PI()*(E104*0.5)*(D104*0.5)*C104)/3)/1000, IF( VLOOKUP(B104,HalimedaInitialMetrics,11,FALSE)="HE", ((PI()*(2/3)*(E104*0.5)*(D104*0.5)*C104))/1000, "" ) ), "" ) ) | G104: =IF(B104=1,$G$11,IF(B104=2,$G$12,IF(B104=3,$G$13,IF(B104=4,$G$14,IF(B104=5,$G$15,IF(B104=6,$G$16,IF(B104=7,$G$17,IF(B104=8,$G$18,"")))))))) | H104: =IF(B104=1,F104*D$11,IF(B104=2,F104*D$12,IF(B104=3,F104*D$13,IF(B104=4,F104*D$14,IF(B104=5,F104*D$15,IF(B104=6,F104*D$16,IF(B104=7,F104*D$17,IF(B104=8,F104*D$18,"")))))))) | I104: =IF(B104=1,$J$11,IF(B104=2,$J$12,IF(B104=3,$J$13,IF(B104=4,$J$14,IF(B104=5,$J$15,IF(B104=6,$J$16,IF(B104=7,$J$17,IF(B104=8,$J$18,"")))))))) | J104: =IFERROR((H104*I104)*G104, "") | K104: =IFERROR(J104*(1/$B$6),"") | L104: =IFERROR(K104/1000,"") | N104: =IF($B104=1, $L104,"") | O104: =IF($B104=2, $L104,"") | P104: =IF($B104=3, $L104,"") | Q104: =IF($B104=4, $L104,"") | R104: =IF($B104=5, $L104,"") | S104: =IF($B104=6, $L104,"") | T104: =IF($B104=7, $L104,"") | U104: =IF($B104=8, $L104,"")
A105: =5 -> 5 | F105: =IF(B105="", "", IFERROR( IF( VLOOKUP(B105,HalimedaInitialMetrics,11,FALSE)="EC", ((PI()*(E105*0.5)*(D105*0.5)*C105)/3)/1000, IF( VLOOKUP(B105,HalimedaInitialMetrics,11,FALSE)="HE", ((PI()*(2/3)*(E105*0.5)*(D105*0.5)*C105))/1000, "" ) ), "" ) ) | G105: =IF(B105=1,$G$11,IF(B105=2,$G$12,IF(B105=3,$G$13,IF(B105=4,$G$14,IF(B105=5,$G$15,IF(B105=6,$G$16,IF(B105=7,$G$17,IF(B105=8,$G$18,"")))))))) | H105: =IF(B105=1,F105*D$11,IF(B105=2,F105*D$12,IF(B105=3,F105*D$13,IF(B105=4,F105*D$14,IF(B105=5,F105*D$15,IF(B105=6,F105*D$16,IF(B105=7,F105*D$17,IF(B105=8,F105*D$18,"")))))))) | I105: =IF(B105=1,$J$11,IF(B105=2,$J$12,IF(B105=3,$J$13,IF(B105=4,$J$14,IF(B105=5,$J$15,IF(B105=6,$J$16,IF(B105=7,$J$17,IF(B105=8,$J$18,"")))))))) | J105: =IFERROR((H105*I105)*G105, "") | K105: =IFERROR(J105*(1/$B$6),"") | L105: =IFERROR(K105/1000,"") | N105: =IF($B105=1, $L105,"") | O105: =IF($B105=2, $L105,"") | P105: =IF($B105=3, $L105,"") | Q105: =IF($B105=4, $L105,"") | R105: =IF($B105=5, $L105,"") | S105: =IF($B105=6, $L105,"") | T105: =IF($B105=7, $L105,"") | U105: =IF($B105=8, $L105,"")
A106: =5 -> 5 | F106: =IF(B106="", "", IFERROR( IF( VLOOKUP(B106,HalimedaInitialMetrics,11,FALSE)="EC", ((PI()*(E106*0.5)*(D106*0.5)*C106)/3)/1000, IF( VLOOKUP(B106,HalimedaInitialMetrics,11,FALSE)="HE", ((PI()*(2/3)*(E106*0.5)*(D106*0.5)*C106))/1000, "" ) ), "" ) ) | G106: =IF(B106=1,$G$11,IF(B106=2,$G$12,IF(B106=3,$G$13,IF(B106=4,$G$14,IF(B106=5,$G$15,IF(B106=6,$G$16,IF(B106=7,$G$17,IF(B106=8,$G$18,"")))))))) | H106: =IF(B106=1,F106*D$11,IF(B106=2,F106*D$12,IF(B106=3,F106*D$13,IF(B106=4,F106*D$14,IF(B106=5,F106*D$15,IF(B106=6,F106*D$16,IF(B106=7,F106*D$17,IF(B106=8,F106*D$18,"")))))))) | I106: =IF(B106=1,$J$11,IF(B106=2,$J$12,IF(B106=3,$J$13,IF(B106=4,$J$14,IF(B106=5,$J$15,IF(B106=6,$J$16,IF(B106=7,$J$17,IF(B106=8,$J$18,"")))))))) | J106: =IFERROR((H106*I106)*G106, "") | K106: =IFERROR(J106*(1/$B$6),"") | L106: =IFERROR(K106/1000,"") | N106: =IF($B106=1, $L106,"") | O106: =IF($B106=2, $L106,"") | P106: =IF($B106=3, $L106,"") | Q106: =IF($B106=4, $L106,"") | R106: =IF($B106=5, $L106,"") | S106: =IF($B106=6, $L106,"") | T106: =IF($B106=7, $L106,"") | U106: =IF($B106=8, $L106,"")
A107: =5 -> 5 | F107: =IF(B107="", "", IFERROR( IF( VLOOKUP(B107,HalimedaInitialMetrics,11,FALSE)="EC", ((PI()*(E107*0.5)*(D107*0.5)*C107)/3)/1000, IF( VLOOKUP(B107,HalimedaInitialMetrics,11,FALSE)="HE", ((PI()*(2/3)*(E107*0.5)*(D107*0.5)*C107))/1000, "" ) ), "" ) ) | G107: =IF(B107=1,$G$11,IF(B107=2,$G$12,IF(B107=3,$G$13,IF(B107=4,$G$14,IF(B107=5,$G$15,IF(B107=6,$G$16,IF(B107=7,$G$17,IF(B107=8,$G$18,"")))))))) | H107: =IF(B107=1,F107*D$11,IF(B107=2,F107*D$12,IF(B107=3,F107*D$13,IF(B107=4,F107*D$14,IF(B107=5,F107*D$15,IF(B107=6,F107*D$16,IF(B107=7,F107*D$17,IF(B107=8,F107*D$18,"")))))))) | I107: =IF(B107=1,$J$11,IF(B107=2,$J$12,IF(B107=3,$J$13,IF(B107=4,$J$14,IF(B107=5,$J$15,IF(B107=6,$J$16,IF(B107=7,$J$17,IF(B107=8,$J$18,"")))))))) | J107: =IFERROR((H107*I107)*G107, "") | K107: =IFERROR(J107*(1/$B$6),"") | L107: =IFERROR(K107/1000,"") | N107: =IF($B107=1, $L107,"") | O107: =IF($B107=2, $L107,"") | P107: =IF($B107=3, $L107,"") | Q107: =IF($B107=4, $L107,"") | R107: =IF($B107=5, $L107,"") | S107: =IF($B107=6, $L107,"") | T107: =IF($B107=7, $L107,"") | U107: =IF($B107=8, $L107,"")
A108: =5 -> 5 | F108: =IF(B108="", "", IFERROR( IF( VLOOKUP(B108,HalimedaInitialMetrics,11,FALSE)="EC", ((PI()*(E108*0.5)*(D108*0.5)*C108)/3)/1000, IF( VLOOKUP(B108,HalimedaInitialMetrics,11,FALSE)="HE", ((PI()*(2/3)*(E108*0.5)*(D108*0.5)*C108))/1000, "" ) ), "" ) ) | G108: =IF(B108=1,$G$11,IF(B108=2,$G$12,IF(B108=3,$G$13,IF(B108=4,$G$14,IF(B108=5,$G$15,IF(B108=6,$G$16,IF(B108=7,$G$17,IF(B108=8,$G$18,"")))))))) | H108: =IF(B108=1,F108*D$11,IF(B108=2,F108*D$12,IF(B108=3,F108*D$13,IF(B108=4,F108*D$14,IF(B108=5,F108*D$15,IF(B108=6,F108*D$16,IF(B108=7,F108*D$17,IF(B108=8,F108*D$18,"")))))))) | I108: =IF(B108=1,$J$11,IF(B108=2,$J$12,IF(B108=3,$J$13,IF(B108=4,$J$14,IF(B108=5,$J$15,IF(B108=6,$J$16,IF(B108=7,$J$17,IF(B108=8,$J$18,"")))))))) | J108: =IFERROR((H108*I108)*G108, "") | K108: =IFERROR(J108*(1/$B$6),"") | L108: =IFERROR(K108/1000,"") | N108: =IF($B108=1, $L108,"") | O108: =IF($B108=2, $L108,"") | P108: =IF($B108=3, $L108,"") | Q108: =IF($B108=4, $L108,"") | R108: =IF($B108=5, $L108,"") | S108: =IF($B108=6, $L108,"") | T108: =IF($B108=7, $L108,"") | U108: =IF($B108=8, $L108,"")
A109: =5 -> 5 | F109: =IF(B109="", "", IFERROR( IF( VLOOKUP(B109,HalimedaInitialMetrics,11,FALSE)="EC", ((PI()*(E109*0.5)*(D109*0.5)*C109)/3)/1000, IF( VLOOKUP(B109,HalimedaInitialMetrics,11,FALSE)="HE", ((PI()*(2/3)*(E109*0.5)*(D109*0.5)*C109))/1000, "" ) ), "" ) ) | G109: =IF(B109=1,$G$11,IF(B109=2,$G$12,IF(B109=3,$G$13,IF(B109=4,$G$14,IF(B109=5,$G$15,IF(B109=6,$G$16,IF(B109=7,$G$17,IF(B109=8,$G$18,"")))))))) | H109: =IF(B109=1,F109*D$11,IF(B109=2,F109*D$12,IF(B109=3,F109*D$13,IF(B109=4,F109*D$14,IF(B109=5,F109*D$15,IF(B109=6,F109*D$16,IF(B109=7,F109*D$17,IF(B109=8,F109*D$18,"")))))))) | I109: =IF(B109=1,$J$11,IF(B109=2,$J$12,IF(B109=3,$J$13,IF(B109=4,$J$14,IF(B109=5,$J$15,IF(B109=6,$J$16,IF(B109=7,$J$17,IF(B109=8,$J$18,"")))))))) | J109: =IFERROR((H109*I109)*G109, "") | K109: =IFERROR(J109*(1/$B$6),"") | L109: =IFERROR(K109/1000,"") | N109: =IF($B109=1, $L109,"") | O109: =IF($B109=2, $L109,"") | P109: =IF($B109=3, $L109,"") | Q109: =IF($B109=4, $L109,"") | R109: =IF($B109=5, $L109,"") | S109: =IF($B109=6, $L109,"") | T109: =IF($B109=7, $L109,"") | U109: =IF($B109=8, $L109,"")
A110: =5 -> 5 | F110: =IF(B110="", "", IFERROR( IF( VLOOKUP(B110,HalimedaInitialMetrics,11,FALSE)="EC", ((PI()*(E110*0.5)*(D110*0.5)*C110)/3)/1000, IF( VLOOKUP(B110,HalimedaInitialMetrics,11,FALSE)="HE", ((PI()*(2/3)*(E110*0.5)*(D110*0.5)*C110))/1000, "" ) ), "" ) ) | G110: =IF(B110=1,$G$11,IF(B110=2,$G$12,IF(B110=3,$G$13,IF(B110=4,$G$14,IF(B110=5,$G$15,IF(B110=6,$G$16,IF(B110=7,$G$17,IF(B110=8,$G$18,"")))))))) | H110: =IF(B110=1,F110*D$11,IF(B110=2,F110*D$12,IF(B110=3,F110*D$13,IF(B110=4,F110*D$14,IF(B110=5,F110*D$15,IF(B110=6,F110*D$16,IF(B110=7,F110*D$17,IF(B110=8,F110*D$18,"")))))))) | I110: =IF(B110=1,$J$11,IF(B110=2,$J$12,IF(B110=3,$J$13,IF(B110=4,$J$14,IF(B110=5,$J$15,IF(B110=6,$J$16,IF(B110=7,$J$17,IF(B110=8,$J$18,"")))))))) | J110: =IFERROR((H110*I110)*G110, "") | K110: =IFERROR(J110*(1/$B$6),"") | L110: =IFERROR(K110/1000,"") | N110: =IF($B110=1, $L110,"") | O110: =IF($B110=2, $L110,"") | P110: =IF($B110=3, $L110,"") | Q110: =IF($B110=4, $L110,"") | R110: =IF($B110=5, $L110,"") | S110: =IF($B110=6, $L110,"") | T110: =IF($B110=7, $L110,"") | U110: =IF($B110=8, $L110,"")
A111: =5 -> 5 | F111: =IF(B111="", "", IFERROR( IF( VLOOKUP(B111,HalimedaInitialMetrics,11,FALSE)="EC", ((PI()*(E111*0.5)*(D111*0.5)*C111)/3)/1000, IF( VLOOKUP(B111,HalimedaInitialMetrics,11,FALSE)="HE", ((PI()*(2/3)*(E111*0.5)*(D111*0.5)*C111))/1000, "" ) ), "" ) ) | G111: =IF(B111=1,$G$11,IF(B111=2,$G$12,IF(B111=3,$G$13,IF(B111=4,$G$14,IF(B111=5,$G$15,IF(B111=6,$G$16,IF(B111=7,$G$17,IF(B111=8,$G$18,"")))))))) | H111: =IF(B111=1,F111*D$11,IF(B111=2,F111*D$12,IF(B111=3,F111*D$13,IF(B111=4,F111*D$14,IF(B111=5,F111*D$15,IF(B111=6,F111*D$16,IF(B111=7,F111*D$17,IF(B111=8,F111*D$18,"")))))))) | I111: =IF(B111=1,$J$11,IF(B111=2,$J$12,IF(B111=3,$J$13,IF(B111=4,$J$14,IF(B111=5,$J$15,IF(B111=6,$J$16,IF(B111=7,$J$17,IF(B111=8,$J$18,"")))))))) | J111: =IFERROR((H111*I111)*G111, "") | K111: =IFERROR(J111*(1/$B$6),"") | L111: =IFERROR(K111/1000,"") | N111: =IF($B111=1, $L111,"") | O111: =IF($B111=2, $L111,"") | P111: =IF($B111=3, $L111,"") | Q111: =IF($B111=4, $L111,"") | R111: =IF($B111=5, $L111,"") | S111: =IF($B111=6, $L111,"") | T111: =IF($B111=7, $L111,"") | U111: =IF($B111=8, $L111,"")
A112: =5 -> 5 | F112: =IF(B112="", "", IFERROR( IF( VLOOKUP(B112,HalimedaInitialMetrics,11,FALSE)="EC", ((PI()*(E112*0.5)*(D112*0.5)*C112)/3)/1000, IF( VLOOKUP(B112,HalimedaInitialMetrics,11,FALSE)="HE", ((PI()*(2/3)*(E112*0.5)*(D112*0.5)*C112))/1000, "" ) ), "" ) ) | G112: =IF(B112=1,$G$11,IF(B112=2,$G$12,IF(B112=3,$G$13,IF(B112=4,$G$14,IF(B112=5,$G$15,IF(B112=6,$G$16,IF(B112=7,$G$17,IF(B112=8,$G$18,"")))))))) | H112: =IF(B112=1,F112*D$11,IF(B112=2,F112*D$12,IF(B112=3,F112*D$13,IF(B112=4,F112*D$14,IF(B112=5,F112*D$15,IF(B112=6,F112*D$16,IF(B112=7,F112*D$17,IF(B112=8,F112*D$18,"")))))))) | I112: =IF(B112=1,$J$11,IF(B112=2,$J$12,IF(B112=3,$J$13,IF(B112=4,$J$14,IF(B112=5,$J$15,IF(B112=6,$J$16,IF(B112=7,$J$17,IF(B112=8,$J$18,"")))))))) | J112: =IFERROR((H112*I112)*G112, "") | K112: =IFERROR(J112*(1/$B$6),"") | L112: =IFERROR(K112/1000,"") | N112: =IF($B112=1, $L112,"") | O112: =IF($B112=2, $L112,"") | P112: =IF($B112=3, $L112,"") | Q112: =IF($B112=4, $L112,"") | R112: =IF($B112=5, $L112,"") | S112: =IF($B112=6, $L112,"") | T112: =IF($B112=7, $L112,"") | U112: =IF($B112=8, $L112,"")
B113: # per quadrat | C113: =COUNT(B103:B112) -> 0 | J113: TOTAL | K113: =IF($A103<=$B$5,SUM(K103:K112),"") | L113: =IF($A103<=$B$5,SUM(L103:L112),"") | N113: =SUM(N103:N112) -> 0 | O113: =SUM(O103:O112) -> 0 | P113: =SUM(P103:P112) -> 0 | Q113: =SUM(Q103:Q112) -> 0 | R113: =SUM(R103:R112) -> 0 | S113: =SUM(S103:S112) -> 0 | T113: =SUM(T103:T112) -> 0 | U113: =SUM(U103:U112) -> 0
D118: THALLUS DIMENSIONS | K118: PRODUCTION/THALLUS | Q118: Production rates per species
A119: Quadrat # | B119: Species / morphology code (select from above) | C119: height h (mm) | D119: width w (mm) | E119: depth d (mm) | F119: Total thallus volume (cm3) | G119: Crops per year | H119: Calculated # segments | I119: CaCO3 content/segment | J119: CaCO3 prod (g) /thallus/yr | K119: g CaCO3/m2/yr | L119: kg CaCO3/m2/yr | M119: . | N119: Species 1 | O119: Species 2 | P119: Species 3 | Q119: Species 4 | R119: Species 5 | S119: Species 6 | T119: Species 7 | U119: Species 8
A120: =6 -> 6 | F120: =IF(B120="", "", IFERROR( IF( VLOOKUP(B120,HalimedaInitialMetrics,11,FALSE)="EC", ((PI()*(E120*0.5)*(D120*0.5)*C120)/3)/1000, IF( VLOOKUP(B120,HalimedaInitialMetrics,11,FALSE)="HE", ((PI()*(2/3)*(E120*0.5)*(D120*0.5)*C120))/1000, "" ) ), "" ) ) | G120: =IF(B120=1,$G$11,IF(B120=2,$G$12,IF(B120=3,$G$13,IF(B120=4,$G$14,IF(B120=5,$G$15,IF(B120=6,$G$16,IF(B120=7,$G$17,IF(B120=8,$G$18,"")))))))) | H120: =IF(B120=1,F120*D$11,IF(B120=2,F120*D$12,IF(B120=3,F120*D$13,IF(B120=4,F120*D$14,IF(B120=5,F120*D$15,IF(B120=6,F120*D$16,IF(B120=7,F120*D$17,IF(B120=8,F120*D$18,"")))))))) | I120: =IF(B120=1,$J$11,IF(B120=2,$J$12,IF(B120=3,$J$13,IF(B120=4,$J$14,IF(B120=5,$J$15,IF(B120=6,$J$16,IF(B120=7,$J$17,IF(B120=8,$J$18,"")))))))) | J120: =IFERROR((H120*I120)*G120, "") | K120: =IFERROR(J120*(1/$B$6),"") | L120: =IFERROR(K120/1000,"") | N120: =IF($B120=1, $L120,"") | O120: =IF($B120=2, $L120,"") | P120: =IF($B120=3, $L120,"") | Q120: =IF($B120=4, $L120,"") | R120: =IF($B120=5, $L120,"") | S120: =IF($B120=6, $L120,"") | T120: =IF($B120=7, $L120,"") | U120: =IF($B120=8, $L120,"")
