Workbook
Name ACA_growth_rates: #REF!
Name ACAGrain: '[1]ACA metrics'!#REF!
Name ACAGrowth: '[1]ACA metrics'!#REF!
Name ACAGrowthRates: '[1]ACA metrics'!#REF!
Name HalimedaInitialMetrics: [2]LC1!$C$11:$M$17
Name ParrotfishGrainTypeMetrics: 'Parrotfish metrics'!$C$123:$N$124
Name ParrotfishProduction: 'Parrotfish Summary'!$A$3:$N$13
Name SpeciesCarb: '[1]ACA metrics'!#REF!
Name UdoteaInitialMetrics: [1]Udotea!$C$11:$J$14

Sheet Site Overview
A1: Site details | B1: Number of transects | C1: Date (d/m/yr) | D1: GPS
A4: Site notes:

Sheet Parrotfish Summary
B1: Transect level mean sediment production (kg m-2 yr-1) data by grain size
B2: >4 mm | C2: 2-4 mm | D2: 1-2 mm | E2: 0.5-1 mm | F2: 0.25-0.5 mm | G2: 0.125-0.25 mm | H2: 63 to 125 um | I2: 31-63 um | J2: 16-31 um | K2: 8-16 um | L2: 4-8 um | M2: <4 um
A3: Transect | B3: Pebble | C3: Gravel | D3: V coarse sand | E3: Coarse sand | F3: Med sand | G3: Fine sand | H3: V fine sand | I3: Coarse silt | J3: Med silt | K3: Fine silt | L3: V fine silt | M3: Clay | N3: Total Sediment Production
A4: 1 | B4: ='Transect 1'!B55 | C4: ='Transect 1'!C55 | D4: ='Transect 1'!D55 | E4: ='Transect 1'!E55 | F4: ='Transect 1'!F55 | G4: ='Transect 1'!G55 | H4: ='Transect 1'!H55 | I4: ='Transect 1'!I55 | ... M4: ='Transect 1'!M55 | N4: =IF(COUNT(B4:M4)=0,"", SUM(B4:M4))
A5: 2 | B5: ='Transect 2'!B55 | C5: ='Transect 2'!C55 | D5: ='Transect 2'!D55 | E5: ='Transect 2'!E55 | F5: ='Transect 2'!F55 | G5: ='Transect 2'!G55 | H5: ='Transect 2'!H55 | I5: ='Transect 2'!I55 | ... M5: ='Transect 2'!M55 | N5: =IF(COUNT(B5:M5)=0,"", SUM(B5:M5))
A6: 3 | B6: ='Transect 3'!B55 | C6: ='Transect 3'!C55 | D6: ='Transect 3'!D55 | E6: ='Transect 3'!E55 | F6: ='Transect 3'!F55 | G6: ='Transect 3'!G55 | H6: ='Transect 3'!H55 | I6: ='Transect 3'!I55 | ... M6: ='Transect 3'!M55 | N6: =IF(COUNT(B6:M6)=0,"", SUM(B6:M6))
A7: 4 | B7: ='Transect 4'!B55 | C7: ='Transect 4'!C55 | D7: ='Transect 4'!D55 | E7: ='Transect 4'!E55 | F7: ='Transect 4'!F55 | G7: ='Transect 4'!G55 | H7: ='Transect 4'!H55 | I7: ='Transect 4'!I55 | ... M7: ='Transect 4'!M55 | N7: =IF(COUNT(B7:M7)=0,"", SUM(B7:M7))
A8: 5 | B8: ='Transect 5'!B55 | C8: ='Transect 5'!C55 | D8: ='Transect 5'!D55 | E8: ='Transect 5'!E55 | F8: ='Transect 5'!F55 | G8: ='Transect 5'!G55 | H8: ='Transect 5'!H55 | I8: ='Transect 5'!I55 | ... M8: ='Transect 5'!M55 | N8: =IF(COUNT(B8:M8)=0,"", SUM(B8:M8))
A9: 6 | B9: ='Transect 6'!B55 | C9: ='Transect 6'!C55 | D9: ='Transect 6'!D55 | E9: ='Transect 6'!E55 | F9: ='Transect 6'!F55 | G9: ='Transect 6'!G55 | H9: ='Transect 6'!H55 | I9: ='Transect 6'!I55 | ... M9: ='Transect 6'!M55 | N9: =IF(COUNT(B9:M9)=0,"", SUM(B9:M9))
A10: 7 | B10: ='Transect 7'!B55 | C10: ='Transect 7'!C55 | D10: ='Transect 7'!D55 | E10: ='Transect 7'!E55 | F10: ='Transect 7'!F55 | G10: ='Transect 7'!G55 | H10: ='Transect 7'!H55 | I10: ='Transect 7'!I55 | ... M10: ='Transect 7'!M55 | N10: =IF(COUNT(B10:M10)=0,"", SUM(B10:M10))
A11: 8 | B11: ='Transect 8'!B55 | C11: ='Transect 8'!C55 | D11: ='Transect 8'!D55 | E11: ='Transect 8'!E55 | F11: ='Transect 8'!F55 | G11: ='Transect 8'!G55 | H11: ='Transect 8'!H55 | I11: ='Transect 8'!I55 | ... M11: ='Transect 8'!M55 | N11: =IF(COUNT(B11:M11)=0,"", SUM(B11:M11))
A12: 9 | B12: ='Transect 9'!B55 | C12: ='Transect 9'!C55 | D12: ='Transect 9'!D55 | E12: ='Transect 9'!E55 | F12: ='Transect 9'!F55 | G12: ='Transect 9'!G55 | H12: ='Transect 9'!H55 | I12: ='Transect 9'!I55 | ... M12: ='Transect 9'!M55 | N12: =IF(COUNT(B12:M12)=0,"", SUM(B12:M12))
A13: 10 | B13: ='Transect 10'!B55 | C13: ='Transect 10'!C55 | D13: ='Transect 10'!D55 | E13: ='Transect 10'!E55 | F13: ='Transect 10'!F55 | G13: ='Transect 10'!G55 | H13: ='Transect 10'!H55 | I13: ='Transect 10'!I55 | ... M13: ='Transect 10'!M55 | N13: =IF(COUNT(B13:M13)=0,"", SUM(B13:M13))
N15: =AVERAGE(N4:N13) -> #DIV/0! | O15: Site Average Sediment Production

Sheet Transect 1
A1: FISH | B1: Enter data into pale blue boxes only | E1: Amounts and size fractions of sediment generated by fish calculated as a function of species/size class abundance * species/size-class-specific erosion rates, and then weighted based on proportions of sediment produced in different sediment size classes by species/genera. Note that juveniles are not anticipated to contribute to bioerosion and therefore are not expected to produce any sediment.
A3: 1. Numbers of individuals/size class
A4: Transect number | B4: 1
A5: Transect area (m2)
A7: 1. DATA ENTRY - Numbers of individuals/size class/transect
B8: Juveniles | C8: Initial Phase | G8: Terminal Phase
A9: Species | B9: 0-9cm | C9: 10-19cm | D9: 20-29cm | E9: 30-39cm | F9: 40-49cm | G9: 10-19cm | H9: 20-29cm | I9: 30-39cm | J9: 40-49cm | K9: 50-59cm
A10: Sparisoma viride
A11: Sparisoma aurofrenatum
A12: Sparisoma rubripinne
A13: Sparisoma chrysopterum
A14: Scarus vetula
A15: Scarus taeniopterus
A16: Scarus iseri
A17: Scarus guacamaia
A18: Scarus coelestinus
A19: Scarus coeruleus
A20: Total | B20: =SUM(B10:B19) -> 0 | C20: =SUM(C10:C19) -> 0 | D20: =SUM(D10:D19) -> 0 | E20: =SUM(E10:E19) -> 0 | F20: =SUM(F10:F19) -> 0 | G20: =SUM(G10:G19) -> 0 | H20: =SUM(H10:H19) -> 0 | I20: =SUM(I10:I19) -> 0 | ... K20: =SUM(K10:K19) -> 0
A23: 2. Sediment production rates (kg m-2 yr-1) by grain size fractions
B24: Juveniles | C24: Initial Phase | G24: Terminal Phase
A25: Species | B25: 0-9cm | C25: 10-19cm | D25: 20-29cm | E25: 30-39cm | F25: 40-49cm | G25: 10-19cm | H25: 20-29cm | I25: 30-39cm | J25: 40-49cm | K25: 50-59cm
A26: Sparisoma viride | B26: =0 -> 0 | C26: =IF(C10>0,(C10*'Parrotfish metrics'!O59)/$B$5, 0) -> 0 | D26: =IF(D10>0,(D10*'Parrotfish metrics'!P59)/$B$5, 0) -> 0 | E26: =IF(E10>0,(E10*'Parrotfish metrics'!Q59)/$B$5, 0) -> 0 | F26: =IF(F10>0,(F10*'Parrotfish metrics'!R59)/$B$5, 0) -> 0 | G26: =IF(G10>0,(G10*'Parrotfish metrics'!S59)/$B$5, 0) -> 0 | H26: =IF(H10>0,(H10*'Parrotfish metrics'!T59)/$B$5, 0) -> 0 | I26: =IF(I10>0,(I10*'Parrotfish metrics'!U59)/$B$5, 0) -> 0 | J26: =IF(J10>0,(J10*'Parrotfish metrics'!V59)/$B$5, 0) -> 0 | K26: =IF(K10>0,(K10*'Parrotfish metrics'!W59)/$B$5, 0) -> 0
A27: Sparisoma aurofrenatum | B27: =0 -> 0 | C27: =IF(C11>0,(C11*'Parrotfish metrics'!O60)/$B$5, 0) -> 0 | D27: =IF(D11>0,(D11*'Parrotfish metrics'!P60)/$B$5, 0) -> 0 | G27: =IF(G11>0,(G11*'Parrotfish metrics'!S60)/$B$5, 0) -> 0 | H27: =IF(H11>0,(H11*'Parrotfish metrics'!T60)/$B$5, 0) -> 0
A28: Sparisoma rubripinne | B28: =0 -> 0 | C28: =IF(C12>0,(C12*'Parrotfish metrics'!O61)/$B$5, 0) -> 0 | D28: =IF(D12>0,(D12*'Parrotfish metrics'!P61)/$B$5, 0) -> 0 | E28: =IF(E12>0,(E12*'Parrotfish metrics'!Q61)/$B$5, 0) -> 0 | F28: =IF(F12>0,(F12*'Parrotfish metrics'!R61)/$B$5, 0) -> 0 | G28: =IF(G12>0,(G12*'Parrotfish metrics'!S61)/$B$5, 0) -> 0 | H28: =IF(H12>0,(H12*'Parrotfish metrics'!T61)/$B$5, 0) -> 0 | I28: =IF(I12>0,(I12*'Parrotfish metrics'!U61)/$B$5, 0) -> 0 | J28: =IF(J12>0,(J12*'Parrotfish metrics'!V61)/$B$5, 0) -> 0
A29: Sparisoma chrysopterum | B29: =0 -> 0 | C29: =IF(C13>0,(C13*'Parrotfish metrics'!O62)/$B$5, 0) -> 0 | D29: =IF(D13>0,(D13*'Parrotfish metrics'!P62)/$B$5, 0) -> 0 | E29: =IF(E13>0,(E13*'Parrotfish metrics'!Q62)/$B$5, 0) -> 0 | F29: =IF(F13>0,(F13*'Parrotfish metrics'!R62)/$B$5, 0) -> 0 | G29: =IF(G13>0,(G13*'Parrotfish metrics'!S62)/$B$5, 0) -> 0 | H29: =IF(H13>0,(H13*'Parrotfish metrics'!T62)/$B$5, 0) -> 0 | I29: =IF(I13>0,(I13*'Parrotfish metrics'!U62)/$B$5, 0) -> 0 | J29: =IF(J13>0,(J13*'Parrotfish metrics'!V62)/$B$5, 0) -> 0
A30: Scarus vetula | B30: =0 -> 0 | C30: =IF(C14>0,(C14*'Parrotfish metrics'!O63)/$B$5, 0) -> 0 | D30: =IF(D14>0,(D14*'Parrotfish metrics'!P63)/$B$5, 0) -> 0 | E30: =IF(E14>0,(E14*'Parrotfish metrics'!Q63)/$B$5, 0) -> 0 | F30: =IF(F14>0,(F14*'Parrotfish metrics'!R63)/$B$5, 0) -> 0 | G30: =IF(G14>0,(G14*'Parrotfish metrics'!S63)/$B$5, 0) -> 0 | H30: =IF(H14>0,(H14*'Parrotfish metrics'!T63)/$B$5, 0) -> 0 | I30: =IF(I14>0,(I14*'Parrotfish metrics'!U63)/$B$5, 0) -> 0 | J30: =IF(J14>0,(J14*'Parrotfish metrics'!V63)/$B$5, 0) -> 0 | K30: =IF(K14>0,(K14*'Parrotfish metrics'!W63)/$B$5, 0) -> 0
A31: Scarus taeniopterus | B31: =0 -> 0 | C31: =IF(C15>0,(C15*'Parrotfish metrics'!O64)/$B$5, 0) -> 0 | D31: =IF(D15>0,(D15*'Parrotfish metrics'!P64)/$B$5, 0) -> 0 | E31: =IF(E15>0,(E15*'Parrotfish metrics'!Q64)/$B$5, 0) -> 0 | G31: =IF(G15>0,(G15*'Parrotfish metrics'!S64)/$B$5, 0) -> 0 | H31: =IF(H15>0,(H15*'Parrotfish metrics'!T64)/$B$5, 0) -> 0 | I31: =IF(I15>0,(I15*'Parrotfish metrics'!U64)/$B$5, 0) -> 0
A32: Scarus iseri | B32: =0 -> 0 | C32: =IF(C16>0,(C16*'Parrotfish metrics'!O65)/$B$5, 0) -> 0 | D32: =IF(D16>0,(D16*'Parrotfish metrics'!P65)/$B$5, 0) -> 0 | E32: =IF(E16>0,(E16*'Parrotfish metrics'!Q65)/$B$5, 0) -> 0 | G32: =IF(G16>0,(G16*'Parrotfish metrics'!S65)/$B$5, 0) -> 0 | H32: =IF(H16>0,(H16*'Parrotfish metrics'!T65)/$B$5, 0) -> 0 | I32: =IF(I16>0,(I16*'Parrotfish metrics'!U65)/$B$5, 0) -> 0
A33: Scarus guacamaia | B33: =0 -> 0 | C33: =IF(C17>0,(C17*'Parrotfish metrics'!O66)/$B$5, 0) -> 0 | D33: =IF(D17>0,(D17*'Parrotfish metrics'!P66)/$B$5, 0) -> 0 | E33: =IF(E17>0,(E17*'Parrotfish metrics'!Q66)/$B$5, 0) -> 0 | F33: =IF(F17>0,(F17*'Parrotfish metrics'!R66)/$B$5, 0) -> 0 | G33: =IF(G17>0,(G17*'Parrotfish metrics'!S66)/$B$5, 0) -> 0 | H33: =IF(H17>0,(H17*'Parrotfish metrics'!T66)/$B$5, 0) -> 0 | I33: =IF(I17>0,(I17*'Parrotfish metrics'!U66)/$B$5, 0) -> 0 | J33: =IF(J17>0,(J17*'Parrotfish metrics'!V66)/$B$5, 0) -> 0 | K33: =IF(K17>0,(K17*'Parrotfish metrics'!W66)/$B$5, 0) -> 0
A34: Scarus coelestinus | B34: =0 -> 0 | C34: =IF(C18>0,(C18*'Parrotfish metrics'!O67)/$B$5, 0) -> 0 | D34: =IF(D18>0,(D18*'Parrotfish metrics'!P67)/$B$5, 0) -> 0 | E34: =IF(E18>0,(E18*'Parrotfish metrics'!Q67)/$B$5, 0) -> 0 | F34: =IF(F18>0,(F18*'Parrotfish metrics'!R67)/$B$5, 0) -> 0 | G34: =IF(G18>0,(G18*'Parrotfish metrics'!S67)/$B$5, 0) -> 0 | H34: =IF(H18>0,(H18*'Parrotfish metrics'!T67)/$B$5, 0) -> 0 | I34: =IF(I18>0,(I18*'Parrotfish metrics'!U67)/$B$5, 0) -> 0 | J34: =IF(J18>0,(J18*'Parrotfish metrics'!V67)/$B$5, 0) -> 0 | K34: =IF(K18>0,(K18*'Parrotfish metrics'!W67)/$B$5, 0) -> 0
A35: Scarus coeruleus | B35: =0 -> 0 | C35: =IF(C19>0,(C19*'Parrotfish metrics'!O68)/$B$5, 0) -> 0 | D35: =IF(D19>0,(D19*'Parrotfish metrics'!P68)/$B$5, 0) -> 0 | E35: =IF(E19>0,(E19*'Parrotfish metrics'!Q68)/$B$5, 0) -> 0 | F35: =IF(F19>0,(F19*'Parrotfish metrics'!R68)/$B$5, 0) -> 0 | G35: =IF(G19>0,(G19*'Parrotfish metrics'!S68)/$B$5, 0) -> 0 | H35: =IF(H19>0,(H19*'Parrotfish metrics'!T68)/$B$5, 0) -> 0 | I35: =IF(I19>0,(I19*'Parrotfish metrics'!U68)/$B$5, 0) -> 0 | J35: =IF(J19>0,(J19*'Parrotfish metrics'!V68)/$B$5, 0) -> 0 | K35: =IF(K19>0,(K19*'Parrotfish metrics'!W68)/$B$5, 0) -> 0
A36: Total | B36: =SUM(B26:B35) -> 0 | C36: =SUM(C26:C35) -> 0 | D36: =SUM(D26:D35) -> 0 | E36: =SUM(E26:E35) -> 0 | F36: =SUM(F26:F35) -> 0 | G36: =SUM(G26:G35) -> 0 | H36: =SUM(H26:H35) -> 0 | I36: =SUM(I26:I35) -> 0 | ... K36: =SUM(K26:K35) -> 0
A39: 3. Sediment production rates (kg/ m2 /yr) for each species by grain size fractions
B40: >4 mm | C40: 2-4 mm | D40: 1-2 mm | E40: 0.5-1 mm | F40: 0.25-0.5 mm | G40: 0.125-0.25 mm | H40: 63 to 125 um | I40: 31-63 um | J40: 16-31 um | K40: 8-16 um | L40: 4-8 um | M40: <4 um
A41: Species | B41: Pebble | C41: Gravel | D41: V coarse sand | E41: Coarse sand | F41: Med sand | G41: Fine sand | H41: V fine sand | I41: Coarse silt | J41: Med silt | K41: Fine silt | L41: V fine silt | M41: Clay
A42: Sparisoma viride | B42: =SUM(($C$26*'Parrotfish metrics'!E90)+($D$26*'Parrotfish metrics'!E91)+($E$26*'Parrotfish metrics'!E92)+($F$26*'Parrotfish metrics'!E93)+($G$26*'Parrotfish metrics'!E94)+($H$26*'Parrotfish metrics'!E95)+($I$26*'Parrotfish metrics'!E96)+ ($J$26*'Parrotfish metrics'!E97)+ ($K$26*'Parrotfish metrics'!E98)) -> 0 | C42: =SUM(($C$26*'Parrotfish metrics'!F90)+($D$26*'Parrotfish metrics'!F91)+($E$26*'Parrotfish metrics'!F92)+($F$26*'Parrotfish metrics'!F93)+($G$26*'Parrotfish metrics'!F94)+($H$26*'Parrotfish metrics'!F95)+($I$26*'Parrotfish metrics'!F96)+ ($J$26*'Parrotfish metrics'!F97)+ ($K$26*'Parrotfish metrics'!F98)) -> 0 | D42: =SUM(($C$26*'Parrotfish metrics'!G90)+($D$26*'Parrotfish metrics'!G91)+($E$26*'Parrotfish metrics'!G92)+($F$26*'Parrotfish metrics'!G93)+($G$26*'Parrotfish metrics'!G94)+($H$26*'Parrotfish metrics'!G95)+($I$26*'Parrotfish metrics'!G96)+ ($J$26*'Parrotfish metrics'!G97)+ ($K$26*'Parrotfish metrics'!G98)) -> 0 | E42: =SUM(($C$26*'Parrotfish metrics'!H90)+($D$26*'Parrotfish metrics'!H91)+($E$26*'Parrotfish metrics'!H92)+($F$26*'Parrotfish metrics'!H93)+($G$26*'Parrotfish metrics'!H94)+($H$26*'Parrotfish metrics'!H95)+($I$26*'Parrotfish metrics'!H96)+ ($J$26*'Parrotfish metrics'!H97)+ ($K$26*'Parrotfish metrics'!H98)) -> 0 | F42: =SUM(($C$26*'Parrotfish metrics'!I90)+($D$26*'Parrotfish metrics'!I91)+($E$26*'Parrotfish metrics'!I92)+($F$26*'Parrotfish metrics'!I93)+($G$26*'Parrotfish metrics'!I94)+($H$26*'Parrotfish metrics'!I95)+($I$26*'Parrotfish metrics'!I96)+ ($J$26*'Parrotfish metrics'!I97)+ ($K$26*'Parrotfish metrics'!I98)) -> 0 | G42: =SUM(($C$26*'Parrotfish metrics'!J90)+($D$26*'Parrotfish metrics'!J91)+($E$26*'Parrotfish metrics'!J92)+($F$26*'Parrotfish metrics'!J93)+($G$26*'Parrotfish metrics'!J94)+($H$26*'Parrotfish metrics'!J95)+($I$26*'Parrotfish metrics'!J96)+ ($J$26*'Parrotfish metrics'!J97)+ ($K$26*'Parrotfish metrics'!J98)) -> 0 | H42: =SUM(($C$26*'Parrotfish metrics'!K90)+($D$26*'Parrotfish metrics'!K91)+($E$26*'Parrotfish metrics'!K92)+($F$26*'Parrotfish metrics'!K93)+($G$26*'Parrotfish metrics'!K94)+($H$26*'Parrotfish metrics'!K95)+($I$26*'Parrotfish metrics'!K96)+ ($J$26*'Parrotfish metrics'!K97)+ ($K$26*'Parrotfish metrics'!K98)) -> 0 | I42: =SUM(($C$26*'Parrotfish metrics'!L90)+($D$26*'Parrotfish metrics'!L91)+($E$26*'Parrotfish metrics'!L92)+($F$26*'Parrotfish metrics'!L93)+($G$26*'Parrotfish metrics'!L94)+($H$26*'Parrotfish metrics'!L95)+($I$26*'Parrotfish metrics'!L96)+ ($J$26*'Parrotfish metrics'!L97)+ ($K$26*'Parrotfish metrics'!L98)) -> 0 | ... M42: =SUM(($C$26*'Parrotfish metrics'!P90)+($D$26*'Parrotfish metrics'!P91)+($E$26*'Parrotfish metrics'!P92)+($F$26*'Parrotfish metrics'!P93)+($G$26*'Parrotfish metrics'!P94)+($H$26*'Parrotfish metrics'!P95)+($I$26*'Parrotfish metrics'!P96)+ ($J$26*'Parrotfish metrics'!P97)+ ($K$26*'Parrotfish metrics'!P98)) -> 0
A43: Sparisoma aurofrenatum | B43: =SUM(($C$27*'Parrotfish metrics'!E79)+($D$27*'Parrotfish metrics'!E80)+($E$27*'Parrotfish metrics'!E81)+($F$27*'Parrotfish metrics'!E82)+($G$27*'Parrotfish metrics'!E83)+($H$27*'Parrotfish metrics'!E84)+($I$27*'Parrotfish metrics'!E85)+ ($J$27*'Parrotfish metrics'!E86)+ ($K$27*'Parrotfish metrics'!E87)) -> 0 | C43: =SUM(($C$27*'Parrotfish metrics'!F79)+($D$27*'Parrotfish metrics'!F80)+($E$27*'Parrotfish metrics'!F81)+($F$27*'Parrotfish metrics'!F82)+($G$27*'Parrotfish metrics'!F83)+($H$27*'Parrotfish metrics'!F84)+($I$27*'Parrotfish metrics'!F85)+ ($J$27*'Parrotfish metrics'!F86)+ ($K$27*'Parrotfish metrics'!F87)) -> 0 | D43: =SUM(($C$27*'Parrotfish metrics'!G79)+($D$27*'Parrotfish metrics'!G80)+($E$27*'Parrotfish metrics'!G81)+($F$27*'Parrotfish metrics'!G82)+($G$27*'Parrotfish metrics'!G83)+($H$27*'Parrotfish metrics'!G84)+($I$27*'Parrotfish metrics'!G85)+ ($J$27*'Parrotfish metrics'!G86)+ ($K$27*'Parrotfish metrics'!G87)) -> 0 | E43: =SUM(($C$27*'Parrotfish metrics'!H79)+($D$27*'Parrotfish metrics'!H80)+($E$27*'Parrotfish metrics'!H81)+($F$27*'Parrotfish metrics'!H82)+($G$27*'Parrotfish metrics'!H83)+($H$27*'Parrotfish metrics'!H84)+($I$27*'Parrotfish metrics'!H85)+ ($J$27*'Parrotfish metrics'!H86)+ ($K$27*'Parrotfish metrics'!H87)) -> 0 | F43: =SUM(($C$27*'Parrotfish metrics'!I79)+($D$27*'Parrotfish metrics'!I80)+($E$27*'Parrotfish metrics'!I81)+($F$27*'Parrotfish metrics'!I82)+($G$27*'Parrotfish metrics'!I83)+($H$27*'Parrotfish metrics'!I84)+($I$27*'Parrotfish metrics'!I85)+ ($J$27*'Parrotfish metrics'!I86)+ ($K$27*'Parrotfish metrics'!I87)) -> 0 | G43: =SUM(($C$27*'Parrotfish metrics'!J79)+($D$27*'Parrotfish metrics'!J80)+($E$27*'Parrotfish metrics'!J81)+($F$27*'Parrotfish metrics'!J82)+($G$27*'Parrotfish metrics'!J83)+($H$27*'Parrotfish metrics'!J84)+($I$27*'Parrotfish metrics'!J85)+ ($J$27*'Parrotfish metrics'!J86)+ ($K$27*'Parrotfish metrics'!J87)) -> 0 | H43: =SUM(($C$27*'Parrotfish metrics'!K79)+($D$27*'Parrotfish metrics'!K80)+($E$27*'Parrotfish metrics'!K81)+($F$27*'Parrotfish metrics'!K82)+($G$27*'Parrotfish metrics'!K83)+($H$27*'Parrotfish metrics'!K84)+($I$27*'Parrotfish metrics'!K85)+ ($J$27*'Parrotfish metrics'!K86)+ ($K$27*'Parrotfish metrics'!K87)) -> 0 | I43: =SUM(($C$27*'Parrotfish metrics'!L79)+($D$27*'Parrotfish metrics'!L80)+($E$27*'Parrotfish metrics'!L81)+($F$27*'Parrotfish metrics'!L82)+($G$27*'Parrotfish metrics'!L83)+($H$27*'Parrotfish metrics'!L84)+($I$27*'Parrotfish metrics'!L85)+ ($J$27*'Parrotfish metrics'!L86)+ ($K$27*'Parrotfish metrics'!L87)) -> 0 | ... M43: =SUM(($C$27*'Parrotfish metrics'!P79)+($D$27*'Parrotfish metrics'!P80)+($E$27*'Parrotfish metrics'!P81)+($F$27*'Parrotfish metrics'!P82)+($G$27*'Parrotfish metrics'!P83)+($H$27*'Parrotfish metrics'!P84)+($I$27*'Parrotfish metrics'!P85)+ ($J$27*'Parrotfish metrics'!P86)+ ($K$27*'Parrotfish metrics'!P87)) -> 0
A44: Sparisoma rubripinne | B44: =SUM(($C$28*'Parrotfish metrics'!E79)+($D$28*'Parrotfish metrics'!E80)+($E$28*'Parrotfish metrics'!E81)+($F$28*'Parrotfish metrics'!E82)+($G$28*'Parrotfish metrics'!E83)+($H$28*'Parrotfish metrics'!E84)+($I$28*'Parrotfish metrics'!E85)+ ($J$28*'Parrotfish metrics'!E86)+ ($K$28*'Parrotfish metrics'!E87)) -> 0 | C44: =SUM(($C$28*'Parrotfish metrics'!F79)+($D$28*'Parrotfish metrics'!F80)+($E$28*'Parrotfish metrics'!F81)+($F$28*'Parrotfish metrics'!F82)+($G$28*'Parrotfish metrics'!F83)+($H$28*'Parrotfish metrics'!F84)+($I$28*'Parrotfish metrics'!F85)+ ($J$28*'Parrotfish metrics'!F86)+ ($K$28*'Parrotfish metrics'!F87)) -> 0 | D44: =SUM(($C$28*'Parrotfish metrics'!G79)+($D$28*'Parrotfish metrics'!G80)+($E$28*'Parrotfish metrics'!G81)+($F$28*'Parrotfish metrics'!G82)+($G$28*'Parrotfish metrics'!G83)+($H$28*'Parrotfish metrics'!G84)+($I$28*'Parrotfish metrics'!G85)+ ($J$28*'Parrotfish metrics'!G86)+ ($K$28*'Parrotfish metrics'!G87)) -> 0 | E44: =SUM(($C$28*'Parrotfish metrics'!H79)+($D$28*'Parrotfish metrics'!H80)+($E$28*'Parrotfish metrics'!H81)+($F$28*'Parrotfish metrics'!H82)+($G$28*'Parrotfish metrics'!H83)+($H$28*'Parrotfish metrics'!H84)+($I$28*'Parrotfish metrics'!H85)+ ($J$28*'Parrotfish metrics'!H86)+ ($K$28*'Parrotfish metrics'!H87)) -> 0 | F44: =SUM(($C$28*'Parrotfish metrics'!I79)+($D$28*'Parrotfish metrics'!I80)+($E$28*'Parrotfish metrics'!I81)+($F$28*'Parrotfish metrics'!I82)+($G$28*'Parrotfish metrics'!I83)+($H$28*'Parrotfish metrics'!I84)+($I$28*'Parrotfish metrics'!I85)+ ($J$28*'Parrotfish metrics'!I86)+ ($K$28*'Parrotfish metrics'!I87)) -> 0 | G44: =SUM(($C$28*'Parrotfish metrics'!J79)+($D$28*'Parrotfish metrics'!J80)+($E$28*'Parrotfish metrics'!J81)+($F$28*'Parrotfish metrics'!J82)+($G$28*'Parrotfish metrics'!J83)+($H$28*'Parrotfish metrics'!J84)+($I$28*'Parrotfish metrics'!J85)+ ($J$28*'Parrotfish metrics'!J86)+ ($K$28*'Parrotfish metrics'!J87)) -> 0 | H44: =SUM(($C$28*'Parrotfish metrics'!K79)+($D$28*'Parrotfish metrics'!K80)+($E$28*'Parrotfish metrics'!K81)+($F$28*'Parrotfish metrics'!K82)+($G$28*'Parrotfish metrics'!K83)+($H$28*'Parrotfish metrics'!K84)+($I$28*'Parrotfish metrics'!K85)+ ($J$28*'Parrotfish metrics'!K86)+ ($K$28*'Parrotfish metrics'!K87)) -> 0 | I44: =SUM(($C$28*'Parrotfish metrics'!L79)+($D$28*'Parrotfish metrics'!L80)+($E$28*'Parrotfish metrics'!L81)+($F$28*'Parrotfish metrics'!L82)+($G$28*'Parrotfish metrics'!L83)+($H$28*'Parrotfish metrics'!L84)+($I$28*'Parrotfish metrics'!L85)+ ($J$28*'Parrotfish metrics'!L86)+ ($K$28*'Parrotfish metrics'!L87)) -> 0 | ... M44: =SUM(($C$28*'Parrotfish metrics'!P79)+($D$28*'Parrotfish metrics'!P80)+($E$28*'Parrotfish metrics'!P81)+($F$28*'Parrotfish metrics'!P82)+($G$28*'Parrotfish metrics'!P83)+($H$28*'Parrotfish metrics'!P84)+($I$28*'Parrotfish metrics'!P85)+ ($J$28*'Parrotfish metrics'!P86)+ ($K$28*'Parrotfish metrics'!P87)) -> 0
A45: Sparisoma chrysopterum | B45: =SUM(($C$29*'Parrotfish metrics'!E79)+($D$29*'Parrotfish metrics'!E80)+($E$29*'Parrotfish metrics'!E81)+($F$29*'Parrotfish metrics'!E82)+($G$29*'Parrotfish metrics'!E83)+($H$29*'Parrotfish metrics'!E84)+($I$29*'Parrotfish metrics'!E85)+ ($J$29*'Parrotfish metrics'!E86)+ ($K$29*'Parrotfish metrics'!E87)) -> 0 | C45: =SUM(($C$29*'Parrotfish metrics'!F79)+($D$29*'Parrotfish metrics'!F80)+($E$29*'Parrotfish metrics'!F81)+($F$29*'Parrotfish metrics'!F82)+($G$29*'Parrotfish metrics'!F83)+($H$29*'Parrotfish metrics'!F84)+($I$29*'Parrotfish metrics'!F85)+ ($J$29*'Parrotfish metrics'!F86)+ ($K$29*'Parrotfish metrics'!F87)) -> 0 | D45: =SUM(($C$29*'Parrotfish metrics'!G79)+($D$29*'Parrotfish metrics'!G80)+($E$29*'Parrotfish metrics'!G81)+($F$29*'Parrotfish metrics'!G82)+($G$29*'Parrotfish metrics'!G83)+($H$29*'Parrotfish metrics'!G84)+($I$29*'Parrotfish metrics'!G85)+ ($J$29*'Parrotfish metrics'!G86)+ ($K$29*'Parrotfish metrics'!G87)) -> 0 | E45: =SUM(($C$29*'Parrotfish metrics'!H79)+($D$29*'Parrotfish metrics'!H80)+($E$29*'Parrotfish metrics'!H81)+($F$29*'Parrotfish metrics'!H82)+($G$29*'Parrotfish metrics'!H83)+($H$29*'Parrotfish metrics'!H84)+($I$29*'Parrotfish metrics'!H85)+ ($J$29*'Parrotfish metrics'!H86)+ ($K$29*'Parrotfish metrics'!H87)) -> 0 | F45: =SUM(($C$29*'Parrotfish metrics'!I79)+($D$29*'Parrotfish metrics'!I80)+($E$29*'Parrotfish metrics'!I81)+($F$29*'Parrotfish metrics'!I82)+($G$29*'Parrotfish metrics'!I83)+($H$29*'Parrotfish metrics'!I84)+($I$29*'Parrotfish metrics'!I85)+ ($J$29*'Parrotfish metrics'!I86)+ ($K$29*'Parrotfish metrics'!I87)) -> 0 | G45: =SUM(($C$29*'Parrotfish metrics'!J79)+($D$29*'Parrotfish metrics'!J80)+($E$29*'Parrotfish metrics'!J81)+($F$29*'Parrotfish metrics'!J82)+($G$29*'Parrotfish metrics'!J83)+($H$29*'Parrotfish metrics'!J84)+($I$29*'Parrotfish metrics'!J85)+ ($J$29*'Parrotfish metrics'!J86)+ ($K$29*'Parrotfish metrics'!J87)) -> 0 | H45: =SUM(($C$29*'Parrotfish metrics'!K79)+($D$29*'Parrotfish metrics'!K80)+($E$29*'Parrotfish metrics'!K81)+($F$29*'Parrotfish metrics'!K82)+($G$29*'Parrotfish metrics'!K83)+($H$29*'Parrotfish metrics'!K84)+($I$29*'Parrotfish metrics'!K85)+ ($J$29*'Parrotfish metrics'!K86)+ ($K$29*'Parrotfish metrics'!K87)) -> 0 | I45: =SUM(($C$29*'Parrotfish metrics'!L79)+($D$29*'Parrotfish metrics'!L80)+($E$29*'Parrotfish metrics'!L81)+($F$29*'Parrotfish metrics'!L82)+($G$29*'Parrotfish metrics'!L83)+($H$29*'Parrotfish metrics'!L84)+($I$29*'Parrotfish metrics'!L85)+ ($J$29*'Parrotfish metrics'!L86)+ ($K$29*'Parrotfish metrics'!L87)) -> 0 | ... M45: =SUM(($C$29*'Parrotfish metrics'!P79)+($D$29*'Parrotfish metrics'!P80)+($E$29*'Parrotfish metrics'!P81)+($F$29*'Parrotfish metrics'!P82)+($G$29*'Parrotfish metrics'!P83)+($H$29*'Parrotfish metrics'!P84)+($I$29*'Parrotfish metrics'!P85)+ ($J$29*'Parrotfish metrics'!P86)+ ($K$29*'Parrotfish metrics'!P87)) -> 0
A46: Scarus vetula | B46: =SUM(($C$30*'Parrotfish metrics'!E79)+($D$30*'Parrotfish metrics'!E80)+($E$30*'Parrotfish metrics'!E81)+($F$30*'Parrotfish metrics'!E82)+($G$30*'Parrotfish metrics'!E83)+($H$30*'Parrotfish metrics'!E84)+($I$30*'Parrotfish metrics'!E85)+ ($J$30*'Parrotfish metrics'!E86)+ ($K$30*'Parrotfish metrics'!E87)) -> 0 | C46: =SUM(($C$30*'Parrotfish metrics'!F79)+($D$30*'Parrotfish metrics'!F80)+($E$30*'Parrotfish metrics'!F81)+($F$30*'Parrotfish metrics'!F82)+($G$30*'Parrotfish metrics'!F83)+($H$30*'Parrotfish metrics'!F84)+($I$30*'Parrotfish metrics'!F85)+ ($J$30*'Parrotfish metrics'!F86)+ ($K$30*'Parrotfish metrics'!F87)) -> 0 | D46: =SUM(($C$30*'Parrotfish metrics'!G79)+($D$30*'Parrotfish metrics'!G80)+($E$30*'Parrotfish metrics'!G81)+($F$30*'Parrotfish metrics'!G82)+($G$30*'Parrotfish metrics'!G83)+($H$30*'Parrotfish metrics'!G84)+($I$30*'Parrotfish metrics'!G85)+ ($J$30*'Parrotfish metrics'!G86)+ ($K$30*'Parrotfish metrics'!G87)) -> 0 | E46: =SUM(($C$30*'Parrotfish metrics'!H79)+($D$30*'Parrotfish metrics'!H80)+($E$30*'Parrotfish metrics'!H81)+($F$30*'Parrotfish metrics'!H82)+($G$30*'Parrotfish metrics'!H83)+($H$30*'Parrotfish metrics'!H84)+($I$30*'Parrotfish metrics'!H85)+ ($J$30*'Parrotfish metrics'!H86)+ ($K$30*'Parrotfish metrics'!H87)) -> 0 | F46: =SUM(($C$30*'Parrotfish metrics'!I79)+($D$30*'Parrotfish metrics'!I80)+($E$30*'Parrotfish metrics'!I81)+($F$30*'Parrotfish metrics'!I82)+($G$30*'Parrotfish metrics'!I83)+($H$30*'Parrotfish metrics'!I84)+($I$30*'Parrotfish metrics'!I85)+ ($J$30*'Parrotfish metrics'!I86)+ ($K$30*'Parrotfish metrics'!I87)) -> 0 | G46: =SUM(($C$30*'Parrotfish metrics'!J79)+($D$30*'Parrotfish metrics'!J80)+($E$30*'Parrotfish metrics'!J81)+($F$30*'Parrotfish metrics'!J82)+($G$30*'Parrotfish metrics'!J83)+($H$30*'Parrotfish metrics'!J84)+($I$30*'Parrotfish metrics'!J85)+ ($J$30*'Parrotfish metrics'!J86)+ ($K$30*'Parrotfish metrics'!J87)) -> 0 | H46: =SUM(($C$30*'Parrotfish metrics'!K79)+($D$30*'Parrotfish metrics'!K80)+($E$30*'Parrotfish metrics'!K81)+($F$30*'Parrotfish metrics'!K82)+($G$30*'Parrotfish metrics'!K83)+($H$30*'Parrotfish metrics'!K84)+($I$30*'Parrotfish metrics'!K85)+ ($J$30*'Parrotfish metrics'!K86)+ ($K$30*'Parrotfish metrics'!K87)) -> 0 | I46: =SUM(($C$30*'Parrotfish metrics'!L79)+($D$30*'Parrotfish metrics'!L80)+($E$30*'Parrotfish metrics'!L81)+($F$30*'Parrotfish metrics'!L82)+($G$30*'Parrotfish metrics'!L83)+($H$30*'Parrotfish metrics'!L84)+($I$30*'Parrotfish metrics'!L85)+ ($J$30*'Parrotfish metrics'!L86)+ ($K$30*'Parrotfish metrics'!L87)) -> 0 | ... M46: =SUM(($C$30*'Parrotfish metrics'!P79)+($D$30*'Parrotfish metrics'!P80)+($E$30*'Parrotfish metrics'!P81)+($F$30*'Parrotfish metrics'!P82)+($G$30*'Parrotfish metrics'!P83)+($H$30*'Parrotfish metrics'!P84)+($I$30*'Parrotfish metrics'!P85)+ ($J$30*'Parrotfish metrics'!P86)+ ($K$30*'Parrotfish metrics'!P87)) -> 0
...

Sheet Transect 2
A1: FISH | B1: Enter data into pale blue boxes only | E1: Amounts and size fractions of sediment generated by fish calculated as a function of species/size class abundance * species/size-class-specific erosion rates, and then weighted based on proportions of sediment produced in different sediment size classes by species/genera. Note that juveniles are not anticipated to contribute to bioerosion and therefore are not expected to produce any sediment.
A3: 1. Numbers of individuals/size class
A4: Transect number | B4: 2
A5: Transect area (m2)
A7: 1. DATA ENTRY - Numbers of individuals/size class/transect
B8: Juveniles | C8: Initial Phase | G8: Terminal Phase
A9: Species | B9: 0-9cm | C9: 10-19cm | D9: 20-29cm | E9: 30-39cm | F9: 40-49cm | G9: 10-19cm | H9: 20-29cm | I9: 30-39cm | J9: 40-49cm | K9: 50-59cm
A10: Sparisoma viride
A11: Sparisoma aurofrenatum
A12: Sparisoma rubripinne
A13: Sparisoma chrysopterum
A14: Scarus vetula
A15: Scarus taeniopterus
A16: Scarus iseri
A17: Scarus guacamaia
A18: Scarus coelestinus
A19: Scarus coeruleus
A20: Total | B20: =SUM(B10:B19) -> 0 | C20: =SUM(C10:C19) -> 0 | D20: =SUM(D10:D19) -> 0 | E20: =SUM(E10:E19) -> 0 | F20: =SUM(F10:F19) -> 0 | G20: =SUM(G10:G19) -> 0 | H20: =SUM(H10:H19) -> 0 | I20: =SUM(I10:I19) -> 0 | ... K20: =SUM(K10:K19) -> 0
A23: 2. Sediment production rates (kg m-2 yr-1) by grain size fractions
B24: Juveniles | C24: Initial Phase | G24: Terminal Phase
A25: Species | B25: 0-9cm | C25: 10-19cm | D25: 20-29cm | E25: 30-39cm | F25: 40-49cm | G25: 10-19cm | H25: 20-29cm | I25: 30-39cm | J25: 40-49cm | K25: 50-59cm
A26: Sparisoma viride | B26: =0 -> 0 | C26: =IF(C10>0,(C10*'Parrotfish metrics'!O59)/$B$5, 0) -> 0 | D26: =IF(D10>0,(D10*'Parrotfish metrics'!P59)/$B$5, 0) -> 0 | E26: =IF(E10>0,(E10*'Parrotfish metrics'!Q59)/$B$5, 0) -> 0 | F26: =IF(F10>0,(F10*'Parrotfish metrics'!R59)/$B$5, 0) -> 0 | G26: =IF(G10>0,(G10*'Parrotfish metrics'!S59)/$B$5, 0) -> 0 | H26: =IF(H10>0,(H10*'Parrotfish metrics'!T59)/$B$5, 0) -> 0 | I26: =IF(I10>0,(I10*'Parrotfish metrics'!U59)/$B$5, 0) -> 0 | J26: =IF(J10>0,(J10*'Parrotfish metrics'!V59)/$B$5, 0) -> 0 | K26: =IF(K10>0,(K10*'Parrotfish metrics'!W59)/$B$5, 0) -> 0
A27: Sparisoma aurofrenatum | B27: =0 -> 0 | C27: =IF(C11>0,(C11*'Parrotfish metrics'!O60)/$B$5, 0) -> 0 | D27: =IF(D11>0,(D11*'Parrotfish metrics'!P60)/$B$5, 0) -> 0 | G27: =IF(G11>0,(G11*'Parrotfish metrics'!S60)/$B$5, 0) -> 0 | H27: =IF(H11>0,(H11*'Parrotfish metrics'!T60)/$B$5, 0) -> 0
A28: Sparisoma rubripinne | B28: =0 -> 0 | C28: =IF(C12>0,(C12*'Parrotfish metrics'!O61)/$B$5, 0) -> 0 | D28: =IF(D12>0,(D12*'Parrotfish metrics'!P61)/$B$5, 0) -> 0 | E28: =IF(E12>0,(E12*'Parrotfish metrics'!Q61)/$B$5, 0) -> 0 | F28: =IF(F12>0,(F12*'Parrotfish metrics'!R61)/$B$5, 0) -> 0 | G28: =IF(G12>0,(G12*'Parrotfish metrics'!S61)/$B$5, 0) -> 0 | H28: =IF(H12>0,(H12*'Parrotfish metrics'!T61)/$B$5, 0) -> 0 | I28: =IF(I12>0,(I12*'Parrotfish metrics'!U61)/$B$5, 0) -> 0 | J28: =IF(J12>0,(J12*'Parrotfish metrics'!V61)/$B$5, 0) -> 0
A29: Sparisoma chrysopterum | B29: =0 -> 0 | C29: =IF(C13>0,(C13*'Parrotfish metrics'!O62)/$B$5, 0) -> 0 | D29: =IF(D13>0,(D13*'Parrotfish metrics'!P62)/$B$5, 0) -> 0 | E29: =IF(E13>0,(E13*'Parrotfish metrics'!Q62)/$B$5, 0) -> 0 | F29: =IF(F13>0,(F13*'Parrotfish metrics'!R62)/$B$5, 0) -> 0 | G29: =IF(G13>0,(G13*'Parrotfish metrics'!S62)/$B$5, 0) -> 0 | H29: =IF(H13>0,(H13*'Parrotfish metrics'!T62)/$B$5, 0) -> 0 | I29: =IF(I13>0,(I13*'Parrotfish metrics'!U62)/$B$5, 0) -> 0 | J29: =IF(J13>0,(J13*'Parrotfish metrics'!V62)/$B$5, 0) -> 0
A30: Scarus vetula | B30: =0 -> 0 | C30: =IF(C14>0,(C14*'Parrotfish metrics'!O63)/$B$5, 0) -> 0 | D30: =IF(D14>0,(D14*'Parrotfish metrics'!P63)/$B$5, 0) -> 0 | E30: =IF(E14>0,(E14*'Parrotfish metrics'!Q63)/$B$5, 0) -> 0 | F30: =IF(F14>0,(F14*'Parrotfish metrics'!R63)/$B$5, 0) -> 0 | G30: =IF(G14>0,(G14*'Parrotfish metrics'!S63)/$B$5, 0) -> 0 | H30: =IF(H14>0,(H14*'Parrotfish metrics'!T63)/$B$5, 0) -> 0 | I30: =IF(I14>0,(I14*'Parrotfish metrics'!U63)/$B$5, 0) -> 0 | J30: =IF(J14>0,(J14*'Parrotfish metrics'!V63)/$B$5, 0) -> 0 | K30: =IF(K14>0,(K14*'Parrotfish metrics'!W63)/$B$5, 0) -> 0
A31: Scarus taeniopterus | B31: =0 -> 0 | C31: =IF(C15>0,(C15*'Parrotfish metrics'!O64)/$B$5, 0) -> 0 | D31: =IF(D15>0,(D15*'Parrotfish metrics'!P64)/$B$5, 0) -> 0 | E31: =IF(E15>0,(E15*'Parrotfish metrics'!Q64)/$B$5, 0) -> 0 | G31: =IF(G15>0,(G15*'Parrotfish metrics'!S64)/$B$5, 0) -> 0 | H31: =IF(H15>0,(H15*'Parrotfish metrics'!T64)/$B$5, 0) -> 0 | I31: =IF(I15>0,(I15*'Parrotfish metrics'!U64)/$B$5, 0) -> 0
A32: Scarus iseri | B32: =0 -> 0 | C32: =IF(C16>0,(C16*'Parrotfish metrics'!O65)/$B$5, 0) -> 0 | D32: =IF(D16>0,(D16*'Parrotfish metrics'!P65)/$B$5, 0) -> 0 | E32: =IF(E16>0,(E16*'Parrotfish metrics'!Q65)/$B$5, 0) -> 0 | G32: =IF(G16>0,(G16*'Parrotfish metrics'!S65)/$B$5, 0) -> 0 | H32: =IF(H16>0,(H16*'Parrotfish metrics'!T65)/$B$5, 0) -> 0 | I32: =IF(I16>0,(I16*'Parrotfish metrics'!U65)/$B$5, 0) -> 0
A33: Scarus guacamaia | B33: =0 -> 0 | C33: =IF(C17>0,(C17*'Parrotfish metrics'!O66)/$B$5, 0) -> 0 | D33: =IF(D17>0,(D17*'Parrotfish metrics'!P66)/$B$5, 0) -> 0 | E33: =IF(E17>0,(E17*'Parrotfish metrics'!Q66)/$B$5, 0) -> 0 | F33: =IF(F17>0,(F17*'Parrotfish metrics'!R66)/$B$5, 0) -> 0 | G33: =IF(G17>0,(G17*'Parrotfish metrics'!S66)/$B$5, 0) -> 0 | H33: =IF(H17>0,(H17*'Parrotfish metrics'!T66)/$B$5, 0) -> 0 | I33: =IF(I17>0,(I17*'Parrotfish metrics'!U66)/$B$5, 0) -> 0 | J33: =IF(J17>0,(J17*'Parrotfish metrics'!V66)/$B$5, 0) -> 0 | K33: =IF(K17>0,(K17*'Parrotfish metrics'!W66)/$B$5, 0) -> 0
A34: Scarus coelestinus | B34: =0 -> 0 | C34: =IF(C18>0,(C18*'Parrotfish metrics'!O67)/$B$5, 0) -> 0 | D34: =IF(D18>0,(D18*'Parrotfish metrics'!P67)/$B$5, 0) -> 0 | E34: =IF(E18>0,(E18*'Parrotfish metrics'!Q67)/$B$5, 0) -> 0 | F34: =IF(F18>0,(F18*'Parrotfish metrics'!R67)/$B$5, 0) -> 0 | G34: =IF(G18>0,(G18*'Parrotfish metrics'!S67)/$B$5, 0) -> 0 | H34: =IF(H18>0,(H18*'Parrotfish metrics'!T67)/$B$5, 0) -> 0 | I34: =IF(I18>0,(I18*'Parrotfish metrics'!U67)/$B$5, 0) -> 0 | J34: =IF(J18>0,(J18*'Parrotfish metrics'!V67)/$B$5, 0) -> 0 | K34: =IF(K18>0,(K18*'Parrotfish metrics'!W67)/$B$5, 0) -> 0
A35: Scarus coeruleus | B35: =0 -> 0 | C35: =IF(C19>0,(C19*'Parrotfish metrics'!O68)/$B$5, 0) -> 0 | D35: =IF(D19>0,(D19*'Parrotfish metrics'!P68)/$B$5, 0) -> 0 | E35: =IF(E19>0,(E19*'Parrotfish metrics'!Q68)/$B$5, 0) -> 0 | F35: =IF(F19>0,(F19*'Parrotfish metrics'!R68)/$B$5, 0) -> 0 | G35: =IF(G19>0,(G19*'Parrotfish metrics'!S68)/$B$5, 0) -> 0 | H35: =IF(H19>0,(H19*'Parrotfish metrics'!T68)/$B$5, 0) -> 0 | I35: =IF(I19>0,(I19*'Parrotfish metrics'!U68)/$B$5, 0) -> 0 | J35: =IF(J19>0,(J19*'Parrotfish metrics'!V68)/$B$5, 0) -> 0 | K35: =IF(K19>0,(K19*'Parrotfish metrics'!W68)/$B$5, 0) -> 0
A36: Total | B36: =SUM(B26:B35) -> 0 | C36: =SUM(C26:C35) -> 0 | D36: =SUM(D26:D35) -> 0 | E36: =SUM(E26:E35) -> 0 | F36: =SUM(F26:F35) -> 0 | G36: =SUM(G26:G35) -> 0 | H36: =SUM(H26:H35) -> 0 | I36: =SUM(I26:I35) -> 0 | ... K36: =SUM(K26:K35) -> 0
A39: 3. Sediment production rates (kg/ m2 /yr) for each species by grain size fractions
B40: >4 mm | C40: 2-4 mm | D40: 1-2 mm | E40: 0.5-1 mm | F40: 0.25-0.5 mm | G40: 0.125-0.25 mm | H40: 63 to 125 um | I40: 31-63 um | J40: 16-31 um | K40: 8-16 um | L40: 4-8 um | M40: <4 um
A41: Species | B41: Pebble | C41: Gravel | D41: V coarse sand | E41: Coarse sand | F41: Med sand | G41: Fine sand | H41: V fine sand | I41: Coarse silt | J41: Med silt | K41: Fine silt | L41: V fine silt | M41: Clay
A42: Sparisoma viride | B42: =SUM(($C$26*'Parrotfish metrics'!E90)+($D$26*'Parrotfish metrics'!E91)+($E$26*'Parrotfish metrics'!E92)+($F$26*'Parrotfish metrics'!E93)+($G$26*'Parrotfish metrics'!E94)+($H$26*'Parrotfish metrics'!E95)+($I$26*'Parrotfish metrics'!E96)+ ($J$26*'Parrotfish metrics'!E97)+ ($K$26*'Parrotfish metrics'!E98)) -> 0 | C42: =SUM(($C$26*'Parrotfish metrics'!F90)+($D$26*'Parrotfish metrics'!F91)+($E$26*'Parrotfish metrics'!F92)+($F$26*'Parrotfish metrics'!F93)+($G$26*'Parrotfish metrics'!F94)+($H$26*'Parrotfish metrics'!F95)+($I$26*'Parrotfish metrics'!F96)+ ($J$26*'Parrotfish metrics'!F97)+ ($K$26*'Parrotfish metrics'!F98)) -> 0 | D42: =SUM(($C$26*'Parrotfish metrics'!G90)+($D$26*'Parrotfish metrics'!G91)+($E$26*'Parrotfish metrics'!G92)+($F$26*'Parrotfish metrics'!G93)+($G$26*'Parrotfish metrics'!G94)+($H$26*'Parrotfish metrics'!G95)+($I$26*'Parrotfish metrics'!G96)+ ($J$26*'Parrotfish metrics'!G97)+ ($K$26*'Parrotfish metrics'!G98)) -> 0 | E42: =SUM(($C$26*'Parrotfish metrics'!H90)+($D$26*'Parrotfish metrics'!H91)+($E$26*'Parrotfish metrics'!H92)+($F$26*'Parrotfish metrics'!H93)+($G$26*'Parrotfish metrics'!H94)+($H$26*'Parrotfish metrics'!H95)+($I$26*'Parrotfish metrics'!H96)+ ($J$26*'Parrotfish metrics'!H97)+ ($K$26*'Parrotfish metrics'!H98)) -> 0 | F42: =SUM(($C$26*'Parrotfish metrics'!I90)+($D$26*'Parrotfish metrics'!I91)+($E$26*'Parrotfish metrics'!I92)+($F$26*'Parrotfish metrics'!I93)+($G$26*'Parrotfish metrics'!I94)+($H$26*'Parrotfish metrics'!I95)+($I$26*'Parrotfish metrics'!I96)+ ($J$26*'Parrotfish metrics'!I97)+ ($K$26*'Parrotfish metrics'!I98)) -> 0 | G42: =SUM(($C$26*'Parrotfish metrics'!J90)+($D$26*'Parrotfish metrics'!J91)+($E$26*'Parrotfish metrics'!J92)+($F$26*'Parrotfish metrics'!J93)+($G$26*'Parrotfish metrics'!J94)+($H$26*'Parrotfish metrics'!J95)+($I$26*'Parrotfish metrics'!J96)+ ($J$26*'Parrotfish metrics'!J97)+ ($K$26*'Parrotfish metrics'!J98)) -> 0 | H42: =SUM(($C$26*'Parrotfish metrics'!K90)+($D$26*'Parrotfish metrics'!K91)+($E$26*'Parrotfish metrics'!K92)+($F$26*'Parrotfish metrics'!K93)+($G$26*'Parrotfish metrics'!K94)+($H$26*'Parrotfish metrics'!K95)+($I$26*'Parrotfish metrics'!K96)+ ($J$26*'Parrotfish metrics'!K97)+ ($K$26*'Parrotfish metrics'!K98)) -> 0 | I42: =SUM(($C$26*'Parrotfish metrics'!L90)+($D$26*'Parrotfish metrics'!L91)+($E$26*'Parrotfish metrics'!L92)+($F$26*'Parrotfish metrics'!L93)+($G$26*'Parrotfish metrics'!L94)+($H$26*'Parrotfish metrics'!L95)+($I$26*'Parrotfish metrics'!L96)+ ($J$26*'Parrotfish metrics'!L97)+ ($K$26*'Parrotfish metrics'!L98)) -> 0 | ... M42: =SUM(($C$26*'Parrotfish metrics'!P90)+($D$26*'Parrotfish metrics'!P91)+($E$26*'Parrotfish metrics'!P92)+($F$26*'Parrotfish metrics'!P93)+($G$26*'Parrotfish metrics'!P94)+($H$26*'Parrotfish metrics'!P95)+($I$26*'Parrotfish metrics'!P96)+ ($J$26*'Parrotfish metrics'!P97)+ ($K$26*'Parrotfish metrics'!P98)) -> 0
A43: Sparisoma aurofrenatum | B43: =SUM(($C$27*'Parrotfish metrics'!E79)+($D$27*'Parrotfish metrics'!E80)+($E$27*'Parrotfish metrics'!E81)+($F$27*'Parrotfish metrics'!E82)+($G$27*'Parrotfish metrics'!E83)+($H$27*'Parrotfish metrics'!E84)+($I$27*'Parrotfish metrics'!E85)+ ($J$27*'Parrotfish metrics'!E86)+ ($K$27*'Parrotfish metrics'!E87)) -> 0 | C43: =SUM(($C$27*'Parrotfish metrics'!F79)+($D$27*'Parrotfish metrics'!F80)+($E$27*'Parrotfish metrics'!F81)+($F$27*'Parrotfish metrics'!F82)+($G$27*'Parrotfish metrics'!F83)+($H$27*'Parrotfish metrics'!F84)+($I$27*'Parrotfish metrics'!F85)+ ($J$27*'Parrotfish metrics'!F86)+ ($K$27*'Parrotfish metrics'!F87)) -> 0 | D43: =SUM(($C$27*'Parrotfish metrics'!G79)+($D$27*'Parrotfish metrics'!G80)+($E$27*'Parrotfish metrics'!G81)+($F$27*'Parrotfish metrics'!G82)+($G$27*'Parrotfish metrics'!G83)+($H$27*'Parrotfish metrics'!G84)+($I$27*'Parrotfish metrics'!G85)+ ($J$27*'Parrotfish metrics'!G86)+ ($K$27*'Parrotfish metrics'!G87)) -> 0 | E43: =SUM(($C$27*'Parrotfish metrics'!H79)+($D$27*'Parrotfish metrics'!H80)+($E$27*'Parrotfish metrics'!H81)+($F$27*'Parrotfish metrics'!H82)+($G$27*'Parrotfish metrics'!H83)+($H$27*'Parrotfish metrics'!H84)+($I$27*'Parrotfish metrics'!H85)+ ($J$27*'Parrotfish metrics'!H86)+ ($K$27*'Parrotfish metrics'!H87)) -> 0 | F43: =SUM(($C$27*'Parrotfish metrics'!I79)+($D$27*'Parrotfish metrics'!I80)+($E$27*'Parrotfish metrics'!I81)+($F$27*'Parrotfish metrics'!I82)+($G$27*'Parrotfish metrics'!I83)+($H$27*'Parrotfish metrics'!I84)+($I$27*'Parrotfish metrics'!I85)+ ($J$27*'Parrotfish metrics'!I86)+ ($K$27*'Parrotfish metrics'!I87)) -> 0 | G43: =SUM(($C$27*'Parrotfish metrics'!J79)+($D$27*'Parrotfish metrics'!J80)+($E$27*'Parrotfish metrics'!J81)+($F$27*'Parrotfish metrics'!J82)+($G$27*'Parrotfish metrics'!J83)+($H$27*'Parrotfish metrics'!J84)+($I$27*'Parrotfish metrics'!J85)+ ($J$27*'Parrotfish metrics'!J86)+ ($K$27*'Parrotfish metrics'!J87)) -> 0 | H43: =SUM(($C$27*'Parrotfish metrics'!K79)+($D$27*'Parrotfish metrics'!K80)+($E$27*'Parrotfish metrics'!K81)+($F$27*'Parrotfish metrics'!K82)+($G$27*'Parrotfish metrics'!K83)+($H$27*'Parrotfish metrics'!K84)+($I$27*'Parrotfish metrics'!K85)+ ($J$27*'Parrotfish metrics'!K86)+ ($K$27*'Parrotfish metrics'!K87)) -> 0 | I43: =SUM(($C$27*'Parrotfish metrics'!L79)+($D$27*'Parrotfish metrics'!L80)+($E$27*'Parrotfish metrics'!L81)+($F$27*'Parrotfish metrics'!L82)+($G$27*'Parrotfish metrics'!L83)+($H$27*'Parrotfish metrics'!L84)+($I$27*'Parrotfish metrics'!L85)+ ($J$27*'Parrotfish metrics'!L86)+ ($K$27*'Parrotfish metrics'!L87)) -> 0 | ... M43: =SUM(($C$27*'Parrotfish metrics'!P79)+($D$27*'Parrotfish metrics'!P80)+($E$27*'Parrotfish metrics'!P81)+($F$27*'Parrotfish metrics'!P82)+($G$27*'Parrotfish metrics'!P83)+($H$27*'Parrotfish metrics'!P84)+($I$27*'Parrotfish metrics'!P85)+ ($J$27*'Parrotfish metrics'!P86)+ ($K$27*'Parrotfish metrics'!P87)) -> 0
A44: Sparisoma rubripinne | B44: =SUM(($C$28*'Parrotfish metrics'!E79)+($D$28*'Parrotfish metrics'!E80)+($E$28*'Parrotfish metrics'!E81)+($F$28*'Parrotfish metrics'!E82)+($G$28*'Parrotfish metrics'!E83)+($H$28*'Parrotfish metrics'!E84)+($I$28*'Parrotfish metrics'!E85)+ ($J$28*'Parrotfish metrics'!E86)+ ($K$28*'Parrotfish metrics'!E87)) -> 0 | C44: =SUM(($C$28*'Parrotfish metrics'!F79)+($D$28*'Parrotfish metrics'!F80)+($E$28*'Parrotfish metrics'!F81)+($F$28*'Parrotfish metrics'!F82)+($G$28*'Parrotfish metrics'!F83)+($H$28*'Parrotfish metrics'!F84)+($I$28*'Parrotfish metrics'!F85)+ ($J$28*'Parrotfish metrics'!F86)+ ($K$28*'Parrotfish metrics'!F87)) -> 0 | D44: =SUM(($C$28*'Parrotfish metrics'!G79)+($D$28*'Parrotfish metrics'!G80)+($E$28*'Parrotfish metrics'!G81)+($F$28*'Parrotfish metrics'!G82)+($G$28*'Parrotfish metrics'!G83)+($H$28*'Parrotfish metrics'!G84)+($I$28*'Parrotfish metrics'!G85)+ ($J$28*'Parrotfish metrics'!G86)+ ($K$28*'Parrotfish metrics'!G87)) -> 0 | E44: =SUM(($C$28*'Parrotfish metrics'!H79)+($D$28*'Parrotfish metrics'!H80)+($E$28*'Parrotfish metrics'!H81)+($F$28*'Parrotfish metrics'!H82)+($G$28*'Parrotfish metrics'!H83)+($H$28*'Parrotfish metrics'!H84)+($I$28*'Parrotfish metrics'!H85)+ ($J$28*'Parrotfish metrics'!H86)+ ($K$28*'Parrotfish metrics'!H87)) -> 0 | F44: =SUM(($C$28*'Parrotfish metrics'!I79)+($D$28*'Parrotfish metrics'!I80)+($E$28*'Parrotfish metrics'!I81)+($F$28*'Parrotfish metrics'!I82)+($G$28*'Parrotfish metrics'!I83)+($H$28*'Parrotfish metrics'!I84)+($I$28*'Parrotfish metrics'!I85)+ ($J$28*'Parrotfish metrics'!I86)+ ($K$28*'Parrotfish metrics'!I87)) -> 0 | G44: =SUM(($C$28*'Parrotfish metrics'!J79)+($D$28*'Parrotfish metrics'!J80)+($E$28*'Parrotfish metrics'!J81)+($F$28*'Parrotfish metrics'!J82)+($G$28*'Parrotfish metrics'!J83)+($H$28*'Parrotfish metrics'!J84)+($I$28*'Parrotfish metrics'!J85)+ ($J$28*'Parrotfish metrics'!J86)+ ($K$28*'Parrotfish metrics'!J87)) -> 0 | H44: =SUM(($C$28*'Parrotfish metrics'!K79)+($D$28*'Parrotfish metrics'!K80)+($E$28*'Parrotfish metrics'!K81)+($F$28*'Parrotfish metrics'!K82)+($G$28*'Parrotfish metrics'!K83)+($H$28*'Parrotfish metrics'!K84)+($I$28*'Parrotfish metrics'!K85)+ ($J$28*'Parrotfish metrics'!K86)+ ($K$28*'Parrotfish metrics'!K87)) -> 0 | I44: =SUM(($C$28*'Parrotfish metrics'!L79)+($D$28*'Parrotfish metrics'!L80)+($E$28*'Parrotfish metrics'!L81)+($F$28*'Parrotfish metrics'!L82)+($G$28*'Parrotfish metrics'!L83)+($H$28*'Parrotfish metrics'!L84)+($I$28*'Parrotfish metrics'!L85)+ ($J$28*'Parrotfish metrics'!L86)+ ($K$28*'Parrotfish metrics'!L87)) -> 0 | ... M44: =SUM(($C$28*'Parrotfish metrics'!P79)+($D$28*'Parrotfish metrics'!P80)+($E$28*'Parrotfish metrics'!P81)+($F$28*'Parrotfish metrics'!P82)+($G$28*'Parrotfish metrics'!P83)+($H$28*'Parrotfish metrics'!P84)+($I$28*'Parrotfish metrics'!P85)+ ($J$28*'Parrotfish metrics'!P86)+ ($K$28*'Parrotfish metrics'!P87)) -> 0
A45: Sparisoma chrysopterum | B45: =SUM(($C$29*'Parrotfish metrics'!E79)+($D$29*'Parrotfish metrics'!E80)+($E$29*'Parrotfish metrics'!E81)+($F$29*'Parrotfish metrics'!E82)+($G$29*'Parrotfish metrics'!E83)+($H$29*'Parrotfish metrics'!E84)+($I$29*'Parrotfish metrics'!E85)+ ($J$29*'Parrotfish metrics'!E86)+ ($K$29*'Parrotfish metrics'!E87)) -> 0 | C45: =SUM(($C$29*'Parrotfish metrics'!F79)+($D$29*'Parrotfish metrics'!F80)+($E$29*'Parrotfish metrics'!F81)+($F$29*'Parrotfish metrics'!F82)+($G$29*'Parrotfish metrics'!F83)+($H$29*'Parrotfish metrics'!F84)+($I$29*'Parrotfish metrics'!F85)+ ($J$29*'Parrotfish metrics'!F86)+ ($K$29*'Parrotfish metrics'!F87)) -> 0 | D45: =SUM(($C$29*'Parrotfish metrics'!G79)+($D$29*'Parrotfish metrics'!G80)+($E$29*'Parrotfish metrics'!G81)+($F$29*'Parrotfish metrics'!G82)+($G$29*'Parrotfish metrics'!G83)+($H$29*'Parrotfish metrics'!G84)+($I$29*'Parrotfish metrics'!G85)+ ($J$29*'Parrotfish metrics'!G86)+ ($K$29*'Parrotfish metrics'!G87)) -> 0 | E45: =SUM(($C$29*'Parrotfish metrics'!H79)+($D$29*'Parrotfish metrics'!H80)+($E$29*'Parrotfish metrics'!H81)+($F$29*'Parrotfish metrics'!H82)+($G$29*'Parrotfish metrics'!H83)+($H$29*'Parrotfish metrics'!H84)+($I$29*'Parrotfish metrics'!H85)+ ($J$29*'Parrotfish metrics'!H86)+ ($K$29*'Parrotfish metrics'!H87)) -> 0 | F45: =SUM(($C$29*'Parrotfish metrics'!I79)+($D$29*'Parrotfish metrics'!I80)+($E$29*'Parrotfish metrics'!I81)+($F$29*'Parrotfish metrics'!I82)+($G$29*'Parrotfish metrics'!I83)+($H$29*'Parrotfish metrics'!I84)+($I$29*'Parrotfish metrics'!I85)+ ($J$29*'Parrotfish metrics'!I86)+ ($K$29*'Parrotfish metrics'!I87)) -> 0 | G45: =SUM(($C$29*'Parrotfish metrics'!J79)+($D$29*'Parrotfish metrics'!J80)+($E$29*'Parrotfish metrics'!J81)+($F$29*'Parrotfish metrics'!J82)+($G$29*'Parrotfish metrics'!J83)+($H$29*'Parrotfish metrics'!J84)+($I$29*'Parrotfish metrics'!J85)+ ($J$29*'Parrotfish metrics'!J86)+ ($K$29*'Parrotfish metrics'!J87)) -> 0 | H45: =SUM(($C$29*'Parrotfish metrics'!K79)+($D$29*'Parrotfish metrics'!K80)+($E$29*'Parrotfish metrics'!K81)+($F$29*'Parrotfish metrics'!K82)+($G$29*'Parrotfish metrics'!K83)+($H$29*'Parrotfish metrics'!K84)+($I$29*'Parrotfish metrics'!K85)+ ($J$29*'Parrotfish metrics'!K86)+ ($K$29*'Parrotfish metrics'!K87)) -> 0 | I45: =SUM(($C$29*'Parrotfish metrics'!L79)+($D$29*'Parrotfish metrics'!L80)+($E$29*'Parrotfish metrics'!L81)+($F$29*'Parrotfish metrics'!L82)+($G$29*'Parrotfish metrics'!L83)+($H$29*'Parrotfish metrics'!L84)+($I$29*'Parrotfish metrics'!L85)+ ($J$29*'Parrotfish metrics'!L86)+ ($K$29*'Parrotfish metrics'!L87)) -> 0 | ... M45: =SUM(($C$29*'Parrotfish metrics'!P79)+($D$29*'Parrotfish metrics'!P80)+($E$29*'Parrotfish metrics'!P81)+($F$29*'Parrotfish metrics'!P82)+($G$29*'Parrotfish metrics'!P83)+($H$29*'Parrotfish metrics'!P84)+($I$29*'Parrotfish metrics'!P85)+ ($J$29*'Parrotfish metrics'!P86)+ ($K$29*'Parrotfish metrics'!P87)) -> 0
A46: Scarus vetula | B46: =SUM(($C$30*'Parrotfish metrics'!E79)+($D$30*'Parrotfish metrics'!E80)+($E$30*'Parrotfish metrics'!E81)+($F$30*'Parrotfish metrics'!E82)+($G$30*'Parrotfish metrics'!E83)+($H$30*'Parrotfish metrics'!E84)+($I$30*'Parrotfish metrics'!E85)+ ($J$30*'Parrotfish metrics'!E86)+ ($K$30*'Parrotfish metrics'!E87)) -> 0 | C46: =SUM(($C$30*'Parrotfish metrics'!F79)+($D$30*'Parrotfish metrics'!F80)+($E$30*'Parrotfish metrics'!F81)+($F$30*'Parrotfish metrics'!F82)+($G$30*'Parrotfish metrics'!F83)+($H$30*'Parrotfish metrics'!F84)+($I$30*'Parrotfish metrics'!F85)+ ($J$30*'Parrotfish metrics'!F86)+ ($K$30*'Parrotfish metrics'!F87)) -> 0 | D46: =SUM(($C$30*'Parrotfish metrics'!G79)+($D$30*'Parrotfish metrics'!G80)+($E$30*'Parrotfish metrics'!G81)+($F$30*'Parrotfish metrics'!G82)+($G$30*'Parrotfish metrics'!G83)+($H$30*'Parrotfish metrics'!G84)+($I$30*'Parrotfish metrics'!G85)+ ($J$30*'Parrotfish metrics'!G86)+ ($K$30*'Parrotfish metrics'!G87)) -> 0 | E46: =SUM(($C$30*'Parrotfish metrics'!H79)+($D$30*'Parrotfish metrics'!H80)+($E$30*'Parrotfish metrics'!H81)+($F$30*'Parrotfish metrics'!H82)+($G$30*'Parrotfish metrics'!H83)+($H$30*'Parrotfish metrics'!H84)+($I$30*'Parrotfish metrics'!H85)+ ($J$30*'Parrotfish metrics'!H86)+ ($K$30*'Parrotfish metrics'!H87)) -> 0 | F46: =SUM(($C$30*'Parrotfish metrics'!I79)+($D$30*'Parrotfish metrics'!I80)+($E$30*'Parrotfish metrics'!I81)+($F$30*'Parrotfish metrics'!I82)+($G$30*'Parrotfish metrics'!I83)+($H$30*'Parrotfish metrics'!I84)+($I$30*'Parrotfish metrics'!I85)+ ($J$30*'Parrotfish metrics'!I86)+ ($K$30*'Parrotfish metrics'!I87)) -> 0 | G46: =SUM(($C$30*'Parrotfish metrics'!J79)+($D$30*'Parrotfish metrics'!J80)+($E$30*'Parrotfish metrics'!J81)+($F$30*'Parrotfish metrics'!J82)+($G$30*'Parrotfish metrics'!J83)+($H$30*'Parrotfish metrics'!J84)+($I$30*'Parrotfish metrics'!J85)+ ($J$30*'Parrotfish metrics'!J86)+ ($K$30*'Parrotfish metrics'!J87)) -> 0 | H46: =SUM(($C$30*'Parrotfish metrics'!K79)+($D$30*'Parrotfish metrics'!K80)+($E$30*'Parrotfish metrics'!K81)+($F$30*'Parrotfish metrics'!K82)+($G$30*'Parrotfish metrics'!K83)+($H$30*'Parrotfish metrics'!K84)+($I$30*'Parrotfish metrics'!K85)+ ($J$30*'Parrotfish metrics'!K86)+ ($K$30*'Parrotfish metrics'!K87)) -> 0 | I46: =SUM(($C$30*'Parrotfish metrics'!L79)+($D$30*'Parrotfish metrics'!L80)+($E$30*'Parrotfish metrics'!L81)+($F$30*'Parrotfish metrics'!L82)+($G$30*'Parrotfish metrics'!L83)+($H$30*'Parrotfish metrics'!L84)+($I$30*'Parrotfish metrics'!L85)+ ($J$30*'Parrotfish metrics'!L86)+ ($K$30*'Parrotfish metrics'!L87)) -> 0 | ... M46: =SUM(($C$30*'Parrotfish metrics'!P79)+($D$30*'Parrotfish metrics'!P80)+($E$30*'Parrotfish metrics'!P81)+($F$30*'Parrotfish metrics'!P82)+($G$30*'Parrotfish metrics'!P83)+($H$30*'Parrotfish metrics'!P84)+($I$30*'Parrotfish metrics'!P85)+ ($J$30*'Parrotfish metrics'!P86)+ ($K$30*'Parrotfish metrics'!P87)) -> 0
...

Sheet Transect 3
A1: FISH | B1: Enter data into pale blue boxes only | E1: Amounts and size fractions of sediment generated by fish calculated as a function of species/size class abundance * species/size-class-specific erosion rates, and then weighted based on proportions of sediment produced in different sediment size classes by species/genera. Note that juveniles are not anticipated to contribute to bioerosion and therefore are not expected to produce any sediment.
A3: 1. Numbers of individuals/size class
A4: Transect number | B4: 3
A5: Transect area (m2)
A7: 1. DATA ENTRY - Numbers of individuals/size class/transect
B8: Juveniles | C8: Initial Phase | G8: Terminal Phase
A9: Species | B9: 0-9cm | C9: 10-19cm | D9: 20-29cm | E9: 30-39cm | F9: 40-49cm | G9: 10-19cm | H9: 20-29cm | I9: 30-39cm | J9: 40-49cm | K9: 50-59cm
A10: Sparisoma viride
A11: Sparisoma aurofrenatum
A12: Sparisoma rubripinne
A13: Sparisoma chrysopterum
A14: Scarus vetula
A15: Scarus taeniopterus
A16: Scarus iseri
A17: Scarus guacamaia
A18: Scarus coelestinus
A19: Scarus coeruleus
A20: Total | B20: =SUM(B10:B19) -> 0 | C20: =SUM(C10:C19) -> 0 | D20: =SUM(D10:D19) -> 0 | E20: =SUM(E10:E19) -> 0 | F20: =SUM(F10:F19) -> 0 | G20: =SUM(G10:G19) -> 0 | H20: =SUM(H10:H19) -> 0 | I20: =SUM(I10:I19) -> 0 | ... K20: =SUM(K10:K19) -> 0
A23: 2. Sediment production rates (kg m-2 yr-1) by grain size fractions
B24: Juveniles | C24: Initial Phase | G24: Terminal Phase
A25: Species | B25: 0-9cm | C25: 10-19cm | D25: 20-29cm | E25: 30-39cm | F25: 40-49cm | G25: 10-19cm | H25: 20-29cm | I25: 30-39cm | J25: 40-49cm | K25: 50-59cm
A26: Sparisoma viride | B26: =0 -> 0 | C26: =IF(C10>0,(C10*'Parrotfish metrics'!O59)/$B$5, 0) -> 0 | D26: =IF(D10>0,(D10*'Parrotfish metrics'!P59)/$B$5, 0) -> 0 | E26: =IF(E10>0,(E10*'Parrotfish metrics'!Q59)/$B$5, 0) -> 0 | F26: =IF(F10>0,(F10*'Parrotfish metrics'!R59)/$B$5, 0) -> 0 | G26: =IF(G10>0,(G10*'Parrotfish metrics'!S59)/$B$5, 0) -> 0 | H26: =IF(H10>0,(H10*'Parrotfish metrics'!T59)/$B$5, 0) -> 0 | I26: =IF(I10>0,(I10*'Parrotfish metrics'!U59)/$B$5, 0) -> 0 | J26: =IF(J10>0,(J10*'Parrotfish metrics'!V59)/$B$5, 0) -> 0 | K26: =IF(K10>0,(K10*'Parrotfish metrics'!W59)/$B$5, 0) -> 0
A27: Sparisoma aurofrenatum | B27: =0 -> 0 | C27: =IF(C11>0,(C11*'Parrotfish metrics'!O60)/$B$5, 0) -> 0 | D27: =IF(D11>0,(D11*'Parrotfish metrics'!P60)/$B$5, 0) -> 0 | G27: =IF(G11>0,(G11*'Parrotfish metrics'!S60)/$B$5, 0) -> 0 | H27: =IF(H11>0,(H11*'Parrotfish metrics'!T60)/$B$5, 0) -> 0
A28: Sparisoma rubripinne | B28: =0 -> 0 | C28: =IF(C12>0,(C12*'Parrotfish metrics'!O61)/$B$5, 0) -> 0 | D28: =IF(D12>0,(D12*'Parrotfish metrics'!P61)/$B$5, 0) -> 0 | E28: =IF(E12>0,(E12*'Parrotfish metrics'!Q61)/$B$5, 0) -> 0 | F28: =IF(F12>0,(F12*'Parrotfish metrics'!R61)/$B$5, 0) -> 0 | G28: =IF(G12>0,(G12*'Parrotfish metrics'!S61)/$B$5, 0) -> 0 | H28: =IF(H12>0,(H12*'Parrotfish metrics'!T61)/$B$5, 0) -> 0 | I28: =IF(I12>0,(I12*'Parrotfish metrics'!U61)/$B$5, 0) -> 0 | J28: =IF(J12>0,(J12*'Parrotfish metrics'!V61)/$B$5, 0) -> 0
A29: Sparisoma chrysopterum | B29: =0 -> 0 | C29: =IF(C13>0,(C13*'Parrotfish metrics'!O62)/$B$5, 0) -> 0 | D29: =IF(D13>0,(D13*'Parrotfish metrics'!P62)/$B$5, 0) -> 0 | E29: =IF(E13>0,(E13*'Parrotfish metrics'!Q62)/$B$5, 0) -> 0 | F29: =IF(F13>0,(F13*'Parrotfish metrics'!R62)/$B$5, 0) -> 0 | G29: =IF(G13>0,(G13*'Parrotfish metrics'!S62)/$B$5, 0) -> 0 | H29: =IF(H13>0,(H13*'Parrotfish metrics'!T62)/$B$5, 0) -> 0 | I29: =IF(I13>0,(I13*'Parrotfish metrics'!U62)/$B$5, 0) -> 0 | J29: =IF(J13>0,(J13*'Parrotfish metrics'!V62)/$B$5, 0) -> 0
A30: Scarus vetula | B30: =0 -> 0 | C30: =IF(C14>0,(C14*'Parrotfish metrics'!O63)/$B$5, 0) -> 0 | D30: =IF(D14>0,(D14*'Parrotfish metrics'!P63)/$B$5, 0) -> 0 | E30: =IF(E14>0,(E14*'Parrotfish metrics'!Q63)/$B$5, 0) -> 0 | F30: =IF(F14>0,(F14*'Parrotfish metrics'!R63)/$B$5, 0) -> 0 | G30: =IF(G14>0,(G14*'Parrotfish metrics'!S63)/$B$5, 0) -> 0 | H30: =IF(H14>0,(H14*'Parrotfish metrics'!T63)/$B$5, 0) -> 0 | I30: =IF(I14>0,(I14*'Parrotfish metrics'!U63)/$B$5, 0) -> 0 | J30: =IF(J14>0,(J14*'Parrotfish metrics'!V63)/$B$5, 0) -> 0 | K30: =IF(K14>0,(K14*'Parrotfish metrics'!W63)/$B$5, 0) -> 0
A31: Scarus taeniopterus | B31: =0 -> 0 | C31: =IF(C15>0,(C15*'Parrotfish metrics'!O64)/$B$5, 0) -> 0 | D31: =IF(D15>0,(D15*'Parrotfish metrics'!P64)/$B$5, 0) -> 0 | E31: =IF(E15>0,(E15*'Parrotfish metrics'!Q64)/$B$5, 0) -> 0 | G31: =IF(G15>0,(G15*'Parrotfish metrics'!S64)/$B$5, 0) -> 0 | H31: =IF(H15>0,(H15*'Parrotfish metrics'!T64)/$B$5, 0) -> 0 | I31: =IF(I15>0,(I15*'Parrotfish metrics'!U64)/$B$5, 0) -> 0
A32: Scarus iseri | B32: =0 -> 0 | C32: =IF(C16>0,(C16*'Parrotfish metrics'!O65)/$B$5, 0) -> 0 | D32: =IF(D16>0,(D16*'Parrotfish metrics'!P65)/$B$5, 0) -> 0 | E32: =IF(E16>0,(E16*'Parrotfish metrics'!Q65)/$B$5, 0) -> 0 | G32: =IF(G16>0,(G16*'Parrotfish metrics'!S65)/$B$5, 0) -> 0 | H32: =IF(H16>0,(H16*'Parrotfish metrics'!T65)/$B$5, 0) -> 0 | I32: =IF(I16>0,(I16*'Parrotfish metrics'!U65)/$B$5, 0) -> 0
A33: Scarus guacamaia | B33: =0 -> 0 | C33: =IF(C17>0,(C17*'Parrotfish metrics'!O66)/$B$5, 0) -> 0 | D33: =IF(D17>0,(D17*'Parrotfish metrics'!P66)/$B$5, 0) -> 0 | E33: =IF(E17>0,(E17*'Parrotfish metrics'!Q66)/$B$5, 0) -> 0 | F33: =IF(F17>0,(F17*'Parrotfish metrics'!R66)/$B$5, 0) -> 0 | G33: =IF(G17>0,(G17*'Parrotfish metrics'!S66)/$B$5, 0) -> 0 | H33: =IF(H17>0,(H17*'Parrotfish metrics'!T66)/$B$5, 0) -> 0 | I33: =IF(I17>0,(I17*'Parrotfish metrics'!U66)/$B$5, 0) -> 0 | J33: =IF(J17>0,(J17*'Parrotfish metrics'!V66)/$B$5, 0) -> 0 | K33: =IF(K17>0,(K17*'Parrotfish metrics'!W66)/$B$5, 0) -> 0
A34: Scarus coelestinus | B34: =0 -> 0 | C34: =IF(C18>0,(C18*'Parrotfish metrics'!O67)/$B$5, 0) -> 0 | D34: =IF(D18>0,(D18*'Parrotfish metrics'!P67)/$B$5, 0) -> 0 | E34: =IF(E18>0,(E18*'Parrotfish metrics'!Q67)/$B$5, 0) -> 0 | F34: =IF(F18>0,(F18*'Parrotfish metrics'!R67)/$B$5, 0) -> 0 | G34: =IF(G18>0,(G18*'Parrotfish metrics'!S67)/$B$5, 0) -> 0 | H34: =IF(H18>0,(H18*'Parrotfish metrics'!T67)/$B$5, 0) -> 0 | I34: =IF(I18>0,(I18*'Parrotfish metrics'!U67)/$B$5, 0) -> 0 | J34: =IF(J18>0,(J18*'Parrotfish metrics'!V67)/$B$5, 0) -> 0 | K34: =IF(K18>0,(K18*'Parrotfish metrics'!W67)/$B$5, 0) -> 0
A35: Scarus coeruleus | B35: =0 -> 0 | C35: =IF(C19>0,(C19*'Parrotfish metrics'!O68)/$B$5, 0) -> 0 | D35: =IF(D19>0,(D19*'Parrotfish metrics'!P68)/$B$5, 0) -> 0 | E35: =IF(E19>0,(E19*'Parrotfish metrics'!Q68)/$B$5, 0) -> 0 | F35: =IF(F19>0,(F19*'Parrotfish metrics'!R68)/$B$5, 0) -> 0 | G35: =IF(G19>0,(G19*'Parrotfish metrics'!S68)/$B$5, 0) -> 0 | H35: =IF(H19>0,(H19*'Parrotfish metrics'!T68)/$B$5, 0) -> 0 | I35: =IF(I19>0,(I19*'Parrotfish metrics'!U68)/$B$5, 0) -> 0 | J35: =IF(J19>0,(J19*'Parrotfish metrics'!V68)/$B$5, 0) -> 0 | K35: =IF(K19>0,(K19*'Parrotfish metrics'!W68)/$B$5, 0) -> 0
A36: Total | B36: =SUM(B26:B35) -> 0 | C36: =SUM(C26:C35) -> 0 | D36: =SUM(D26:D35) -> 0 | E36: =SUM(E26:E35) -> 0 | F36: =SUM(F26:F35) -> 0 | G36: =SUM(G26:G35) -> 0 | H36: =SUM(H26:H35) -> 0 | I36: =SUM(I26:I35) -> 0 | ... K36: =SUM(K26:K35) -> 0
A39: 3. Sediment production rates (kg/ m2 /yr) for each species by grain size fractions
B40: >4 mm | C40: 2-4 mm | D40: 1-2 mm | E40: 0.5-1 mm | F40: 0.25-0.5 mm | G40: 0.125-0.25 mm | H40: 63 to 125 um | I40: 31-63 um | J40: 16-31 um | K40: 8-16 um | L40: 4-8 um | M40: <4 um
A41: Species | B41: Pebble | C41: Gravel | D41: V coarse sand | E41: Coarse sand | F41: Med sand | G41: Fine sand | H41: V fine sand | I41: Coarse silt | J41: Med silt | K41: Fine silt | L41: V fine silt | M41: Clay
A42: Sparisoma viride | B42: =SUM(($C$26*'Parrotfish metrics'!E90)+($D$26*'Parrotfish metrics'!E91)+($E$26*'Parrotfish metrics'!E92)+($F$26*'Parrotfish metrics'!E93)+($G$26*'Parrotfish metrics'!E94)+($H$26*'Parrotfish metrics'!E95)+($I$26*'Parrotfish metrics'!E96)+ ($J$26*'Parrotfish metrics'!E97)+ ($K$26*'Parrotfish metrics'!E98)) -> 0 | C42: =SUM(($C$26*'Parrotfish metrics'!F90)+($D$26*'Parrotfish metrics'!F91)+($E$26*'Parrotfish metrics'!F92)+($F$26*'Parrotfish metrics'!F93)+($G$26*'Parrotfish metrics'!F94)+($H$26*'Parrotfish metrics'!F95)+($I$26*'Parrotfish metrics'!F96)+ ($J$26*'Parrotfish metrics'!F97)+ ($K$26*'Parrotfish metrics'!F98)) -> 0 | D42: =SUM(($C$26*'Parrotfish metrics'!G90)+($D$26*'Parrotfish metrics'!G91)+($E$26*'Parrotfish metrics'!G92)+($F$26*'Parrotfish metrics'!G93)+($G$26*'Parrotfish metrics'!G94)+($H$26*'Parrotfish metrics'!G95)+($I$26*'Parrotfish metrics'!G96)+ ($J$26*'Parrotfish metrics'!G97)+ ($K$26*'Parrotfish metrics'!G98)) -> 0 | E42: =SUM(($C$26*'Parrotfish metrics'!H90)+($D$26*'Parrotfish metrics'!H91)+($E$26*'Parrotfish metrics'!H92)+($F$26*'Parrotfish metrics'!H93)+($G$26*'Parrotfish metrics'!H94)+($H$26*'Parrotfish metrics'!H95)+($I$26*'Parrotfish metrics'!H96)+ ($J$26*'Parrotfish metrics'!H97)+ ($K$26*'Parrotfish metrics'!H98)) -> 0 | F42: =SUM(($C$26*'Parrotfish metrics'!I90)+($D$26*'Parrotfish metrics'!I91)+($E$26*'Parrotfish metrics'!I92)+($F$26*'Parrotfish metrics'!I93)+($G$26*'Parrotfish metrics'!I94)+($H$26*'Parrotfish metrics'!I95)+($I$26*'Parrotfish metrics'!I96)+ ($J$26*'Parrotfish metrics'!I97)+ ($K$26*'Parrotfish metrics'!I98)) -> 0 | G42: =SUM(($C$26*'Parrotfish metrics'!J90)+($D$26*'Parrotfish metrics'!J91)+($E$26*'Parrotfish metrics'!J92)+($F$26*'Parrotfish metrics'!J93)+($G$26*'Parrotfish metrics'!J94)+($H$26*'Parrotfish metrics'!J95)+($I$26*'Parrotfish metrics'!J96)+ ($J$26*'Parrotfish metrics'!J97)+ ($K$26*'Parrotfish metrics'!J98)) -> 0 | H42: =SUM(($C$26*'Parrotfish metrics'!K90)+($D$26*'Parrotfish metrics'!K91)+($E$26*'Parrotfish metrics'!K92)+($F$26*'Parrotfish metrics'!K93)+($G$26*'Parrotfish metrics'!K94)+($H$26*'Parrotfish metrics'!K95)+($I$26*'Parrotfish metrics'!K96)+ ($J$26*'Parrotfish metrics'!K97)+ ($K$26*'Parrotfish metrics'!K98)) -> 0 | I42: =SUM(($C$26*'Parrotfish metrics'!L90)+($D$26*'Parrotfish metrics'!L91)+($E$26*'Parrotfish metrics'!L92)+($F$26*'Parrotfish metrics'!L93)+($G$26*'Parrotfish metrics'!L94)+($H$26*'Parrotfish metrics'!L95)+($I$26*'Parrotfish metrics'!L96)+ ($J$26*'Parrotfish metrics'!L97)+ ($K$26*'Parrotfish metrics'!L98)) -> 0 | ... M42: =SUM(($C$26*'Parrotfish metrics'!P90)+($D$26*'Parrotfish metrics'!P91)+($E$26*'Parrotfish metrics'!P92)+($F$26*'Parrotfish metrics'!P93)+($G$26*'Parrotfish metrics'!P94)+($H$26*'Parrotfish metrics'!P95)+($I$26*'Parrotfish metrics'!P96)+ ($J$26*'Parrotfish metrics'!P97)+ ($K$26*'Parrotfish metrics'!P98)) -> 0
